{"text_format":"3","workbook":"xlsx","n_sheets":4,"sheets":["listbox","database","calc","Dashboard"],"not_rendered":{"charts":16,"images":13,"macros":1,"defined_names":2},"read":"whole","date_system":"1900"}

{"sheet":"listbox","index":0,"n_rows":75,"n_cols":10,"rows_kept":75}
["سال","cell link","ماه","cell link","نوع قرارداد","محل خدمت","واحد عملیاتی","واحد شغلی","سمت شغلی","مرکز هزینه"]
[1401,1,"فروردین",1,"قراردادی","بندرعباس","واحد اداری و تشکیلاتی","واحد مدیریت","مدیرعامل","حراست (کارخانه)"]
[1402,{"$f":"INDEX(A2:A13,B2)","v":1401},"اردیبهشت",{"$f":"INDEX(C2:C13,D2)","v":"فروردین"},"روزمزدی","تهران","واحد پشتیبانی","واحد مالی","قائم مقام مدیرعامل","آشپزخانه (کارخانه)"]
[1403,null,"خرداد",null,"پیمانکاری",null,"واحد عملیاتی","واحد اداری","رئیس هیئت مدیره","مهمانسرای شهر بندرعباس (کارخانه)"]
[1404,null,"تیر",{"$nulls":4},"واحد حمل و نقل","نائب رئیس هیئت مدیره","مهمانسرای مدیریت کارخانه بندرعباس (کارخانه)"]
[1405,null,"مرداد",{"$nulls":4},"واحد تولید","عضو هیئت مدیره","تدارکات (کارخانه)"]
[1406,null,"شهریور",{"$nulls":4},"واحد حراست","مدیر پروژه","انبار (کارخانه)"]
[1407,null,"مهر",{"$nulls":4},"واحد انبار","مدیریت کارخانه","تاسیسات (کارخانه)"]
[1408,null,"آبان",{"$nulls":4},"واحد آشپزخانه و رستوران","معاونت کارخانه","مهمانسرای کارگری کارخانه (کارخانه)"]
[1409,null,"آذر",{"$nulls":4},"واحد تاسیسات","انجام امور محوله از سوی کارفرما","فنی تولید (کارخانه)"]
[1410,null,"دی",{"$nulls":4},"واحد تعمیر و نگهداری PM","کمک حسابدار","تعمیر و نگهداری(کارخانه)"]
[1411,null,"بهمن",{"$nulls":4},"واحد بازرگانی","حسابدار حقوق و دستمزد","QC و کنترل کیفیت(کارخانه)"]
[1412,null,"اسفند",{"$nulls":4},"واحد تدارکات","حسابدار فروش","خدمات عمومی تولید (کارخانه)"]
[{"$nulls":7},"واحد فنی و مهندسی و برنامه ریزی","حسابدار خرید","حمل مواد اولیه (کارخانه)"]
[{"$nulls":7},"واحد کنترل کیفیت QC","حسابدار اموال","حمل محصولات و سایر(کارخانه)"]
[{"$nulls":7},"واحد نصب","حسابدار انبار","قالب سازی(کارخانه)"]
[{"$nulls":8},"حسابدار خزانه","بتن سازی(کارخانه)"]
[{"$nulls":8},"حسابدار مالی","بتن ریزی(کارخانه)"]
[{"$nulls":8},"حسابدار ارشد","آرماتور، میلگرد (کارخانه)"]
[{"$nulls":8},"مسئول حسابداری","کیورینگ(کارخانه)"]
[{"$nulls":8},"سرپرست حسابداری","مدیریت(کارخانه)"]
[{"$nulls":8},"مدیر امور مالی","اداری(کارخانه)"]
[{"$nulls":8},"مشاور قانون کار و بیمه","مالی (کارخانه)"]
[{"$nulls":8},"مشاور مالی و مالیاتی","آشپزخانه(دفتر مرکزی)"]
[{"$nulls":8},"حسابدار مدیریت","تدارکات(دفتر مرکزی)"]
[{"$nulls":8},"منشی","بازرگانی(دفتر مرکزی)"]
[{"$nulls":8},"مسئول اداری","فنی(دفتر مرکزی)"]
[{"$nulls":8},"مسئول دفتر","مدیریت عامل(دفتر مرکزی)"]
[{"$nulls":8},"کارمند اداری","هیئت مدیره(دفترمرکزی)"]
[{"$nulls":8},"کارپرداز","مالی (دفتر مرکزی)"]
[{"$nulls":8},"مسئول روابط عمومی","اداری (دفتر مرکزی)"]
[{"$nulls":8},"مسئول IT","توزیع و فروش"]
[{"$nulls":8},"راننده تریلی"]
[{"$nulls":8},"راننده لودر"]
[{"$nulls":8},"راننده جرثقیل"]
[{"$nulls":8},"راننده لیفتراک"]
[{"$nulls":8},"راننده تراکتور"]
[{"$nulls":8},"راننده آکتروس"]
[{"$nulls":8},"راننده دانگ فنگ"]
[{"$nulls":8},"کارگر تولید"]
[{"$nulls":8},"آرماتوربند"]
[{"$nulls":8},"مسئول تولید"]
[{"$nulls":8},"اپراتور بچینگ"]
[{"$nulls":8},"راننده کمک میکسر"]
[{"$nulls":8},"راننده میکسر"]
[{"$nulls":8},"اپراتور تاورکرین"]
[{"$nulls":8},"نگهبان"]
[{"$nulls":8},"سرپرست نگهبان"]
[{"$nulls":8},"کمک انباردار"]
[{"$nulls":8},"کارگر انبار"]
[{"$nulls":8},"سرپرست انبار"]
[{"$nulls":8},"مدیر انبار"]
[{"$nulls":8},"آشپز"]
[{"$nulls":8},"سر آشپز"]
[{"$nulls":8},"مسئول تاسیسات"]
[{"$nulls":8},"سرویس کار ماشین آلات و تجهیزات"]
[{"$nulls":8},"مسئول بازرگانی"]
[{"$nulls":8},"مسئول خرید"]
[{"$nulls":8},"کارمند واحد فنی"]
[{"$nulls":8},"کارشناس فنی"]
[{"$nulls":8},"مدیر فنی"]
[{"$nulls":8},"کارشناس برنامه ریزی"]
[{"$nulls":8},"سرپرست برنامه ریزی"]
[{"$nulls":8},"سرپرست طرح و توسعه"]
[{"$nulls":8},"مهندس طراح"]
[{"$nulls":8},"مهندس محاسبات"]
[{"$nulls":8},"مهندس نقشه کش"]
[{"$nulls":8},"مهندس اجرائی کارگاه"]
[{"$nulls":8},"تکنسین اجرائی کارگاه"]
[{"$nulls":8},"مهندس کارگاه"]
[{"$nulls":8},"سرپرست کارگاه"]
[{"$nulls":8},"کارمند آزمایشگاه"]
[{"$nulls":8},"مدیر آزمایشگاه"]
[{"$nulls":8},"کارگر نصب"]
[{"$nulls":8},"مسئول نصب"]

{"sheet":"database","index":1,"n_rows":142,"n_cols":23,"rows_kept":142}
["سال","ماه","کد پرسنلی","نام و نام خانوادگی","نوع قرارداد","محل خدمت","واحد عملیاتی","واحد شغلی","سمت شغلی","مرکز هزینه","کارکرد\n(ساعت)","اضافه کاری\n(ساعت)","مبلغ\nاضافه کاری","جمعه کاری + تعطیل کاری\n(ساعت)","مبلغ\nجمعه کاری + تعطیل کاری","شب کاری\n(ساعت)","مبلغ\nشب کاری","ماموریت\n(روزانه)","مبلغ\nحق ماموریت","جمع\nحقوق و مزایا","مالیات","بیمه","حقوق پرداختنی\n(خالص)"]
[1401,"فروردین",3040200007,"حمیدرضا حمیدی زاده","قراردادی","بندرعباس","واحد اداری و تشکیلاتی","واحد اداری","مسئول خرید","اداری(کارخانه)",null,null,{"v":23444591,"d":"23,444,591"},13.75,{"v":3313636,"d":"3,313,636"},{"$nulls":4},{"v":125458227,"d":"125,458,227"},{"v":5009323,"d":"5,009,323"},{"v":18707145,"d":"18,707,145"},{"v":116083903,"d":"116,083,903"}]
[1401,"فروردین",3040200009,"حیدر محبوبی شمیلی","قراردادی","بندرعباس","واحد عملیاتی","واحد تولید","اپراتور بچینگ","بتن سازی(کارخانه)",null,null,{"v":11667270,"d":"11,667,270"},45.48,0,{"$nulls":4},{"v":93230837,"d":"93,230,837"},{"v":914879,"d":"914,879"},{"v":20239497,"d":"20,239,497"},{"v":87593409,"d":"87,593,409"}]
[1401,"فروردین",3040200012,"مهران حاجی زاده","قراردادی","بندرعباس","واحد پشتیبانی","واحد فنی و مهندسی و برنامه ریزی","مدیر فنی","فنی تولید (کارخانه)",null,null,{"v":18648570,"d":"18,648,570"},{"v":27.4,"d":"27.40"},0,{"$nulls":4},{"v":152525315,"d":"152,525,315"},{"v":6744804,"d":"6,744,804"},{"v":24504771,"d":"24,504,771"},{"v":140062731,"d":"140,062,731"}]
[1401,"فروردین",3040200014,"فتحعلی شفیعی زاده","قراردادی","بندرعباس","واحد پشتیبانی","واحد حراست","سرپرست نگهبان","حراست (کارخانه)",null,155.86,{"v":49906441,"d":"49,906,441"},82.28,{"v":18505269,"d":"18,505,269"},{"v":104,"d":"104.00"},{"v":7631119,"d":"7,631,119"},null,null,{"v":151394558,"d":"151,394,558"},{"v":6767006,"d":"6,767,006"},{"v":18707145,"d":"18,707,145"},{"v":140262551,"d":"140,262,551"}]
[1401,"فروردین",3040200015,"حسین قنبری","قراردادی","بندرعباس","واحد عملیاتی","واحد حمل و نقل","راننده دانگ فنگ","حمل مواد اولیه (کارخانه)",null,5.18,{"v":2396036,"d":"2,396,036"},null,0,{"$nulls":4},{"v":100817386,"d":"100,817,386"},{"v":1738453,"d":"1,738,453"},{"v":17457225,"d":"17,457,225"},{"v":95005580,"d":"95,005,580"}]
[1401,"فروردین",3040200017,"سعید دامچین","قراردادی","بندرعباس","واحد عملیاتی","واحد تولید","مسئول تولید","بتن ریزی(کارخانه)",null,55.51,{"v":25019936,"d":"25,019,936"},8.16,{"v":1051573,"d":"1,051,573"},{"$nulls":4},{"v":118432184,"d":"118,432,184"},{"v":3902718,"d":"3,902,718"},{"v":18108225,"d":"18,108,225"},{"v":110304213,"d":"110,304,213"}]
[1401,"فروردین",3040200019,"اسداله پدرام","قراردادی","بندرعباس","واحد عملیاتی","واحد تولید","کارگر تولید","آرماتور، میلگرد (کارخانه)",null,21.17,{"v":6939191,"d":"6,939,191"},null,0,{"$nulls":4},{"v":83241172,"d":"83,241,172"},null,{"v":18707145,"d":"18,707,145"},{"v":78876171,"d":"78,876,171"}]
[1401,"فروردین",3040200020,"علیرضا ادیب نیا","قراردادی","بندرعباس","واحد عملیاتی","واحد تولید","راننده میکسر","بتن سازی(کارخانه)",null,{"v":37,"d":"37.00"},{"v":16481818,"d":"16,481,818"},4.61,{"v":587576,"d":"587,576"},{"$nulls":4},{"v":114402727,"d":"114,402,727"},{"v":3903773,"d":"3,903,773"},{"v":18707145,"d":"18,707,145"},{"v":106133953,"d":"106,133,953"}]
[1401,"فروردین",3040200024,"حسین خنده جام","قراردادی","بندرعباس","واحد پشتیبانی","واحد حراست","نگهبان","حراست (کارخانه)",null,92.05,{"v":27623175,"d":"27,623,175"},{"v":101.6,"d":"101.60"},{"v":21143400,"d":"21,143,400"},{"v":88,"d":"88.00"},{"v":6051792,"d":"6,051,792"},null,null,{"v":122726824,"d":"122,726,824"},{"v":4347372,"d":"4,347,372"},{"v":17457225,"d":"17,457,225"},{"v":114306099,"d":"114,306,099"}]
[1401,"فروردین",3040200025,"رضا شبانی","قراردادی","بندرعباس","واحد پشتیبانی","واحد آشپزخانه و رستوران","آشپز","آشپزخانه (کارخانه)",null,26.23,{"v":8808001,"d":"8,808,001"},16.73,{"v":1605234,"d":"1,605,234"},{"$nulls":4},{"v":79933626,"d":"79,933,626"},{"v":486027,"d":"486,027"},{"v":17457225,"d":"17,457,225"},{"v":75374246,"d":"75,374,246"}]
[1401,"فروردین",3040200060,"رجبعلی استوار","قراردادی","بندرعباس","واحد پشتیبانی","واحد تعمیر و نگهداری PM","سرویس کار ماشین آلات و تجهیزات","تعمیر و نگهداری(کارخانه)",null,26.18,{"v":11219691,"d":"11,219,691"},null,0,{"$nulls":4},{"v":104160253,"d":"104,160,253"},{"v":2057550,"d":"2,057,550"},{"v":18108225,"d":"18,108,225"},{"v":97877450,"d":"97,877,450"}]
[1401,"فروردین",3040200074,"محمد سالاری نودژ","قراردادی","بندرعباس","واحد اداری و تشکیلاتی","واحد انبار","سرپرست انبار","انبار (کارخانه)",null,26.88,{"v":7698409,"d":"7,698,409"},null,0,{"$nulls":4},{"v":69198409,"d":"69,198,409"},null,{"v":17457225,"d":"17,457,225"},{"v":65125056,"d":"65,125,056"}]
[1401,"فروردین",3040200075,"علی محبی نودژ","قراردادی","بندرعباس","واحد پشتیبانی","واحد حراست","نگهبان","حراست (کارخانه)",null,139.96,{"v":37228907,"d":"37,228,907"},52.83,{"v":6579940,"d":"6,579,940"},{"v":176,"d":"176.00"},{"v":10728025,"d":"10,728,025"},null,null,{"v":104835662,"d":"104,835,662"},{"v":4092187,"d":"4,092,187"},{"v":14078407,"d":"14,078,407"},{"v":97458513,"d":"97,458,513"}]
[1401,"فروردین",3040200076,"صمد جوادی سلیم آباد","قراردادی","بندرعباس","واحد عملیاتی","واحد تولید","مسئول تولید","بتن ریزی(کارخانه)",null,10.23,{"v":4884091,"d":"4,884,091"},null,0,{"$nulls":4},{"v":97384091,"d":"97,384,091"},{"v":2231074,"d":"2,231,074"},{"v":17457225,"d":"17,457,225"},{"v":91079664,"d":"91,079,664"}]
[1401,"فروردین",3040210003,"محمد پرستش","قراردادی","تهران","واحد اداری و تشکیلاتی","واحد تدارکات","مسئول خرید","تدارکات(دفتر مرکزی)",null,{"v":25,"d":"25.00"},{"v":10652340,"d":"10,652,340"},null,0,{"$nulls":4},{"v":107381074,"d":"107,381,074"},{"v":1820391,"d":"1,820,391"},{"v":24162488,"d":"24,162,488"},{"v":99922769,"d":"99,922,769"}]
[1401,"فروردین",3040210004,"حسین سلیمانی","قراردادی","تهران","واحد اداری و تشکیلاتی","واحد مالی","سرپرست حسابداری","مالی (دفتر مرکزی)",null,34.38,{"v":21044974,"d":"21,044,974"},{"$nulls":6},{"v":135433328,"d":"135,433,328"},{"v":6020808,"d":"6,020,808"},{"v":18108225,"d":"18,108,225"},{"v":125187267,"d":"125,187,267"}]
[1401,"فروردین",3040210005,"مینا بابائی","قراردادی","تهران","واحد اداری و تشکیلاتی","واحد اداری","مسئول دفتر","اداری (دفتر مرکزی)",null,{"v":13.9,"d":"13.90"},{"v":6280273,"d":"6,280,273"},null,0,{"$nulls":4},{"v":94646940,"d":"94,646,940"},{"v":1942169,"d":"1,942,169"},{"v":18108225,"d":"18,108,225"},{"v":88479518,"d":"88,479,518"}]
[1401,"فروردین",5010100004,"رضا مقدسی","قراردادی","تهران","واحد اداری و تشکیلاتی","واحد مدیریت","مدیرعامل","مدیریت عامل(دفتر مرکزی)",null,null,0,null,0,null,null,1,{"v":6244305,"d":"6,244,305"},{"v":180282819,"d":"180,282,819"},{"v":8696865,"d":"8,696,865"},{"v":50957629,"d":"50,957,629"},{"v":159695841,"d":"159,695,841"}]
[1401,"اردیبهشت",3040200007,"حمیدرضا حمیدی زاده","قراردادی","بندرعباس","واحد اداری و تشکیلاتی","واحد اداری","مسئول خرید","اداری(کارخانه)",null,23.76,{"v":12250636,"d":"12,250,636"},8.65,{"v":4458682,"d":"4,458,682"},{"$nulls":4},{"v":115409318,"d":"115,409,318"},{"v":4004431,"d":"4,004,431"},{"v":18707145,"d":"18,707,145"},{"v":107039886,"d":"107,039,886"}]
[1401,"اردیبهشت",3040200009,"حیدر محبوبی شمیلی","قراردادی","بندرعباس","واحد عملیاتی","واحد تولید","اپراتور بچینگ","بتن سازی(کارخانه)",null,66.43,{"v":23812461,"d":"23,812,461"},32.23,{"v":8366194,"d":"8,366,194"},{"$nulls":4},{"v":113742222,"d":"113,742,222"},{"v":2966017,"d":"2,966,017"},{"v":20239497,"d":"20,239,497"},{"v":106053656,"d":"106,053,656"}]
[1401,"اردیبهشت",3040200012,"مهران حاجی زاده","قراردادی","بندرعباس","واحد پشتیبانی","واحد فنی و مهندسی و برنامه ریزی","مدیر فنی","فنی تولید (کارخانه)",null,32.91,{"v":22403239,"d":"22,403,239"},8.66,{"v":5898574,"d":"5,898,574"},null,null,5,{"v":17825360,"d":"17,825,360"},{"v":180003918,"d":"180,003,918"},{"v":7710127,"d":"7,710,127"},{"v":24504771,"d":"24,504,771"},{"v":166576011,"d":"166,576,011"}]
[1401,"اردیبهشت",3040200014,"فتحعلی شفیعی زاده","قراردادی","بندرعباس","واحد پشتیبانی","واحد حراست","سرپرست نگهبان","حراست (کارخانه)",null,115.56,{"v":37002915,"d":"37,002,915"},84.63,{"v":14927563,"d":"14,927,563"},8.23,{"v":604619,"d":"604,619"},null,null,{"v":127886826,"d":"127,886,826"},{"v":4416232,"d":"4,416,232"},{"v":18707145,"d":"18,707,145"},{"v":119105593,"d":"119,105,593"}]
[1401,"اردیبهشت",3040200015,"حسین قنبری","قراردادی","بندرعباس","واحد عملیاتی","واحد حمل و نقل","راننده دانگ فنگ","حمل مواد اولیه (کارخانه)",null,5.18,{"v":2396036,"d":"2,396,036"},null,0,{"$nulls":4},{"v":100817386,"d":"100,817,386"},{"v":1738454,"d":"1,738,454"},{"v":17457225,"d":"17,457,225"},{"v":95005579,"d":"95,005,579"}]
[1401,"اردیبهشت",3040200017,"سعید دامچین","قراردادی","بندرعباس","واحد عملیاتی","واحد تولید","مسئول تولید","بتن ریزی(کارخانه)",null,{"v":58.7,"d":"58.70"},{"v":26454583,"d":"26,454,583"},22.38,{"v":5709615,"d":"5,709,615"},{"$nulls":4},{"v":124524873,"d":"124,524,873"},{"v":4511987,"d":"4,511,987"},{"v":18108225,"d":"18,108,225"},{"v":115787633,"d":"115,787,633"}]
[1401,"اردیبهشت",3040200019,"اسداله پدرام","قراردادی","بندرعباس","واحد عملیاتی","واحد تولید","کارگر تولید","آرماتور، میلگرد (کارخانه)",null,43.03,{"v":14030534,"d":"14,030,534"},14.03,{"v":3418749,"d":"3,418,749"},{"$nulls":4},{"v":93751264,"d":"93,751,264"},{"v":954343,"d":"954,343"},{"v":18707145,"d":"18,707,145"},{"v":88431920,"d":"88,431,920"}]
[1401,"اردیبهشت",3040200020,"علیرضا ادیب نیا","قراردادی","بندرعباس","واحد عملیاتی","واحد تولید","راننده میکسر","بتن سازی(کارخانه)",null,79.98,{"v":35628939,"d":"35,628,939"},36.96,{"v":10973031,"d":"10,973,031"},{"$nulls":4},{"v":143935303,"d":"143,935,303"},{"v":6857030,"d":"6,857,030"},{"v":18707145,"d":"18,707,145"},{"v":132713272,"d":"132,713,272"}]
[1401,"اردیبهشت",3040200024,"حسین خنده جام","قراردادی","بندرعباس","واحد پشتیبانی","واحد حراست","نگهبان","حراست (کارخانه)",null,{"v":132.1,"d":"132.10"},{"v":39641732,"d":"39,641,732"},100.75,{"v":19066357,"d":"19,066,357"},{"v":185.4,"d":"185.40"},{"v":12752776,"d":"12,752,776"},null,null,{"v":139369322,"d":"139,369,322"},{"v":6011622,"d":"6,011,622"},{"v":17457225,"d":"17,457,225"},{"v":129284347,"d":"129,284,347"}]
[1401,"اردیبهشت",3040200025,"رضا شبانی","قراردادی","بندرعباس","واحد پشتیبانی","واحد آشپزخانه و رستوران","آشپز","آشپزخانه (کارخانه)",null,62.85,{"v":21102269,"d":"21,102,269"},65.18,{"v":12008876,"d":"12,008,876"},{"$nulls":4},{"v":102631536,"d":"102,631,536"},{"v":2755819,"d":"2,755,819"},{"v":17457225,"d":"17,457,225"},{"v":95802364,"d":"95,802,364"}]
[1401,"اردیبهشت",3040200060,"رجبعلی استوار","قراردادی","بندرعباس","واحد پشتیبانی","واحد تعمیر و نگهداری PM","سرویس کار ماشین آلات و تجهیزات","تعمیر و نگهداری(کارخانه)",null,55.86,{"v":23939150,"d":"23,939,150"},{"v":13.9,"d":"13.90"},{"v":4456453,"d":"4,456,453"},{"$nulls":4},{"v":121336165,"d":"121,336,165"},{"v":3775141,"d":"3,775,141"},{"v":18108225,"d":"18,108,225"},{"v":113335771,"d":"113,335,771"}]
[1401,"اردیبهشت",3040200074,"محمد سالاری نودژ","قراردادی","بندرعباس","واحد اداری و تشکیلاتی","واحد انبار","سرپرست انبار","انبار (کارخانه)",null,{"v":24.8,"d":"24.80"},{"v":7101818,"d":"7,101,818"},{"v":7.7,"d":"7.70"},{"v":2205000,"d":"2,205,000"},{"$nulls":4},{"v":70806818,"d":"70,806,818"},null,{"v":17457225,"d":"17,457,225"},{"v":66733465,"d":"66,733,465"}]
[1401,"اردیبهشت",3040200075,"علی محبی نودژ","قراردادی","بندرعباس","واحد پشتیبانی","واحد حراست","نگهبان","حراست (کارخانه)",null,150.43,{"v":40012873,"d":"40,012,873"},{"v":91.8,"d":"91.80"},{"v":14183285,"d":"14,183,285"},222.21,{"v":13546570,"d":"13,546,570"},null,null,{"v":130113228,"d":"130,113,228"},{"v":5086012,"d":"5,086,012"},{"v":17457225,"d":"17,457,225"},{"v":120953863,"d":"120,953,863"}]
[1401,"اردیبهشت",3040200076,"صمد جوادی سلیم آباد","قراردادی","بندرعباس","واحد عملیاتی","واحد تولید","مسئول تولید","بتن ریزی(کارخانه)",null,40.16,{"v":19170455,"d":"19,170,455"},24.11,{"v":8118182,"d":"8,118,182"},{"$nulls":4},{"v":119788637,"d":"119,788,637"},{"v":4471528,"d":"4,471,528"},{"v":17457225,"d":"17,457,225"},{"v":111243756,"d":"111,243,756"}]
[1401,"اردیبهشت",3040210003,"محمد پرستش","قراردادی","تهران","واحد اداری و تشکیلاتی","واحد تدارکات","مسئول خرید","تدارکات(دفتر مرکزی)",null,49.56,{"v":21120039,"d":"21,120,039"},null,0,{"$nulls":4},{"v":117848773,"d":"117,848,773"},{"v":2867161,"d":"2,867,161"},{"v":24162488,"d":"24,162,488"},{"v":109343698,"d":"109,343,698"}]
[1401,"اردیبهشت",3040210004,"حسین سلیمانی","قراردادی","تهران","واحد اداری و تشکیلاتی","واحد مالی","سرپرست حسابداری","مالی (دفتر مرکزی)",null,37.76,{"v":23115807,"d":"23,115,807"},null,0,{"$nulls":4},{"v":137504161,"d":"137,504,161"},{"v":6227890,"d":"6,227,890"},{"v":18108225,"d":"18,108,225"},{"v":127051018,"d":"127,051,018"}]
[1401,"اردیبهشت",3040210005,"مینا بابائی","قراردادی","تهران","واحد اداری و تشکیلاتی","واحد اداری","مسئول دفتر","اداری (دفتر مرکزی)",null,17.68,{"v":7989652,"d":"7,989,652"},null,0,{"$nulls":4},{"v":96356319,"d":"96,356,319"},{"v":2113106,"d":"2,113,106"},{"v":18108225,"d":"18,108,225"},{"v":90017960,"d":"90,017,960"}]
[1401,"اردیبهشت",5010100004,"رضا مقدسی","قراردادی","تهران","واحد اداری و تشکیلاتی","واحد مدیریت","مدیرعامل","مدیریت عامل(دفتر مرکزی)",null,null,0,null,0,null,null,2,{"v":12488610,"d":"12,488,610"},{"v":186527124,"d":"186,527,124"},{"v":8696865,"d":"8,696,865"},{"v":50957629,"d":"50,957,629"},{"v":165940146,"d":"165,940,146"}]
[1401,"خرداد",3040200007,"حمیدرضا حمیدی زاده","قراردادی","بندرعباس","واحد اداری و تشکیلاتی","واحد اداری","مسئول خرید","اداری(کارخانه)",null,65.98,{"v":34011409,"d":"34,011,409"},{"v":15.5,"d":"15.50"},{"v":7989545,"d":"7,989,545"},{"$nulls":4},{"v":140700954,"d":"140,700,954"},{"v":6533596,"d":"6,533,596"},{"v":18707145,"d":"18,707,145"},{"v":129802357,"d":"129,802,357"}]
[1401,"خرداد",3040200009,"حیدر محبوبی شمیلی","قراردادی","بندرعباس","واحد عملیاتی","واحد تولید","اپراتور بچینگ","بتن سازی(کارخانه)",null,70.36,{"v":25222332,"d":"25,222,332"},3.78,{"v":387458,"d":"387,458"},{"$nulls":4},{"v":107173357,"d":"107,173,357"},{"v":2309131,"d":"2,309,131"},{"v":20239497,"d":"20,239,497"},{"v":100141677,"d":"100,141,677"}]
[1401,"خرداد",3040200012,"مهران حاجی زاده","قراردادی","بندرعباس","واحد پشتیبانی","واحد فنی و مهندسی و برنامه ریزی","مدیر فنی","فنی تولید (کارخانه)",null,37.53,{"v":25545364,"d":"25,545,364"},null,0,null,null,3,{"v":13369020,"d":"13,369,020"},{"v":172791129,"d":"172,791,129"},{"v":7434483,"d":"7,434,483"},{"v":24504771,"d":"24,504,771"},{"v":159638866,"d":"159,638,866"}]
[1401,"خرداد",3040200014,"فتحعلی شفیعی زاده","قراردادی","بندرعباس","واحد پشتیبانی","واحد حراست","سرپرست نگهبان","حراست (کارخانه)",null,91.95,{"v":29441172,"d":"29,441,172"},null,{"v":9662779,"d":"9,662,779"},61.55,{"v":4514100,"d":"4,514,100"},null,null,{"v":118969780,"d":"118,969,780"},{"v":3524528,"d":"3,524,528"},{"v":18707145,"d":"18,707,145"},{"v":111080251,"d":"111,080,251"}]
[1401,"خرداد",3040200015,"حسین قنبری","قراردادی","بندرعباس","واحد عملیاتی","واحد حمل و نقل","راننده دانگ فنگ","حمل مواد اولیه (کارخانه)",null,5.18,{"v":2396036,"d":"2,396,036"},null,0,{"$nulls":4},{"v":100817386,"d":"100,817,386"},{"v":1738453,"d":"1,738,453"},{"v":17457225,"d":"17,457,225"},{"v":95005580,"d":"95,005,580"}]
[1401,"خرداد",3040200017,"سعید دامچین","قراردادی","بندرعباس","واحد عملیاتی","واحد تولید","مسئول تولید","بتن ریزی(کارخانه)",null,61.31,{"v":27633847,"d":"27,633,847"},10.46,{"v":1347731,"d":"1,347,731"},{"$nulls":4},{"v":121342253,"d":"121,342,253"},{"v":4193725,"d":"4,193,725"},{"v":18108225,"d":"18,108,225"},{"v":112923275,"d":"112,923,275"}]
[1401,"خرداد",3040200019,"اسداله پدرام","قراردادی","بندرعباس","واحد عملیاتی","واحد تولید","کارگر تولید","آرماتور، میلگرد (کارخانه)",null,{"v":29.7,"d":"29.70"},{"v":9683351,"d":"9,683,351"},null,0,{"$nulls":4},{"v":85985332,"d":"85,985,332"},{"v":226084,"d":"226,084"},{"v":18707145,"d":"18,707,145"},{"v":81394247,"d":"81,394,247"}]
[1401,"خرداد",3040200020,"علیرضا ادیب نیا","قراردادی","بندرعباس","واحد عملیاتی","واحد تولید","راننده میکسر","بتن سازی(کارخانه)",null,79.66,{"v":35487879,"d":"35,487,879"},13.18,{"v":2733182,"d":"2,733,182"},{"$nulls":4},{"v":135554394,"d":"135,554,394"},{"v":6018939,"d":"6,018,939"},{"v":18707145,"d":"18,707,145"},{"v":125170454,"d":"125,170,454"}]
[1401,"خرداد",3040200024,"حسین خنده جام","قراردادی","بندرعباس","واحد پشتیبانی","واحد حراست","نگهبان","حراست (کارخانه)",null,163.73,{"v":49134541,"d":"49,134,541"},74.11,{"v":12274347,"d":"12,274,347"},145.68,{"v":10018466,"d":"10,018,466"},null,null,{"v":139335811,"d":"139,335,811"},{"v":6008271,"d":"6,008,271"},{"v":17457225,"d":"17,457,225"},{"v":129254187,"d":"129,254,187"}]
[1401,"خرداد",3040200025,"رضا شبانی","قراردادی","بندرعباس","واحد پشتیبانی","واحد آشپزخانه و رستوران","آشپز","آشپزخانه (کارخانه)",null,41.13,{"v":13810766,"d":"13,810,766"},{"v":19,"d":"19.00"},{"v":1822676,"d":"1,822,676"},{"$nulls":4},{"v":85153833,"d":"85,153,833"},{"v":1008048,"d":"1,008,048"},{"v":17457225,"d":"17,457,225"},{"v":80072432,"d":"80,072,432"}]
[1401,"خرداد",3040200060,"رجبعلی استوار","قراردادی","بندرعباس","واحد پشتیبانی","واحد تعمیر و نگهداری PM","سرویس کار ماشین آلات و تجهیزات","تعمیر و نگهداری(کارخانه)",null,{"v":83.3,"d":"83.30"},{"v":35694473,"d":"35,694,473"},22.68,{"v":5674632,"d":"5,674,632"},{"$nulls":4},{"v":134309667,"d":"134,309,667"},{"v":5072492,"d":"5,072,492"},{"v":18108225,"d":"18,108,225"},{"v":125011922,"d":"125,011,922"}]
[1401,"خرداد",3040200074,"محمد سالاری نودژ","قراردادی","بندرعباس","واحد اداری و تشکیلاتی","واحد انبار","سرپرست انبار","انبار (کارخانه)",null,{"v":48.9,"d":"48.90"},{"v":20538000,"d":"20,538,000"},null,0,{"$nulls":4},{"v":103738000,"d":"103,738,000"},{"v":1852317,"d":"1,852,317"},{"v":17457225,"d":"17,457,225"},{"v":97812330,"d":"97,812,330"}]
[1401,"خرداد",3040200075,"علی محبی نودژ","قراردادی","بندرعباس","واحد پشتیبانی","واحد حراست","نگهبان","حراست (کارخانه)",null,136.53,{"v":36315695,"d":"36,315,695"},40.21,{"v":3056284,"d":"3,056,284"},150.08,{"v":9148080,"d":"9,148,080"},null,null,{"v":110890559,"d":"110,890,559"},{"v":3163746,"d":"3,163,746"},{"v":17457225,"d":"17,457,225"},{"v":103653460,"d":"103,653,460"}]
[1401,"خرداد",3040200076,"صمد جوادی سلیم آباد","قراردادی","بندرعباس","واحد عملیاتی","واحد تولید","مسئول تولید","بتن ریزی(کارخانه)",null,70.53,{"v":33663636,"d":"33,663,636"},38.28,{"v":12175000,"d":"12,175,000"},{"$nulls":4},{"v":138338636,"d":"138,338,636"},{"v":6326529,"d":"6,326,529"},{"v":17457225,"d":"17,457,225"},{"v":127938754,"d":"127,938,754"}]
[1401,"خرداد",3040210003,"محمد پرستش","قراردادی","تهران","واحد اداری و تشکیلاتی","واحد تدارکات","مسئول خرید","تدارکات(دفتر مرکزی)",null,32.86,{"v":14004276,"d":"14,004,276"},null,0,{"$nulls":4},{"v":110733010,"d":"110,733,010"},{"v":2155585,"d":"2,155,585"},{"v":24162488,"d":"24,162,488"},{"v":102939511,"d":"102,939,511"}]
[1401,"خرداد",3040210004,"حسین سلیمانی","قراردادی","تهران","واحد اداری و تشکیلاتی","واحد مالی","سرپرست حسابداری","مالی (دفتر مرکزی)",null,29.33,{"v":17954025,"d":"17,954,025"},null,0,{"$nulls":4},{"v":132342379,"d":"132,342,379"},{"v":5711713,"d":"5,711,713"},{"v":18108225,"d":"18,108,225"},{"v":122405413,"d":"122,405,413"}]
[1401,"خرداد",3040210005,"مینا بابائی","قراردادی","تهران","واحد اداری و تشکیلاتی","واحد اداری","مسئول دفتر","اداری (دفتر مرکزی)",null,16.58,{"v":7492652,"d":"7,492,652"},null,0,{"$nulls":4},{"v":95859319,"d":"95,859,319"},{"v":2063407,"d":"2,063,407"},{"v":18108225,"d":"18,108,225"},{"v":89570659,"d":"89,570,659"}]
[1401,"خرداد",5010100004,"رضا مقدسی","قراردادی","تهران","واحد اداری و تشکیلاتی","واحد مدیریت","مدیرعامل","مدیریت عامل(دفتر مرکزی)",null,{"v":0,"d":"0.00"},0,null,0,null,null,2,{"v":12488610,"d":"12,488,610"},{"v":186527124,"d":"186,527,124"},{"v":8696865,"d":"8,696,865"},{"v":50957629,"d":"50,957,629"},{"v":165940146,"d":"165,940,146"}]
[1401,"تیر",3040200007,"حمیدرضا حمیدی زاده","قراردادی","بندرعباس","واحد اداری و تشکیلاتی","واحد اداری","مسئول خرید","اداری(کارخانه)",null,30.06,{"v":15498000,"d":"15,498,000"},null,0,{"$nulls":4},{"v":114198000,"d":"114,198,000"},{"v":3883300,"d":"3,883,300"},{"v":18707145,"d":"18,707,145"},{"v":105349699,"d":"105,349,699"}]
[1401,"تیر",3040200009,"حیدر محبوبی شمیلی","قراردادی","بندرعباس","واحد عملیاتی","واحد تولید","اپراتور بچینگ","بتن سازی(کارخانه)",null,{"v":99.7,"d":"99.70"},{"v":35736614,"d":"35,736,614"},26.53,{"v":4138292,"d":"4,138,292"},3.15,{"v":256286,"d":"256,286"},null,null,{"v":121694759,"d":"121,694,759"},{"v":3761271,"d":"3,761,271"},{"v":20239497,"d":"20,239,497"},{"v":110810939,"d":"110,810,939"}]
[1401,"تیر",3040200012,"مهران حاجی زاده","قراردادی","بندرعباس","واحد پشتیبانی","واحد فنی و مهندسی و برنامه ریزی","مدیر فنی","فنی تولید (کارخانه)",null,47.78,{"v":32521563,"d":"32,521,563"},null,0,{"$nulls":4},{"v":166398308,"d":"166,398,308"},{"v":8132103,"d":"8,132,103"},{"v":24504771,"d":"24,504,771"},{"v":152548425,"d":"152,548,425"}]
[1401,"تیر",3040200014,"فتحعلی شفیعی زاده","قراردادی","بندرعباس","واحد پشتیبانی","واحد حراست","سرپرست نگهبان","حراست (کارخانه)",null,{"v":123.6,"d":"123.60"},{"v":39575082,"d":"39,575,082"},{"v":76.3,"d":"76.30"},{"v":19272955,"d":"19,272,955"},48.25,{"v":3539665,"d":"3,539,665"},null,null,{"v":137739431,"d":"137,739,431"},{"v":5401493,"d":"5,401,493"},{"v":18707145,"d":"18,707,145"},{"v":125572937,"d":"125,572,937"}]
[1401,"تیر",3040200015,"حسین قنبری","قراردادی","بندرعباس","واحد عملیاتی","واحد حمل و نقل","راننده دانگ فنگ","حمل مواد اولیه (کارخانه)",null,5.18,{"v":2396036,"d":"2,396,036"},null,0,{"$nulls":4},{"v":100817386,"d":"100,817,386"},{"v":1738453,"d":"1,738,453"},{"v":17457225,"d":"17,457,225"},{"v":95005580,"d":"95,005,580"}]
[1401,"تیر",3040200017,"سعید دامچین","قراردادی","بندرعباس","واحد عملیاتی","واحد تولید","مسئول تولید","بتن ریزی(کارخانه)",null,80.16,{"v":36129058,"d":"36,129,058"},32.73,{"v":8732352,"d":"8,732,352"},{"$nulls":4},{"v":137222085,"d":"137,222,085"},{"v":5781708,"d":"5,781,708"},{"v":18108225,"d":"18,108,225"},{"v":126615124,"d":"126,615,124"}]
[1401,"تیر",3040200019,"اسداله پدرام","قراردادی","بندرعباس","واحد عملیاتی","واحد تولید","کارگر تولید","آرماتور، میلگرد (کارخانه)",null,38.11,{"v":12427510,"d":"12,427,510"},5.03,{"v":468875,"d":"468,875"},{"$nulls":4},{"v":89198366,"d":"89,198,366"},{"v":547386,"d":"547,386"},{"v":18707145,"d":"18,707,145"},{"v":81885979,"d":"81,885,979"}]
[1401,"تیر",3040200020,"علیرضا ادیب نیا","قراردادی","بندرعباس","واحد عملیاتی","واحد تولید","راننده میکسر","بتن سازی(کارخانه)",null,107.45,{"v":47864090,"d":"47,864,090"},29.78,{"v":5556515,"d":"5,556,515"},3.15,{"v":318500,"d":"318,500"},null,null,{"v":151072438,"d":"151,072,438"},{"v":7570744,"d":"7,570,744"},{"v":18707145,"d":"18,707,145"},{"v":138536693,"d":"138,536,693"}]
[1401,"تیر",3040200024,"حسین خنده جام","قراردادی","بندرعباس","واحد پشتیبانی","واحد حراست","نگهبان","حراست (کارخانه)",null,68.75,{"v":45413440,"d":"45,413,440"},151.33,{"v":10542406,"d":"10,542,406"},149.41,{"v":10277043,"d":"10,277,043"},null,null,{"v":134141346,"d":"134,141,346"},{"v":5488824,"d":"5,488,824"},{"v":17457225,"d":"17,457,225"},{"v":122779169,"d":"122,779,169"}]
[1401,"تیر",3040200025,"رضا شبانی","قراردادی","بندرعباس","واحد پشتیبانی","واحد آشپزخانه و رستوران","آشپز","آشپزخانه (کارخانه)",null,29.26,{"v":9826461,"d":"9,826,461"},null,0,{"$nulls":4},{"v":79346852,"d":"79,346,852"},{"v":427350,"d":"427,350"},{"v":17457225,"d":"17,457,225"},{"v":74246149,"d":"74,246,149"}]
[1401,"تیر",3040200060,"رجبعلی استوار","قراردادی","بندرعباس","واحد پشتیبانی","واحد تعمیر و نگهداری PM","سرویس کار ماشین آلات و تجهیزات","تعمیر و نگهداری(کارخانه)",null,73.66,{"v":31566541,"d":"31,566,541"},9.73,{"v":1992549,"d":"1,992,549"},{"$nulls":4},{"v":126499652,"d":"126,499,652"},{"v":4291490,"d":"4,291,490"},{"v":18108225,"d":"18,108,225"},{"v":115582909,"d":"115,582,909"}]
[1401,"تیر",3040200074,"محمد سالاری نودژ","قراردادی","بندرعباس","واحد اداری و تشکیلاتی","واحد انبار","سرپرست انبار","انبار (کارخانه)",null,56.73,{"v":23828000,"d":"23,828,000"},6.08,{"v":2555000,"d":"2,555,000"},{"$nulls":4},{"v":109583000,"d":"109,583,000"},{"v":3450965,"d":"3,450,965"},{"v":17457225,"d":"17,457,225"},{"v":101458682,"d":"101,458,682"}]
[1401,"تیر",3040200075,"علی محبی نودژ","قراردادی","بندرعباس","واحد پشتیبانی","واحد حراست","نگهبان","حراست (کارخانه)",null,{"v":145.3,"d":"145.30"},{"v":38647488,"d":"38,647,488"},80.18,{"v":9747684,"d":"9,747,684"},175.15,{"v":10674385,"d":"10,674,385"},null,null,{"v":121440057,"d":"121,440,057"},{"v":4218696,"d":"4,218,696"},{"v":17457225,"d":"17,457,225"},{"v":111348008,"d":"111,348,008"}]
[1401,"تیر",3040200076,"صمد جوادی سلیم آباد","قراردادی","بندرعباس","واحد عملیاتی","واحد تولید","مسئول تولید","بتن ریزی(کارخانه)",null,81.13,{"v":38722727,"d":"38,722,727"},19.05,{"v":2597727,"d":"2,597,727"},{"$nulls":4},{"v":133820454,"d":"133,820,454"},{"v":5874710,"d":"5,874,710"},{"v":17457225,"d":"17,457,225"},{"v":122672391,"d":"122,672,391"}]
[1401,"تیر",3040210004,"حسین سلیمانی","قراردادی","تهران","واحد اداری و تشکیلاتی","واحد مالی","سرپرست حسابداری","مالی (دفتر مرکزی)",null,103.95,{"v":63624576,"d":"63,624,576"},null,{"v":9382144,"d":"9,382,144"},{"$nulls":4},{"v":187395074,"d":"187,395,074"},{"v":11216982,"d":"11,216,982"},{"v":18108225,"d":"18,108,225"},{"v":171352839,"d":"171,352,839"}]
[1401,"تیر",3040210005,"مینا بابائی","قراردادی","تهران","واحد اداری و تشکیلاتی","واحد اداری","مسئول دفتر","اداری (دفتر مرکزی)",null,11.58,{"v":5233561,"d":"5,233,561"},null,0,{"$nulls":4},{"v":93600228,"d":"93,600,228"},{"v":1837497,"d":"1,837,497"},{"v":18108225,"d":"18,108,225"},{"v":86937478,"d":"86,937,478"}]
[1401,"تیر",5010100004,"رضا مقدسی","قراردادی","تهران","واحد اداری و تشکیلاتی","واحد مدیریت","مدیرعامل","مدیریت عامل(دفتر مرکزی)",null,null,0,null,0,null,null,2,{"v":12488610,"d":"12,488,610"},{"v":186527124,"d":"186,527,124"},{"v":8696865,"d":"8,696,865"},{"v":50957629,"d":"50,957,629"},{"v":164140146,"d":"164,140,146"}]
[1401,"مرداد",3040200007,"حمیدرضا حمیدی زاده","قراردادی","بندرعباس","واحد اداری و تشکیلاتی","واحد اداری","مسئول خرید","اداری(کارخانه)",null,19.86,{"v":10240364,"d":"10,240,364"},null,0,{"$nulls":4},{"v":108940364,"d":"108,940,364"},{"v":3357536,"d":"3,357,536"},{"v":18707145,"d":"18,707,145"},{"v":100617827,"d":"100,617,827"}]
[1401,"مرداد",3040200009,"حیدر محبوبی شمیلی","قراردادی","بندرعباس","واحد عملیاتی","واحد تولید","اپراتور بچینگ","بتن سازی(کارخانه)",null,68.61,{"v":24595059,"d":"24,595,059"},null,0,{"$nulls":4},{"v":106158626,"d":"106,158,626"},{"v":2207657,"d":"2,207,657"},{"v":20239497,"d":"20,239,497"},{"v":96828420,"d":"96,828,420"}]
[1401,"مرداد",3040200012,"مهران حاجی زاده","قراردادی","بندرعباس","واحد پشتیبانی","واحد فنی و مهندسی و برنامه ریزی","مدیر فنی","فنی تولید (کارخانه)",null,{"v":52.7,"d":"52.70"},{"v":35867869,"d":"35,867,869"},null,0,null,null,1,{"v":3565072,"d":"3,565,072"},{"v":173309686,"d":"173,309,686"},{"v":8466733,"d":"8,466,733"},{"v":24504771,"d":"24,504,771"},{"v":159125173,"d":"159,125,173"}]
[1401,"مرداد",3040200014,"فتحعلی شفیعی زاده","قراردادی","بندرعباس","واحد پشتیبانی","واحد حراست","سرپرست نگهبان","حراست (کارخانه)",null,110.03,{"v":35231215,"d":"35,231,215"},{"v":57.5,"d":"57.50"},{"v":10554727,"d":"10,554,727"},{"v":24,"d":"24.00"},{"v":1761027,"d":"1,761,027"},null,null,{"v":122898698,"d":"122,898,698"},{"v":3917420,"d":"3,917,420"},{"v":18707145,"d":"18,707,145"},{"v":112216277,"d":"112,216,277"}]
[1401,"مرداد",3040200015,"حسین قنبری","قراردادی","بندرعباس","واحد عملیاتی","واحد حمل و نقل","راننده دانگ فنگ","حمل مواد اولیه (کارخانه)",null,5.18,{"v":2396036,"d":"2,396,036"},null,0,{"$nulls":4},{"v":100817386,"d":"100,817,386"},{"v":1738454,"d":"1,738,454"},{"v":17457225,"d":"17,457,225"},{"v":95005579,"d":"95,005,579"}]
[1401,"مرداد",3040200017,"سعید دامچین","قراردادی","بندرعباس","واحد عملیاتی","واحد تولید","مسئول تولید","بتن ریزی(کارخانه)",null,84.75,{"v":38194648,"d":"38,194,648"},32.35,{"v":5447794,"d":"5,447,794"},{"$nulls":4},{"v":136003117,"d":"136,003,117"},{"v":5659812,"d":"5,659,812"},{"v":18108225,"d":"18,108,225"},{"v":125518052,"d":"125,518,052"}]
[1401,"مرداد",3040200019,"اسداله پدرام","قراردادی","بندرعباس","واحد عملیاتی","واحد تولید","کارگر تولید","آرماتور، میلگرد (کارخانه)",null,43.38,{"v":14144647,"d":"14,144,647"},null,0,{"$nulls":4},{"v":90446628,"d":"90,446,628"},{"v":672213,"d":"672,213"},{"v":18707145,"d":"18,707,145"},{"v":83009414,"d":"83,009,414"}]
[1401,"مرداد",3040200020,"علیرضا ادیب نیا","قراردادی","بندرعباس","واحد عملیاتی","واحد تولید","راننده میکسر","بتن سازی(کارخانه)",null,78.08,{"v":34782576,"d":"34,782,576"},9.66,{"v":1230303,"d":"1,230,303"},{"$nulls":4},{"v":133346212,"d":"133,346,212"},{"v":5798121,"d":"5,798,121"},{"v":18707145,"d":"18,707,145"},{"v":122583090,"d":"122,583,090"}]
[1401,"مرداد",3040200024,"حسین خنده جام","قراردادی","بندرعباس","واحد پشتیبانی","واحد حراست","نگهبان","حراست (کارخانه)",null,80.51,{"v":24162151,"d":"24,162,151"},23.76,{"v":2037746,"d":"2,037,746"},103.36,{"v":7108105,"d":"7,108,105"},null,null,{"v":101216459,"d":"101,216,459"},{"v":2196336,"d":"2,196,336"},{"v":17457225,"d":"17,457,225"},{"v":93146770,"d":"93,146,770"}]
[1401,"مرداد",3040200025,"رضا شبانی","قراردادی","بندرعباس","واحد پشتیبانی","واحد آشپزخانه و رستوران","آشپز","آشپزخانه (کارخانه)",null,{"v":57.1,"d":"57.10"},{"v":19171672,"d":"19,171,672"},{"v":54,"d":"54.00"},{"v":9497100,"d":"9,497,100"},{"$nulls":4},{"v":98189163,"d":"98,189,163"},{"v":2311581,"d":"2,311,581"},{"v":17457225,"d":"17,457,225"},{"v":91204229,"d":"91,204,229"}]
[1401,"مرداد",3040200060,"رجبعلی استوار","قراردادی","بندرعباس","واحد پشتیبانی","واحد تعمیر و نگهداری PM","سرویس کار ماشین آلات و تجهیزات","تعمیر و نگهداری(کارخانه)",null,80.85,{"v":34644635,"d":"34,644,635"},7.16,{"v":877415,"d":"877,415"},{"$nulls":4},{"v":128462612,"d":"128,462,612"},{"v":4487785,"d":"4,487,785"},{"v":18108225,"d":"18,108,225"},{"v":117349574,"d":"117,349,574"}]
[1401,"مرداد",3040200074,"محمد سالاری نودژ","قراردادی","بندرعباس","واحد اداری و تشکیلاتی","واحد انبار","سرپرست انبار","انبار (کارخانه)",null,48.21,{"v":20251000,"d":"20,251,000"},null,0,{"$nulls":4},{"v":103451000,"d":"103,451,000"},{"v":2837764,"d":"2,837,764"},{"v":17457225,"d":"17,457,225"},{"v":95939883,"d":"95,939,883"}]
[1401,"مرداد",3040200075,"علی محبی نودژ","قراردادی","بندرعباس","واحد پشتیبانی","واحد حراست","نگهبان","حراست (کارخانه)",null,152.41,{"v":40540409,"d":"40,540,409"},65.33,{"v":9771749,"d":"9,771,749"},{"v":175,"d":"175.00"},{"v":10669509,"d":"10,669,509"},null,null,{"v":123352167,"d":"123,352,167"},{"v":4409906,"d":"4,409,906"},{"v":17457225,"d":"17,457,225"},{"v":113068908,"d":"113,068,908"}]
[1401,"مرداد",3040200076,"صمد جوادی سلیم آباد","قراردادی","بندرعباس","واحد عملیاتی","واحد تولید","مسئول تولید","بتن ریزی(کارخانه)",null,71.68,{"v":34212500,"d":"34,212,500"},25.16,{"v":6909091,"d":"6,909,091"},{"$nulls":4},{"v":133621591,"d":"133,621,591"},{"v":5854824,"d":"5,854,824"},{"v":17457225,"d":"17,457,225"},{"v":122493414,"d":"122,493,414"}]
[1401,"مرداد",3040210004,"حسین سلیمانی","قراردادی","تهران","واحد اداری و تشکیلاتی","واحد مالی","سرپرست حسابداری","مالی (دفتر مرکزی)",null,{"v":99,"d":"99.00"},{"v":60594835,"d":"60,594,835"},null,0,{"$nulls":4},{"v":174983189,"d":"174,983,189"},{"v":9975794,"d":"9,975,794"},{"v":18108225,"d":"18,108,225"},{"v":160182142,"d":"160,182,142"}]
[1401,"مرداد",3040210005,"مینا بابائی","قراردادی","تهران","واحد اداری و تشکیلاتی","واحد اداری","مسئول دفتر","اداری (دفتر مرکزی)",null,7.71,{"v":3486530,"d":"3,486,530"},null,0,{"$nulls":4},{"v":91853197,"d":"91,853,197"},{"v":1662795,"d":"1,662,795"},{"v":18108225,"d":"18,108,225"},{"v":85365149,"d":"85,365,149"}]
[1401,"مرداد",5010100004,"رضا مقدسی","قراردادی","تهران","واحد اداری و تشکیلاتی","واحد مدیریت","مدیرعامل","مدیریت عامل(دفتر مرکزی)",null,null,0,null,0,{"$nulls":4},{"v":174038514,"d":"174,038,514"},{"v":8696865,"d":"8,696,865"},{"v":50957629,"d":"50,957,629"},{"v":151651536,"d":"151,651,536"}]
[1401,"شهریور",3040200007,"حمیدرضا حمیدی زاده","قراردادی","بندرعباس","واحد اداری و تشکیلاتی","واحد اداری","مسئول خرید","اداری(کارخانه)",null,10.58,{"v":5455227,"d":"5,455,227"},null,0,{"$nulls":4},{"v":104155227,"d":"104,155,227"},{"v":2879023,"d":"2,879,023"},{"v":18707145,"d":"18,707,145"},{"v":96311203,"d":"96,311,203"}]
[1401,"شهریور",3040200009,"حیدر محبوبی شمیلی","قراردادی","بندرعباس","واحد عملیاتی","واحد تولید","اپراتور بچینگ","بتن سازی(کارخانه)",null,71.91,{"v":25777915,"d":"25,777,915"},null,0,{"$nulls":4},{"v":107341482,"d":"107,341,482"},{"v":2325944,"d":"2,325,944"},{"v":20239497,"d":"20,239,497"},{"v":97892989,"d":"97,892,989"}]
[1401,"شهریور",3040200012,"مهران حاجی زاده","قراردادی","بندرعباس","واحد پشتیبانی","واحد فنی و مهندسی و برنامه ریزی","مدیر فنی","فنی تولید (کارخانه)",null,{"v":53.6,"d":"53.60"},{"v":36480414,"d":"36,480,414"},{"v":4,"d":"4.00"},{"v":777834,"d":"777,834"},null,null,2,{"v":7130144,"d":"7,130,144"},{"v":178265137,"d":"178,265,137"},{"v":8605772,"d":"8,605,772"},{"v":24504771,"d":"24,504,771"},{"v":163941585,"d":"163,941,585"}]
[1401,"شهریور",3040200014,"فتحعلی شفیعی زاده","قراردادی","بندرعباس","واحد پشتیبانی","واحد حراست","سرپرست نگهبان","حراست (کارخانه)",null,129.91,{"v":38395728,"d":"38,395,728"},41.91,{"v":6045431,"d":"6,045,431"},{"v":7.7,"d":"7.70"},{"v":563529,"d":"563,529"},null,null,{"v":120356417,"d":"120,356,417"},{"v":3663192,"d":"3,663,192"},{"v":18707145,"d":"18,707,145"},{"v":109928224,"d":"109,928,224"}]
[1401,"شهریور",3040200015,"حسین قنبری","قراردادی","بندرعباس","واحد عملیاتی","واحد حمل و نقل","راننده دانگ فنگ","حمل مواد اولیه (کارخانه)",null,5.18,{"v":2396036,"d":"2,396,036"},null,0,{"$nulls":4},{"v":100817386,"d":"100,817,386"},{"v":1738453,"d":"1,738,453"},{"v":17457225,"d":"17,457,225"},{"v":95005580,"d":"95,005,580"}]
[1401,"شهریور",3040200017,"سعید دامچین","قراردادی","بندرعباس","واحد عملیاتی","واحد تولید","مسئول تولید","بتن ریزی(کارخانه)",null,89.35,{"v":40267750,"d":"40,267,750"},34.86,{"v":7703312,"d":"7,703,312"},{"$nulls":4},{"v":140331737,"d":"140,331,737"},{"v":6092673,"d":"6,092,673"},{"v":18108225,"d":"18,108,225"},{"v":129413811,"d":"129,413,811"}]
[1401,"شهریور",3040200019,"اسداله پدرام","قراردادی","بندرعباس","واحد عملیاتی","واحد تولید","کارگر تولید","آرماتور، میلگرد (کارخانه)",null,53.68,{"v":17502846,"d":"17,502,846"},null,0,{"$nulls":4},{"v":93804827,"d":"93,804,827"},{"v":1008033,"d":"1,008,033"},{"v":18707145,"d":"18,707,145"},{"v":86031793,"d":"86,031,793"}]
[1401,"شهریور",3040200020,"علیرضا ادیب نیا","قراردادی","بندرعباس","واحد عملیاتی","واحد تولید","راننده میکسر","بتن سازی(کارخانه)",null,{"v":72.8,"d":"72.80"},{"v":32429091,"d":"32,429,091"},8.73,{"v":1111515,"d":"1,111,515"},{"$nulls":4},{"v":130873939,"d":"130,873,939"},{"v":5550894,"d":"5,550,894"},{"v":18707145,"d":"18,707,145"},{"v":120358044,"d":"120,358,044"}]
[1401,"شهریور",3040200024,"حسین خنده جام","قراردادی","بندرعباس","واحد پشتیبانی","واحد حراست","نگهبان","حراست (کارخانه)",null,178.56,{"v":53585858,"d":"53,585,858"},52.53,{"v":4504190,"d":"4,504,190"},188.68,{"v":12978343,"d":"12,978,343"},null,null,{"v":138976848,"d":"138,976,848"},{"v":5972374,"d":"5,972,374"},{"v":17457225,"d":"17,457,225"},{"v":127131121,"d":"127,131,121"}]
[1401,"شهریور",3040200025,"رضا شبانی","قراردادی","بندرعباس","واحد پشتیبانی","واحد آشپزخانه و رستوران","آشپز","آشپزخانه (کارخانه)",null,{"v":62,"d":"62.00"},{"v":20816876,"d":"20,816,876"},{"v":46.9,"d":"46.90"},{"v":6417738,"d":"6,417,738"},{"$nulls":4},{"v":96755005,"d":"96,755,005"},{"v":2168165,"d":"2,168,165"},{"v":17457225,"d":"17,457,225"},{"v":89913487,"d":"89,913,487"}]
[1401,"شهریور",3040200060,"رجبعلی استوار","قراردادی","بندرعباس","واحد پشتیبانی","واحد تعمیر و نگهداری PM","سرویس کار ماشین آلات و تجهیزات","تعمیر و نگهداری(کارخانه)",null,66.71,{"v":28588431,"d":"28,588,431"},{"v":8.2,"d":"8.20"},{"v":1003926,"d":"1,003,926"},{"$nulls":4},{"v":122532919,"d":"122,532,919"},{"v":3894817,"d":"3,894,817"},{"v":18108225,"d":"18,108,225"},{"v":112012849,"d":"112,012,849"}]
[1401,"شهریور",3040200074,"محمد سالاری نودژ","قراردادی","بندرعباس","واحد اداری و تشکیلاتی","واحد انبار","سرپرست انبار","انبار (کارخانه)",null,34.88,{"v":14651000,"d":"14,651,000"},null,0,{"$nulls":4},{"v":97851000,"d":"97,851,000"},{"v":2277765,"d":"2,277,765"},{"v":17457225,"d":"17,457,225"},{"v":90899882,"d":"90,899,882"}]
[1401,"شهریور",3040200075,"علی محبی نودژ","قراردادی","بندرعباس","واحد پشتیبانی","واحد حراست","نگهبان","حراست (کارخانه)",null,62.91,{"v":16734833,"d":"16,734,833"},22.25,{"v":4315909,"d":"4,315,909"},8.35,{"v":5203092,"d":"5,203,092"},null,null,{"v":88624334,"d":"88,624,334"},{"v":937123,"d":"937,123"},{"v":17457225,"d":"17,457,225"},{"v":81813858,"d":"81,813,858"}]
[1401,"شهریور",3040200076,"صمد جوادی سلیم آباد","قراردادی","بندرعباس","واحد عملیاتی","واحد تولید","مسئول تولید","بتن ریزی(کارخانه)",null,50.95,{"v":24317046,"d":"24,317,046"},9.13,{"v":1245455,"d":"1,245,455"},{"$nulls":4},{"v":118062501,"d":"118,062,501"},{"v":4298914,"d":"4,298,914"},{"v":17457225,"d":"17,457,225"},{"v":108490234,"d":"108,490,234"}]
[1401,"شهریور",3040210004,"حسین سلیمانی","قراردادی","تهران","واحد اداری و تشکیلاتی","واحد مالی","سرپرست حسابداری","مالی (دفتر مرکزی)",null,34.98,{"v":21412215,"d":"21,412,215"},null,0,{"$nulls":4},{"v":135800569,"d":"135,800,569"},{"v":6057531,"d":"6,057,531"},{"v":18108225,"d":"18,108,225"},{"v":124917785,"d":"124,917,785"}]
[1401,"شهریور",3040210005,"مینا بابائی","قراردادی","تهران","واحد اداری و تشکیلاتی","واحد اداری","مسئول دفتر","اداری (دفتر مرکزی)",null,{"v":8.9,"d":"8.90"},{"v":4021182,"d":"4,021,182"},null,0,{"$nulls":4},{"v":92387849,"d":"92,387,849"},{"v":1716260,"d":"1,716,260"},{"v":18108225,"d":"18,108,225"},{"v":85846336,"d":"85,846,336"}]
[1401,"شهریور",5010100004,"رضا مقدسی","قراردادی","تهران","واحد اداری و تشکیلاتی","واحد مدیریت","مدیرعامل","مدیریت عامل(دفتر مرکزی)",null,null,0,null,0,{"$nulls":4},{"v":174038514,"d":"174,038,514"},{"v":8696866,"d":"8,696,866"},{"v":50957629,"d":"50,957,629"},{"v":151651535,"d":"151,651,535"}]
[1401,"مهر",3040200007,"حمیدرضا حمیدی زاده","قراردادی","بندرعباس","واحد اداری و تشکیلاتی","واحد اداری","مسئول خرید","اداری(کارخانه)",null,11.48,{"v":5919136,"d":"5,919,136"},null,0,{"$nulls":4},{"v":101919136,"d":"101,919,136"},{"v":2666107,"d":"2,666,107"},{"v":18248850,"d":"18,248,850"},{"v":94394964,"d":"94,394,964"}]
[1401,"مهر",3040200009,"حیدر محبوبی شمیلی","قراردادی","بندرعباس","واحد عملیاتی","واحد تولید","اپراتور بچینگ","بتن سازی(کارخانه)",null,52.08,{"v":18668827,"d":"18,668,827"},11.31,{"v":2375101,"d":"2,375,101"},{"$nulls":4},{"v":100729944,"d":"100,729,944"},{"v":1676636,"d":"1,676,636"},{"v":19731771,"d":"19,731,771"},{"v":92049228,"d":"92,049,228"}]
[1401,"مهر",3040200012,"مهران حاجی زاده","قراردادی","بندرعباس","واحد پشتیبانی","واحد فنی و مهندسی و برنامه ریزی","مدیر فنی","فنی تولید (کارخانه)",null,30.63,{"v":20849192,"d":"20,849,192"},null,0,null,null,2,{"v":7130144,"d":"7,130,144"},{"v":158291008,"d":"158,291,008"},{"v":6623416,"d":"6,623,416"},{"v":23859456,"d":"23,859,456"},{"v":146100386,"d":"146,100,386"}]
[1401,"مهر",3040200014,"فتحعلی شفیعی زاده","قراردادی","بندرعباس","واحد پشتیبانی","واحد حراست","سرپرست نگهبان","حراست (کارخانه)",null,116.98,{"v":37456512,"d":"37,456,512"},65.25,{"v":8267679,"d":"8,267,679"},{"v":64,"d":"64.00"},{"v":4696073,"d":"4,696,073"},null,null,{"v":124094824,"d":"124,094,824"},{"v":4047725,"d":"4,047,725"},{"v":18248850,"d":"18,248,850"},{"v":113389034,"d":"113,389,034"}]
[1401,"مهر",3040200015,"حسین قنبری","قراردادی","بندرعباس","واحد عملیاتی","واحد حمل و نقل","راننده دانگ فنگ","حمل مواد اولیه (کارخانه)",null,{"v":10.2,"d":"10.20"},{"v":4715029,"d":"4,715,029"},null,0,{"$nulls":4},{"v":100715029,"d":"100,715,029"},{"v":1737970,"d":"1,737,970"},{"v":17039250,"d":"17,039,250"},{"v":95001234,"d":"95,001,234"}]
[1401,"مهر",3040200017,"سعید دامچین","قراردادی","بندرعباس","واحد عملیاتی","واحد تولید","مسئول تولید","بتن ریزی(کارخانه)",null,64.65,{"v":29136095,"d":"29,136,095"},24.21,{"v":6063716,"d":"6,063,716"},{"$nulls":4},{"v":125199811,"d":"125,199,811"},{"v":4589724,"d":"4,589,724"},{"v":17669250,"d":"17,669,250"},{"v":90887262,"d":"90,887,262"}]
[1401,"مهر",3040200019,"اسداله پدرام","قراردادی","بندرعباس","واحد عملیاتی","واحد تولید","کارگر تولید","آرماتور، میلگرد (کارخانه)",null,52.38,{"v":17078996,"d":"17,078,996"},{"v":11,"d":"11.00"},{"v":1024693,"d":"1,024,693"},{"$nulls":4},{"v":92697848,"d":"92,697,848"},{"v":908028,"d":"908,028"},{"v":18248850,"d":"18,248,850"},{"v":85131755,"d":"85,131,755"}]
[1401,"مهر",3040200020,"علیرضا ادیب نیا","قراردادی","بندرعباس","واحد عملیاتی","واحد تولید","راننده میکسر","بتن سازی(کارخانه)",null,63.13,{"v":28123031,"d":"28,123,031"},13.88,{"v":3283636,"d":"3,283,636"},0.26,{"v":24500,"d":"24,500"},null,null,{"v":126431167,"d":"126,431,167"},{"v":5117310,"d":"5,117,310"},{"v":18248850,"d":"18,248,850"},{"v":116455792,"d":"116,455,792"}]
[1401,"مهر",3040200024,"حسین خنده جام","قراردادی","بندرعباس","واحد پشتیبانی","واحد حراست","نگهبان","حراست (کارخانه)",null,140.36,{"v":42122466,"d":"42,122,466"},100.08,{"v":15686785,"d":"15,686,785"},141.66,{"v":9743385,"d":"9,743,385"},null,null,{"v":133889199,"d":"133,889,199"},{"v":5473362,"d":"5,473,362"},{"v":17039250,"d":"17,039,250"},{"v":122640012,"d":"122,640,012"}]
[1401,"مهر",3040200025,"رضا شبانی","قراردادی","بندرعباس","واحد پشتیبانی","واحد آشپزخانه و رستوران","آشپز","آشپزخانه (کارخانه)",null,65.45,{"v":21975235,"d":"21,975,235"},{"v":71.2,"d":"71.20"},{"v":13269560,"d":"13,269,560"},{"$nulls":4},{"v":103006464,"d":"103,006,464"},{"v":2803064,"d":"2,803,064"},{"v":17039250,"d":"17,039,250"},{"v":95627575,"d":"95,627,575"}]
[1401,"مهر",3040200060,"رجبعلی استوار","قراردادی","بندرعباس","واحد پشتیبانی","واحد تعمیر و نگهداری PM","سرویس کار ماشین آلات و تجهیزات","تعمیر و نگهداری(کارخانه)",null,40.21,{"v":17233046,"d":"17,233,046"},4.76,{"v":2042541,"d":"2,042,541"},{"$nulls":4},{"v":109971599,"d":"109,971,599"},{"v":2648928,"d":"2,648,928"},{"v":17669250,"d":"17,669,250"},{"v":50799846,"d":"50,799,846"}]
[1401,"مهر",3040200074,"محمد سالاری نودژ","قراردادی","بندرعباس","واحد اداری و تشکیلاتی","واحد انبار","سرپرست انبار","انبار (کارخانه)",null,{"v":27,"d":"27.00"},{"v":11340000,"d":"11,340,000"},null,0,{"$nulls":4},{"v":92340000,"d":"92,340,000"},{"v":1736417,"d":"1,736,417"},{"v":17039250,"d":"17,039,250"},{"v":86027758,"d":"86,027,758"}]
[1401,"مهر",3040200075,"علی محبی نودژ","قراردادی","بندرعباس","واحد پشتیبانی","واحد حراست","نگهبان","حراست (کارخانه)",null,144.36,{"v":38399237,"d":"38,399,237"},91.73,{"v":13633584,"d":"13,633,584"},195.66,{"v":11927613,"d":"11,927,613"},null,null,{"v":124937684,"d":"124,937,684"},{"v":4578211,"d":"4,578,211"},{"v":17039250,"d":"17,039,250"},{"v":114583648,"d":"114,583,648"}]
[1401,"مهر",3040200076,"صمد جوادی سلیم آباد","قراردادی","بندرعباس","واحد عملیاتی","واحد تولید","مسئول تولید","بتن ریزی(کارخانه)",null,41.78,{"v":19942045,"d":"19,942,045"},3.33,{"v":454545,"d":"454,545"},{"$nulls":4},{"v":110396590,"d":"110,396,590"},{"v":3542077,"d":"3,542,077"},{"v":17039250,"d":"17,039,250"},{"v":101678688,"d":"101,678,688"}]
[1401,"مهر",3040210004,"حسین سلیمانی","قراردادی","تهران","واحد اداری و تشکیلاتی","واحد مالی","سرپرست حسابداری","مالی (دفتر مرکزی)",null,25.21,{"v":15434341,"d":"15,434,341"},{"$nulls":6},{"v":126616619,"d":"126,616,619"},{"v":5149380,"d":"5,149,380"},{"v":17669250,"d":"17,669,250"},{"v":116744414,"d":"116,744,414"}]
[1401,"مهر",3040210005,"مینا بابائی","قراردادی","تهران","واحد اداری و تشکیلاتی","واحد اداری","مسئول دفتر","اداری (دفتر مرکزی)",null,{"v":14.9,"d":"14.90"},{"v":6732091,"d":"6,732,091"},null,0,{"$nulls":4},{"v":92732091,"d":"92,732,091"},{"v":1760926,"d":"1,760,926"},{"v":17669250,"d":"17,669,250"},{"v":86248340,"d":"86,248,340"}]
[1401,"مهر",5010100004,"رضا مقدسی","قراردادی","تهران","واحد اداری و تشکیلاتی","واحد مدیریت","مدیرعامل","مدیریت عامل(دفتر مرکزی)",null,null,0,null,0,{"$nulls":4},{"v":169043070,"d":"169,043,070"},{"v":8232289,"d":"8,232,289"},{"v":49458996,"d":"49,458,996"},{"v":147470349,"d":"147,470,349"}]
[1401,"آبان",3040200007,"حمیدرضا حمیدی زاده","قراردادی","بندرعباس","واحد اداری و تشکیلاتی","واحد اداری","مسئول خرید","اداری(کارخانه)",null,2.06,{"v":1065273,"d":"1,065,273"},{"v":0,"d":"0.00"},{"$nulls":5},{"v":97065273,"d":"97,065,273"},{"v":2180720,"d":"2,180,720"},{"v":18248850,"d":"18,248,850"},{"v":90026488,"d":"90,026,488"}]
[1401,"آبان",3040200009,"حیدر محبوبی شمیلی","قراردادی","بندرعباس","واحد عملیاتی","واحد تولید","اپراتور بچینگ","بتن سازی(کارخانه)",null,46.51,{"v":16673502,"d":"16,673,502"},7.58,{"v":776623,"d":"776,623"},{"$nulls":4},{"v":97136141,"d":"97,136,141"},{"v":1317256,"d":"1,317,256"},{"v":19731771,"d":"19,731,771"},{"v":88814805,"d":"88,814,805"}]
[1401,"آبان",3040200012,"مهران حاجی زاده","قراردادی","بندرعباس","واحد پشتیبانی","واحد فنی و مهندسی و برنامه ریزی","مدیر فنی","فنی تولید (کارخانه)",null,44.56,{"v":30332285,"d":"30,332,285"},{"v":13,"d":"13.00"},{"v":2527960,"d":"2,527,960"},null,null,2,{"v":7130144,"d":"7,130,144"},{"v":170302061,"d":"170,302,061"},{"v":7824521,"d":"7,824,521"},{"v":23859456,"d":"23,859,456"},{"v":156910334,"d":"156,910,334"}]
[1401,"آبان",3040200014,"فتحعلی شفیعی زاده","قراردادی","بندرعباس","واحد پشتیبانی","واحد حراست","سرپرست نگهبان","حراست (کارخانه)",null,143.01,{"v":45792041,"d":"45,792,041"},{"v":33.1,"d":"33.10"},{"v":3028052,"d":"3,028,052"},{"v":150.5,"d":"150.50"},{"v":11041642,"d":"11,041,642"},null,null,{"v":133536295,"d":"133,536,295"},{"v":4991873,"d":"4,991,873"},{"v":18248850,"d":"18,248,850"},{"v":121886357,"d":"121,886,357"}]
[1401,"آبان",3040200015,"حسین قنبری","قراردادی","بندرعباس","واحد عملیاتی","واحد حمل و نقل","راننده دانگ فنگ","حمل مواد اولیه (کارخانه)",null,null,0,{"$nulls":6},{"v":41600000,"d":"41,600,000"},{"v":548803,"d":"548,803"},{"v":7383675,"d":"7,383,675"},{"v":39328339,"d":"39,328,339"}]
[1401,"آبان",3040200017,"سعید دامچین","قراردادی","بندرعباس","واحد عملیاتی","واحد تولید","مسئول تولید","بتن ریزی(کارخانه)",null,{"v":80.9,"d":"80.90"},{"v":36459552,"d":"36,459,552"},27.26,{"v":3510968,"d":"3,510,968"},{"$nulls":4},{"v":129970520,"d":"129,970,520"},{"v":5066794,"d":"5,066,794"},{"v":17669250,"d":"17,669,250"},{"v":95180901,"d":"95,180,901"}]
[1401,"آبان",3040200019,"اسداله پدرام","قراردادی","بندرعباس","واحد عملیاتی","واحد تولید","کارگر تولید","آرماتور، میلگرد (کارخانه)",null,46.37,{"v":15198839,"d":"15,198,839"},4.38,{"v":408325,"d":"408,325"},{"$nulls":4},{"v":90201323,"d":"90,201,323"},{"v":658376,"d":"658,376"},{"v":18248850,"d":"18,248,850"},{"v":82884882,"d":"82,884,882"}]
[1401,"آبان",3040200020,"علیرضا ادیب نیا","قراردادی","بندرعباس","واحد عملیاتی","واحد تولید","راننده میکسر","بتن سازی(کارخانه)",null,48.01,{"v":21389243,"d":"21,389,243"},{"v":8.7,"d":"8.70"},{"v":1107273,"d":"1,107,273"},{"$nulls":4},{"v":117496516,"d":"117,496,516"},{"v":4223845,"d":"4,223,845"},{"v":18248850,"d":"18,248,850"},{"v":108414606,"d":"108,414,606"}]
[1401,"آبان",3040200024,"حسین خنده جام","قراردادی","بندرعباس","واحد پشتیبانی","واحد حراست","نگهبان","حراست (کارخانه)",null,134.29,{"v":40356944,"d":"40,356,944"},37.06,{"v":3178083,"d":"3,178,083"},{"v":124.6,"d":"124.60"},{"v":8571538,"d":"8,571,538"},null,null,{"v":118443128,"d":"118,443,128"},{"v":3928756,"d":"3,928,756"},{"v":17039250,"d":"17,039,250"},{"v":108738547,"d":"108,738,547"}]
[1401,"آبان",3040200025,"رضا شبانی","قراردادی","بندرعباس","واحد پشتیبانی","واحد آشپزخانه و رستوران","آشپز","آشپزخانه (کارخانه)",null,59.48,{"v":20078213,"d":"20,078,213"},{"v":39.5,"d":"39.50"},{"v":3789247,"d":"3,789,247"},{"$nulls":4},{"v":91629129,"d":"91,629,129"},{"v":1665330,"d":"1,665,330"},{"v":17039250,"d":"17,039,250"},{"v":85387974,"d":"85,387,974"}]
[1401,"آبان",3040200060,"رجبعلی استوار","قراردادی","بندرعباس","واحد پشتیبانی","واحد تعمیر و نگهداری PM","سرویس کار ماشین آلات و تجهیزات","تعمیر و نگهداری(کارخانه)",null,33.63,{"v":14412054,"d":"14,412,054"},{"$nulls":6},{"v":105108066,"d":"105,108,066"},{"v":2162574,"d":"2,162,574"},{"v":17669250,"d":"17,669,250"},{"v":46422667,"d":"46,422,667"}]
[1401,"آبان",3040200074,"محمد سالاری نودژ","قراردادی","بندرعباس","واحد اداری و تشکیلاتی","واحد انبار","سرپرست انبار","انبار (کارخانه)",null,28.36,{"v":11914000,"d":"11,914,000"},{"$nulls":6},{"v":92914000,"d":"92,914,000"},{"v":1793818,"d":"1,793,818"},{"v":17039250,"d":"17,039,250"},{"v":86544357,"d":"86,544,357"}]
[1401,"آبان",3040200075,"علی محبی نودژ","قراردادی","بندرعباس","واحد پشتیبانی","واحد حراست","نگهبان","حراست (کارخانه)",null,119.35,{"v":31745201,"d":"31,745,201"},31.83,{"v":2419189,"d":"2,419,189"},114.21,{"v":6963463,"d":"6,963,463"},null,null,{"v":102105103,"d":"102,105,103"},{"v":2294953,"d":"2,294,953"},{"v":17039250,"d":"17,039,250"},{"v":94034325,"d":"94,034,325"}]
[1401,"آبان",3040200076,"صمد جوادی سلیم آباد","قراردادی","بندرعباس","واحد عملیاتی","واحد تولید","مسئول تولید","بتن ریزی(کارخانه)",null,28.33,{"v":13522727,"d":"13,522,727"},4.03,{"v":550000,"d":"550,000"},{"$nulls":4},{"v":104072727,"d":"104,072,727"},{"v":2909690,"d":"2,909,690"},{"v":17039250,"d":"17,039,250"},{"v":95987212,"d":"95,987,212"}]
[1401,"آبان",3040210004,"حسین سلیمانی","قراردادی","تهران","واحد اداری و تشکیلاتی","واحد مالی","سرپرست حسابداری","مالی (دفتر مرکزی)",176.66,{"v":35,"d":"35.00"},{"v":21422416,"d":"21,422,416"},{"$nulls":6},{"v":132604694,"d":"132,604,694"},{"v":5748187,"d":"5,748,187"},{"v":17669250,"d":"17,669,250"},{"v":122133682,"d":"122,133,682"}]
[1401,"آبان",3040210005,"مینا بابائی","قراردادی","تهران","واحد اداری و تشکیلاتی","واحد اداری","مسئول دفتر","اداری (دفتر مرکزی)",187.58,23.63,{"v":10677970,"d":"10,677,970"},{"$nulls":6},{"v":96677970,"d":"96,677,970"},{"v":2155515,"d":"2,155,515"},{"v":17669250,"d":"17,669,250"},{"v":89799630,"d":"89,799,630"}]
[1401,"آبان",5010100004,"رضا مقدسی","قراردادی","تهران","واحد اداری و تشکیلاتی","واحد مدیریت","مدیرعامل","مدیریت عامل(دفتر مرکزی)",null,null,0,{"$nulls":6},{"v":169043070,"d":"169,043,070"},{"v":8232288,"d":"8,232,288"},{"v":49458996,"d":"49,458,996"},{"v":147470350,"d":"147,470,350"}]
[1401,"آبان",304,"شاملو",null,"بندرعباس","واحد پشتیبانی","واحد فنی و مهندسی و برنامه ریزی","کارشناس فنی","قالب سازی(کارخانه)",{"$nulls":9},{"v":100000000,"d":"100,000,000"},null,null,{"v":100000000,"d":"100,000,000"}]
["جمع",null,{"$f":"SUBTOTAL(103,Table1[کد پرسنلی])","v":140},{"$nulls":7},{"$f":"SUBTOTAL(109,Table1[کارکرد\n(ساعت)])","v":364.24},{"$f":"SUBTOTAL(109,Table1[اضافه کاری\n(ساعت)])","v":7654.490000000001},{"$f":"SUBTOTAL(109,Table1[مبلغ\nاضافه کاری])","v":{"v":3045671186,"d":"3,045,671,186"}},{"$f":"SUBTOTAL(109,Table1[جمعه کاری + تعطیل کاری\n(ساعت)])","v":{"v":2644.38,"d":"2,644.38"}},{"$f":"SUBTOTAL(109,Table1[مبلغ\nجمعه کاری + تعطیل کاری])","v":{"v":465536117,"d":"465,536,117"}},{"$f":"SUBTOTAL(109,Table1[شب کاری\n(ساعت)])","v":{"v":2818.2400000000002,"d":"2,818.24"}},{"$f":"SUBTOTAL(109,Table1[مبلغ\nشب کاری])","v":{"v":191313245,"d":"191,313,245"}},{"$f":"SUBTOTAL(109,Table1[ماموریت\n(روزانه)])","v":22},{"$f":"SUBTOTAL(109,Table1[مبلغ\nحق ماموریت])","v":{"v":99860019,"d":"99,860,019"}},{"$f":"SUBTOTAL(109,Table1[جمع\nحقوق و مزایا])","v":{"v":16794078507,"d":"16,794,078,507"}},{"$f":"SUBTOTAL(109,Table1[مالیات])","v":{"v":555327177,"d":"555,327,177"}},{"$f":"SUBTOTAL(109,Table1[بیمه])","v":{"v":2823609679,"d":"2,823,609,679"}},{"$f":"SUBTOTAL(109,Table1[حقوق پرداختنی\n(خالص)])","v":{"v":15327909034,"d":"15,327,909,034"}}]

{"sheet":"calc","index":2,"n_rows":252,"n_cols":17,"rows_kept":252,"merged":[[0,2,1,2],[2,2,2,6],[25,2,25,6],[38,2,38,6],[46,2,47,2],[48,2,48,6],[71,2,71,6],[84,2,84,6],[92,2,93,2],[94,2,94,6],[117,2,117,6],[131,2,132,2],[133,2,133,6],[156,2,156,6],[170,2,171,2],[172,2,172,6],[195,2,195,6],[209,2,210,2],[211,2,211,6],[234,2,234,6],[247,2,247,6]]}
[null,null,"حقوق پرداختنی:"]
[{"$nulls":16},{"$f":"IFERROR(OFFSET(#REF!,SMALL(#REF!,ROW(B1))-1,0),\"\")","v":""}]
[null,null,"بندرعباس",{"$nulls":13},{"$f":"IFERROR(OFFSET(#REF!,SMALL(#REF!,ROW(B2))-1,0),\"\")","v":""}]
[null,null,"مرکز هزینه","تعداد نفرات","درصد (تعداد نفرات)","جمع پرداختی","درصد(جمع پرداختی)",null,null,"مرکز هزینه","درپوش پایین","لیبل","مقدار واقعی","ترنسپرنت","درپوش بالا",null,{"$f":"IFERROR(OFFSET(#REF!,SMALL(#REF!,ROW(B3))-1,0),\"\")","v":""}]
[null,null,"حراست (کارخانه)",{"$f":"COUNTIFS(database!$F:$F,$C$3,database!$J:$J,calc!C5,database!$B:$B,listbox!$D$3,database!$A:$A,listbox!$B$3)","v":3},{"$f":"D5/$D$23","v":{"v":0.21428571428571427,"d":"21%"}},{"$f":"SUMIFS(database!$W:$W,database!$F:$F,calc!$C$3,database!$J:$J,calc!C5,database!$B:$B,listbox!$D$3,database!$A:$A,listbox!$B$3)","v":{"v":352027163,"d":"352,027,163"}},{"$f":"F5/$F$23","v":{"v":0.2486869201131651,"d":"25%"}},null,null,{"$f":"C5","v":"حراست (کارخانه)"},{"v":0.05,"d":"5%"},{"v":0.2,"d":"20%"},{"$f":"G5","v":{"v":0.2486869201131651,"d":"25%"}},{"$f":"1-M5","v":{"v":0.7513130798868349,"d":"75%"}},{"v":0.15,"d":"15%"},null,{"$f":"IFERROR(OFFSET(#REF!,SMALL(#REF!,ROW(B4))-1,0),\"\")","v":""}]
[null,null,"آشپزخانه (کارخانه)",{"$f":"COUNTIFS(database!$F:$F,$C$3,database!$J:$J,calc!C6,database!$B:$B,listbox!$D$3,database!$A:$A,listbox!$B$3)","v":1},{"$f":"D6/$D$23","v":{"v":0.07142857142857142,"d":"7%"}},{"$f":"SUMIFS(database!$W:$W,database!$F:$F,calc!$C$3,database!$J:$J,calc!C6,database!$B:$B,listbox!$D$3,database!$A:$A,listbox!$B$3)","v":{"v":75374246,"d":"75,374,246"}},{"v":0.05324756457385095,"d":"5%"},null,null,"آشپزخانه (کارخانه)",{"v":0.05,"d":"5%"},{"v":0.2,"d":"20%"},{"$f":"G6","v":{"v":0.05324756457385095,"d":"5%"}},{"$f":"1-M6","v":{"v":0.9467524354261491,"d":"95%"}},{"v":0.15,"d":"15%"},null,{"$f":"IFERROR(OFFSET(#REF!,SMALL(#REF!,ROW(B5))-1,0),\"\")","v":""}]
[null,null,"تدارکات (کارخانه)",{"$f":"COUNTIFS(database!$F:$F,$C$3,database!$J:$J,calc!C7,database!$B:$B,listbox!$D$3,database!$A:$A,listbox!$B$3)","v":0},{"v":0,"d":"0%"},{"$f":"SUMIFS(database!$W:$W,database!$F:$F,calc!$C$3,database!$J:$J,calc!C7,database!$B:$B,listbox!$D$3,database!$A:$A,listbox!$B$3)","v":0},{"v":0,"d":"0%"},null,null,"تدارکات (کارخانه)",{"v":0.05,"d":"5%"},{"v":0.2,"d":"20%"},{"v":0,"d":"0%"},{"v":1,"d":"100%"},{"v":0.15,"d":"15%"},null,{"$f":"IFERROR(OFFSET(#REF!,SMALL(#REF!,ROW(B6))-1,0),\"\")","v":""}]
[null,null,"انبار (کارخانه)",{"$f":"COUNTIFS(database!$F:$F,$C$3,database!$J:$J,calc!C8,database!$B:$B,listbox!$D$3,database!$A:$A,listbox!$B$3)","v":1},{"v":0.07142857142857142,"d":"7%"},{"$f":"SUMIFS(database!$W:$W,database!$F:$F,calc!$C$3,database!$J:$J,calc!C8,database!$B:$B,listbox!$D$3,database!$A:$A,listbox!$B$3)","v":{"v":65125056,"d":"65,125,056"}},{"v":0.046007102011151914,"d":"5%"},null,null,"انبار (کارخانه)",{"v":0.05,"d":"5%"},{"v":0.2,"d":"20%"},{"$f":"G8","v":{"v":0.046007102011151914,"d":"5%"}},{"v":0.9539928979888481,"d":"95%"},{"v":0.15,"d":"15%"}]
[null,null,"تاسیسات (کارخانه)",{"$f":"COUNTIFS(database!$F:$F,$C$3,database!$J:$J,calc!C9,database!$B:$B,listbox!$D$3,database!$A:$A,listbox!$B$3)","v":0},{"v":0,"d":"0%"},{"$f":"SUMIFS(database!$W:$W,database!$F:$F,calc!$C$3,database!$J:$J,calc!C9,database!$B:$B,listbox!$D$3,database!$A:$A,listbox!$B$3)","v":0},{"v":0,"d":"0%"},null,null,"تاسیسات (کارخانه)",{"v":0.05,"d":"5%"},{"v":0.2,"d":"20%"},{"v":0,"d":"0%"},{"v":1,"d":"100%"},{"v":0.15,"d":"15%"},null,{"$f":"IFERROR(OFFSET(#REF!,SMALL(#REF!,ROW(B8))-1,0),\"\")","v":""}]
[null,null,"فنی تولید (کارخانه)",{"$f":"COUNTIFS(database!$F:$F,$C$3,database!$J:$J,calc!C10,database!$B:$B,listbox!$D$3,database!$A:$A,listbox!$B$3)","v":1},{"v":0.07142857142857142,"d":"7%"},{"$f":"SUMIFS(database!$W:$W,database!$F:$F,calc!$C$3,database!$J:$J,calc!C10,database!$B:$B,listbox!$D$3,database!$A:$A,listbox!$B$3)","v":{"v":140062731,"d":"140,062,731"}},{"v":0.09894625431228082,"d":"10%"},null,null,"فنی تولید (کارخانه)",{"v":0.05,"d":"5%"},{"v":0.2,"d":"20%"},{"v":0.09894625431228082,"d":"10%"},{"v":0.9010537456877192,"d":"90%"},{"v":0.15,"d":"15%"},null,{"$f":"IFERROR(OFFSET(#REF!,SMALL(#REF!,ROW(B9))-1,0),\"\")","v":""}]
[null,null,"تعمیر و نگهداری(کارخانه)",{"$f":"COUNTIFS(database!$F:$F,$C$3,database!$J:$J,calc!C11,database!$B:$B,listbox!$D$3,database!$A:$A,listbox!$B$3)","v":1},{"v":0.07142857142857142,"d":"7%"},{"$f":"SUMIFS(database!$W:$W,database!$F:$F,calc!$C$3,database!$J:$J,calc!C11,database!$B:$B,listbox!$D$3,database!$A:$A,listbox!$B$3)","v":{"v":97877450,"d":"97,877,450"}},{"v":0.06914478241280009,"d":"7%"},null,null,"تعمیر و نگهداری(کارخانه)",{"v":0.05,"d":"5%"},{"v":0.2,"d":"20%"},{"v":0.06914478241280009,"d":"7%"},{"v":0.9308552175871999,"d":"93%"},{"v":0.15,"d":"15%"},null,{"$f":"IFERROR(OFFSET(#REF!,SMALL(#REF!,ROW(B10))-1,0),\"\")","v":""}]
[null,null,"QC و کنترل کیفیت(کارخانه)",{"$f":"COUNTIFS(database!$F:$F,$C$3,database!$J:$J,calc!C12,database!$B:$B,listbox!$D$3,database!$A:$A,listbox!$B$3)","v":0},{"v":0,"d":"0%"},{"$f":"SUMIFS(database!$W:$W,database!$F:$F,calc!$C$3,database!$J:$J,calc!C12,database!$B:$B,listbox!$D$3,database!$A:$A,listbox!$B$3)","v":0},{"v":0,"d":"0%"},null,null,"QC و کنترل کیفیت(کارخانه)",{"v":0.05,"d":"5%"},{"v":0.2,"d":"20%"},{"v":0,"d":"0%"},{"v":1,"d":"100%"},{"v":0.15,"d":"15%"},null,{"$f":"IFERROR(OFFSET(#REF!,SMALL(#REF!,ROW(B11))-1,0),\"\")","v":""}]
[null,null,"حمل مواد اولیه (کارخانه)",{"$f":"COUNTIFS(database!$F:$F,$C$3,database!$J:$J,calc!C13,database!$B:$B,listbox!$D$3,database!$A:$A,listbox!$B$3)","v":1},{"v":0.07142857142857142,"d":"7%"},{"$f":"SUMIFS(database!$W:$W,database!$F:$F,calc!$C$3,database!$J:$J,calc!C13,database!$B:$B,listbox!$D$3,database!$A:$A,listbox!$B$3)","v":{"v":95005580,"d":"95,005,580"}},{"v":0.067115971626783,"d":"7%"},null,null,"حمل مواد اولیه (کارخانه)",{"v":0.05,"d":"5%"},{"v":0.2,"d":"20%"},{"v":0.067115971626783,"d":"7%"},{"v":0.932884028373217,"d":"93%"},{"v":0.15,"d":"15%"},null,{"$f":"IFERROR(OFFSET(#REF!,SMALL(#REF!,ROW(B12))-1,0),\"\")","v":""}]
[null,null,"حمل محصولات و سایر(کارخانه)",{"$f":"COUNTIFS(database!$F:$F,$C$3,database!$J:$J,calc!C14,database!$B:$B,listbox!$D$3,database!$A:$A,listbox!$B$3)","v":0},{"v":0,"d":"0%"},{"$f":"SUMIFS(database!$W:$W,database!$F:$F,calc!$C$3,database!$J:$J,calc!C14,database!$B:$B,listbox!$D$3,database!$A:$A,listbox!$B$3)","v":0},{"v":0,"d":"0%"},null,null,"حمل محصولات و سایر(کارخانه)",{"v":0.05,"d":"5%"},{"v":0.2,"d":"20%"},{"v":0,"d":"0%"},{"v":1,"d":"100%"},{"v":0.15,"d":"15%"},null,{"$f":"IFERROR(OFFSET(#REF!,SMALL(#REF!,ROW(B13))-1,0),\"\")","v":""}]
[null,null,"قالب سازی(کارخانه)",{"$f":"COUNTIFS(database!$F:$F,$C$3,database!$J:$J,calc!C15,database!$B:$B,listbox!$D$3,database!$A:$A,listbox!$B$3)","v":0},{"v":0,"d":"0%"},{"$f":"SUMIFS(database!$W:$W,database!$F:$F,calc!$C$3,database!$J:$J,calc!C15,database!$B:$B,listbox!$D$3,database!$A:$A,listbox!$B$3)","v":0},{"v":0,"d":"0%"},null,null,"قالب سازی(کارخانه)",{"v":0.05,"d":"5%"},{"v":0.2,"d":"20%"},{"v":0,"d":"0%"},{"v":1,"d":"100%"},{"v":0.15,"d":"15%"},null,{"$f":"IFERROR(OFFSET(#REF!,SMALL(#REF!,ROW(B14))-1,0),\"\")","v":""}]
[null,null,"بتن سازی(کارخانه)",{"$f":"COUNTIFS(database!$F:$F,$C$3,database!$J:$J,calc!C16,database!$B:$B,listbox!$D$3,database!$A:$A,listbox!$B$3)","v":2},{"v":0.14285714285714285,"d":"14%"},{"$f":"SUMIFS(database!$W:$W,database!$F:$F,calc!$C$3,database!$J:$J,calc!C16,database!$B:$B,listbox!$D$3,database!$A:$A,listbox!$B$3)","v":{"v":193727362,"d":"193,727,362"}},{"v":0.1368572259789743,"d":"14%"},null,null,"بتن سازی(کارخانه)",{"v":0.05,"d":"5%"},{"v":0.2,"d":"20%"},{"v":0.1368572259789743,"d":"14%"},{"v":0.8631427740210257,"d":"86%"},{"v":0.15,"d":"15%"},null,{"$f":"IFERROR(OFFSET(#REF!,SMALL(#REF!,ROW(B15))-1,0),\"\")","v":""}]
[null,null,"بتن ریزی(کارخانه)",{"$f":"COUNTIFS(database!$F:$F,$C$3,database!$J:$J,calc!C17,database!$B:$B,listbox!$D$3,database!$A:$A,listbox!$B$3)","v":2},{"v":0.14285714285714285,"d":"14%"},{"$f":"SUMIFS(database!$W:$W,database!$F:$F,calc!$C$3,database!$J:$J,calc!C17,database!$B:$B,listbox!$D$3,database!$A:$A,listbox!$B$3)","v":{"v":201383877,"d":"201,383,877"}},{"v":0.14226611294645597,"d":"14%"},null,null,"بتن ریزی(کارخانه)",{"v":0.05,"d":"5%"},{"v":0.2,"d":"20%"},{"v":0.14226611294645597,"d":"14%"},{"v":0.857733887053544,"d":"86%"},{"v":0.15,"d":"15%"},null,{"$f":"IFERROR(OFFSET(#REF!,SMALL(#REF!,ROW(B16))-1,0),\"\")","v":""}]
[null,null,"آرماتور، میلگرد (کارخانه)",{"$f":"COUNTIFS(database!$F:$F,$C$3,database!$J:$J,calc!C18,database!$B:$B,listbox!$D$3,database!$A:$A,listbox!$B$3)","v":1},{"v":0.07142857142857142,"d":"7%"},{"$f":"SUMIFS(database!$W:$W,database!$F:$F,calc!$C$3,database!$J:$J,calc!C18,database!$B:$B,listbox!$D$3,database!$A:$A,listbox!$B$3)","v":{"v":78876171,"d":"78,876,171"}},{"v":0.05572147293732941,"d":"6%"},null,null,"آرماتور، میلگرد (کارخانه)",{"v":0.05,"d":"5%"},{"v":0.2,"d":"20%"},{"v":0.05572147293732941,"d":"6%"},{"v":0.9442785270626706,"d":"94%"},{"v":0.15,"d":"15%"},null,{"$f":"IFERROR(OFFSET(#REF!,SMALL(#REF!,ROW(B17))-1,0),\"\")","v":""}]
[null,null,"کیورینگ(کارخانه)",{"$f":"COUNTIFS(database!$F:$F,$C$3,database!$J:$J,calc!C19,database!$B:$B,listbox!$D$3,database!$A:$A,listbox!$B$3)","v":0},{"v":0,"d":"0%"},{"$f":"SUMIFS(database!$W:$W,database!$F:$F,calc!$C$3,database!$J:$J,calc!C19,database!$B:$B,listbox!$D$3,database!$A:$A,listbox!$B$3)","v":0},{"v":0,"d":"0%"},null,null,"کیورینگ(کارخانه)",{"v":0.05,"d":"5%"},{"v":0.2,"d":"20%"},{"v":0,"d":"0%"},{"v":1,"d":"100%"},{"v":0.15,"d":"15%"},null,{"$f":"IFERROR(OFFSET(#REF!,SMALL(#REF!,ROW(B18))-1,0),\"\")","v":""}]
[null,null,"مدیریت(کارخانه)",{"$f":"COUNTIFS(database!$F:$F,$C$3,database!$J:$J,calc!C20,database!$B:$B,listbox!$D$3,database!$A:$A,listbox!$B$3)","v":0},{"v":0,"d":"0%"},{"$f":"SUMIFS(database!$W:$W,database!$F:$F,calc!$C$3,database!$J:$J,calc!C20,database!$B:$B,listbox!$D$3,database!$A:$A,listbox!$B$3)","v":0},{"v":0,"d":"0%"},null,null,"مدیریت(کارخانه)",{"v":0.05,"d":"5%"},{"v":0.2,"d":"20%"},{"v":0,"d":"0%"},{"v":1,"d":"100%"},{"v":0.15,"d":"15%"}]
[null,null,"اداری(کارخانه)",{"$f":"COUNTIFS(database!$F:$F,$C$3,database!$J:$J,calc!C21,database!$B:$B,listbox!$D$3,database!$A:$A,listbox!$B$3)","v":1},{"v":0.07142857142857142,"d":"7%"},{"$f":"SUMIFS(database!$W:$W,database!$F:$F,calc!$C$3,database!$J:$J,calc!C21,database!$B:$B,listbox!$D$3,database!$A:$A,listbox!$B$3)","v":{"v":116083903,"d":"116,083,903"}},{"v":0.08200659308720847,"d":"8%"},null,null,"اداری(کارخانه)",{"v":0.05,"d":"5%"},{"v":0.2,"d":"20%"},{"v":0.08200659308720847,"d":"8%"},{"v":0.9179934069127915,"d":"92%"},{"v":0.15,"d":"15%"}]
[null,null,"توزیع و فروش",{"$f":"COUNTIFS(database!$F:$F,$C$3,database!$J:$J,calc!C22,database!$B:$B,listbox!$D$3,database!$A:$A,listbox!$B$3)","v":0},{"v":0,"d":"0%"},{"$f":"SUMIFS(database!$W:$W,database!$F:$F,calc!$C$3,database!$J:$J,calc!C22,database!$B:$B,listbox!$D$3,database!$A:$A,listbox!$B$3)","v":0},{"v":0,"d":"0%"},null,null,"توزیع و فروش",{"v":0.05,"d":"5%"},{"v":0.2,"d":"20%"},{"v":0,"d":"0%"},{"v":1,"d":"100%"},{"v":0.15,"d":"15%"}]
[null,null,"جمع",{"$f":"SUM(D5:D22)","v":14},{"$f":"SUM(E5:E22)","v":{"v":0.9999999999999998,"d":"100%"}},{"$f":"SUM(F5:F22)","v":{"v":1415543539,"d":"1,415,543,539"}},{"$f":"SUM(G5:G22)","v":{"v":1,"d":"100%"}}]
[]
[]
[null,null,"تهران"]
[null,null,"مرکز هزینه","تعداد نفرات","درصد (تعداد نفرات)","جمع پرداختی","درصد(جمع پرداختی)",null,null,"مرکز هزینه","درپوش پایین","لیبل","مقدار واقعی","ترنسپرنت","درپوش بالا"]
[null,null,"آشپزخانه(دفتر مرکزی)",{"$f":"COUNTIFS(database!$F:$F,$C$26,database!$J:$J,calc!C28,database!$B:$B,listbox!$D$3,database!$A:$A,listbox!$B$3)","v":0},{"$f":"D28/$D$36","v":{"v":0,"d":"0%"}},{"$f":"SUMIFS(database!$W:$W,database!$F:$F,calc!$C$26,database!$J:$J,calc!C28,database!$B:$B,listbox!$D$3,database!$A:$A,listbox!$B$3)","v":0},{"$f":"F28/$F$36","v":{"v":0,"d":"0%"}},null,null,{"$f":"C28","v":"آشپزخانه(دفتر مرکزی)"},{"v":0.05,"d":"5%"},{"v":0.2,"d":"20%"},{"$f":"G28","v":{"v":0,"d":"0%"}},{"$f":"1-M28","v":{"v":1,"d":"100%"}},{"v":0.15,"d":"15%"}]
[null,null,"تدارکات(دفتر مرکزی)",{"$f":"COUNTIFS(database!$F:$F,$C$26,database!$J:$J,calc!C29,database!$B:$B,listbox!$D$3,database!$A:$A,listbox!$B$3)","v":1},{"v":0.25,"d":"25%"},{"$f":"SUMIFS(database!$W:$W,database!$F:$F,calc!$C$26,database!$J:$J,calc!C29,database!$B:$B,listbox!$D$3,database!$A:$A,listbox!$B$3)","v":{"v":99922769,"d":"99,922,769"}},{"v":0.21112582398618068,"d":"21%"},null,null,"تدارکات(دفتر مرکزی)",{"v":0.05,"d":"5%"},{"v":0.2,"d":"20%"},{"v":0.21112582398618068,"d":"21%"},{"$f":"1-M29","v":{"v":0.7888741760138194,"d":"79%"}},{"v":0.15,"d":"15%"}]
[null,null,"بازرگانی(دفتر مرکزی)",{"$f":"COUNTIFS(database!$F:$F,$C$26,database!$J:$J,calc!C30,database!$B:$B,listbox!$D$3,database!$A:$A,listbox!$B$3)","v":0},{"v":0,"d":"0%"},{"$f":"SUMIFS(database!$W:$W,database!$F:$F,calc!$C$26,database!$J:$J,calc!C30,database!$B:$B,listbox!$D$3,database!$A:$A,listbox!$B$3)","v":0},{"v":0,"d":"0%"},null,null,"بازرگانی(دفتر مرکزی)",{"v":0.05,"d":"5%"},{"v":0.2,"d":"20%"},{"v":0,"d":"0%"},{"v":1,"d":"100%"},{"v":0.15,"d":"15%"}]
[null,null,"فنی(دفتر مرکزی)",{"$f":"COUNTIFS(database!$F:$F,$C$26,database!$J:$J,calc!C31,database!$B:$B,listbox!$D$3,database!$A:$A,listbox!$B$3)","v":0},{"v":0,"d":"0%"},{"$f":"SUMIFS(database!$W:$W,database!$F:$F,calc!$C$26,database!$J:$J,calc!C31,database!$B:$B,listbox!$D$3,database!$A:$A,listbox!$B$3)","v":0},{"v":0,"d":"0%"},null,null,"فنی(دفتر مرکزی)",{"v":0.05,"d":"5%"},{"v":0.2,"d":"20%"},{"v":0,"d":"0%"},{"v":1,"d":"100%"},{"v":0.15,"d":"15%"}]
[null,null,"مدیریت عامل(دفتر مرکزی)",{"$f":"COUNTIFS(database!$F:$F,$C$26,database!$J:$J,calc!C32,database!$B:$B,listbox!$D$3,database!$A:$A,listbox!$B$3)","v":1},{"v":0.25,"d":"25%"},{"$f":"SUMIFS(database!$W:$W,database!$F:$F,calc!$C$26,database!$J:$J,calc!C32,database!$B:$B,listbox!$D$3,database!$A:$A,listbox!$B$3)","v":{"v":159695841,"d":"159,695,841"}},{"v":0.3374197528322208,"d":"34%"},null,null,"مدیریت عامل(دفتر مرکزی)",{"v":0.05,"d":"5%"},{"v":0.2,"d":"20%"},{"v":0.3374197528322208,"d":"34%"},{"v":0.6625802471677792,"d":"66%"},{"v":0.15,"d":"15%"}]
[null,null,"هیئت مدیره(دفترمرکزی)",{"$f":"COUNTIFS(database!$F:$F,$C$26,database!$J:$J,calc!C33,database!$B:$B,listbox!$D$3,database!$A:$A,listbox!$B$3)","v":0},{"v":0,"d":"0%"},{"$f":"SUMIFS(database!$W:$W,database!$F:$F,calc!$C$26,database!$J:$J,calc!C33,database!$B:$B,listbox!$D$3,database!$A:$A,listbox!$B$3)","v":0},{"v":0,"d":"0%"},null,null,"هیئت مدیره(دفترمرکزی)",{"v":0.05,"d":"5%"},{"v":0.2,"d":"20%"},{"v":0,"d":"0%"},{"v":1,"d":"100%"},{"v":0.15,"d":"15%"}]
[null,null,"مالی (دفتر مرکزی)",{"$f":"COUNTIFS(database!$F:$F,$C$26,database!$J:$J,calc!C34,database!$B:$B,listbox!$D$3,database!$A:$A,listbox!$B$3)","v":1},{"v":0.25,"d":"25%"},{"$f":"SUMIFS(database!$W:$W,database!$F:$F,calc!$C$26,database!$J:$J,calc!C34,database!$B:$B,listbox!$D$3,database!$A:$A,listbox!$B$3)","v":{"v":125187267,"d":"125,187,267"}},{"v":0.2645069303268908,"d":"26%"},null,null,"مالی (دفتر مرکزی)",{"v":0.05,"d":"5%"},{"v":0.2,"d":"20%"},{"v":0.2645069303268908,"d":"26%"},{"v":0.7354930696731092,"d":"74%"},{"v":0.15,"d":"15%"}]
[null,null,"اداری (دفتر مرکزی)",{"$f":"COUNTIFS(database!$F:$F,$C$26,database!$J:$J,calc!C35,database!$B:$B,listbox!$D$3,database!$A:$A,listbox!$B$3)","v":1},{"v":0.25,"d":"25%"},{"$f":"SUMIFS(database!$W:$W,database!$F:$F,calc!$C$26,database!$J:$J,calc!C35,database!$B:$B,listbox!$D$3,database!$A:$A,listbox!$B$3)","v":{"v":88479518,"d":"88,479,518"}},{"v":0.1869474928547077,"d":"19%"},null,null,"اداری (دفتر مرکزی)",{"v":0.05,"d":"5%"},{"v":0.2,"d":"20%"},{"v":0.1869474928547077,"d":"19%"},{"v":0.8130525071452923,"d":"81%"},{"v":0.15,"d":"15%"}]
[null,null,"جمع",{"$f":"SUM(D28:D35)","v":4},{"$f":"SUM(E28:E35)","v":{"v":1,"d":"100%"}},{"$f":"SUM(F28:F35)","v":{"v":473285395,"d":"473,285,395"}},{"$f":"SUM(G28:G35)","v":{"v":1,"d":"100%"}}]
[]
[]
[null,null,"کل"]
[null,null,"مرکز هزینه","تعداد نفرات","درصد (تعداد نفرات)","جمع پرداختی","درصد(جمع پرداختی)",null,null,"شهر","درپوش پایین","لیبل","مقدار واقعی","ترنسپرنت","درپوش بالا"]
[null,null,"بندرعباس",{"$f":"COUNTIFS(database!$F:$F,calc!C41,database!$B:$B,listbox!$D$3,database!$A:$A,listbox!$B$3)","v":14},{"$f":"D41/$D$43","v":{"v":0.7777777777777778,"d":"78%"}},{"$f":"$F$23","v":{"v":1415543539,"d":"1,415,543,539"}},{"$f":"F41/$F$43","v":{"v":0.7494291904996835,"d":"75%"}},null,null,{"$f":"C41","v":"بندرعباس"},{"v":0.05,"d":"5%"},{"v":0.2,"d":"20%"},{"$f":"G41","v":{"v":0.7494291904996835,"d":"75%"}},{"$f":"1-M41","v":{"v":0.2505708095003165,"d":"25%"}},{"v":0.15,"d":"15%"}]
[null,null,"تهران",{"$f":"COUNTIFS(database!$F:$F,calc!C42,database!$B:$B,listbox!$D$3,database!$A:$A,listbox!$B$3)","v":4},{"$f":"D42/$D$43","v":{"v":0.2222222222222222,"d":"22%"}},{"$f":"$F$36","v":{"v":473285395,"d":"473,285,395"}},{"$f":"F42/$F$43","v":{"v":0.25057080950031657,"d":"25%"}},null,null,{"$f":"C42","v":"تهران"},{"v":0.05,"d":"5%"},{"v":0.2,"d":"20%"},{"$f":"G42","v":{"v":0.25057080950031657,"d":"25%"}},{"$f":"1-M42","v":{"v":0.7494291904996835,"d":"75%"}},{"v":0.15,"d":"15%"}]
[null,null,"جمع",{"$f":"SUM(D41:D42)","v":18},{"$f":"SUM(E41:E42)","v":{"v":1,"d":"100%"}},{"$f":"SUM(F41:F42)","v":{"v":1888828934,"d":"1,888,828,934"}},{"$f":"SUM(G41:G42)","v":{"v":1,"d":"100%"}}]
[]
[]
[]
[null,null,"اضافه کاری:"]
[]
[null,null,"بندرعباس"]
[null,null,"مرکز هزینه","ساعت اضافه کاری","درصد","جمع پرداختی","درصد(جمع پرداختی)",null,null,"سرانه ساعت","درصد سرانه","سرانه پرداختی","درصد سرانه پرداختی"]
[null,null,"حراست (کارخانه)",{"$f":"SUMIFS(database!$L:$L,database!$F:$F,calc!$C$49,database!$J:$J,calc!C51,database!$B:$B,listbox!$D$3,database!$A:$A,listbox!$B$3)","v":387.87},{"$f":"D51/$D$69","v":{"v":0.6505157232704403,"d":"65%"}},{"$f":"SUMIFS(database!$M:$M,database!$F:$F,calc!$C$49,database!$J:$J,calc!C51,database!$B:$B,listbox!$D$3,database!$A:$A,listbox!$B$3)","v":{"v":114758523,"d":"114,758,523"}},{"$f":"F51/$F$69","v":{"v":0.45545218465020104,"d":"45.55%"}},null,null,{"$f":"IFERROR(test3[[#This Row],[ساعت اضافه کاری]]/D5,\"\")","v":{"v":129.29,"d":"129"}},{"$f":"IFERROR(J51/$J$69,\"\")","v":{"v":0.4515892420537897,"d":"45%"}},{"$f":"IFERROR(test3[[#This Row],[جمع پرداختی]]/D5,\"\")","v":{"v":38252841,"d":"38,252,841"}},{"$f":"IFERROR(L51/$L$69,\"\")","v":{"v":0.2612294302437337,"d":"26%"}}]
[null,null,"آشپزخانه (کارخانه)",{"$f":"SUMIFS(database!$L:$L,database!$F:$F,calc!$C$49,database!$J:$J,calc!C52,database!$B:$B,listbox!$D$3,database!$A:$A,listbox!$B$3)","v":26.23},{"$f":"D52/$D$69","v":{"v":0.0439916142557652,"d":"4%"}},{"$f":"SUMIFS(database!$M:$M,database!$F:$F,calc!$C$49,database!$J:$J,calc!C52,database!$B:$B,listbox!$D$3,database!$A:$A,listbox!$B$3)","v":{"v":8808001,"d":"8,808,001"}},{"$f":"F52/$F$69","v":{"v":0.03495708373530701,"d":"3.50%"}},null,null,{"$f":"IFERROR(test3[[#This Row],[ساعت اضافه کاری]]/D6,\"\")","v":{"v":26.23,"d":"26"}},{"$f":"IFERROR(J52/$J$69,\"\")","v":{"v":0.091617184771219,"d":"9%"}},{"$f":"IFERROR(test3[[#This Row],[جمع پرداختی]]/D6,\"\")","v":{"v":8808001,"d":"8,808,001"}},{"$f":"IFERROR(L52/$L$69,\"\")","v":{"v":0.06015001821214369,"d":"6%"}}]
[null,null,"تدارکات (کارخانه)",{"$f":"SUMIFS(database!$L:$L,database!$F:$F,calc!$C$49,database!$J:$J,calc!C53,database!$B:$B,listbox!$D$3,database!$A:$A,listbox!$B$3)","v":0},{"v":0,"d":"0%"},{"$f":"SUMIFS(database!$M:$M,database!$F:$F,calc!$C$49,database!$J:$J,calc!C53,database!$B:$B,listbox!$D$3,database!$A:$A,listbox!$B$3)","v":0},{"v":0,"d":"0%"},null,null,{"$f":"IFERROR(test3[[#This Row],[ساعت اضافه کاری]]/D7,\"\")","v":""},"",{"$f":"IFERROR(test3[[#This Row],[جمع پرداختی]]/D7,\"\")","v":""},""]
[null,null,"انبار (کارخانه)",{"$f":"SUMIFS(database!$L:$L,database!$F:$F,calc!$C$49,database!$J:$J,calc!C54,database!$B:$B,listbox!$D$3,database!$A:$A,listbox!$B$3)","v":26.88},{"v":0.04508176100628931,"d":"5%"},{"$f":"SUMIFS(database!$M:$M,database!$F:$F,calc!$C$49,database!$J:$J,calc!C54,database!$B:$B,listbox!$D$3,database!$A:$A,listbox!$B$3)","v":{"v":7698409,"d":"7,698,409"}},{"v":0.03055334894281246,"d":"3.06%"},null,null,{"$f":"IFERROR(test3[[#This Row],[ساعت اضافه کاری]]/D8,\"\")","v":{"v":26.88,"d":"27"}},{"v":0.09388753056234718,"d":"9%"},{"$f":"IFERROR(test3[[#This Row],[جمع پرداختی]]/D8,\"\")","v":{"v":7698409,"d":"7,698,409"}},{"v":0.05257259184626919,"d":"5%"}]
[null,null,"تاسیسات (کارخانه)",{"$f":"SUMIFS(database!$L:$L,database!$F:$F,calc!$C$49,database!$J:$J,calc!C55,database!$B:$B,listbox!$D$3,database!$A:$A,listbox!$B$3)","v":0},{"v":0,"d":"0%"},{"$f":"SUMIFS(database!$M:$M,database!$F:$F,calc!$C$49,database!$J:$J,calc!C55,database!$B:$B,listbox!$D$3,database!$A:$A,listbox!$B$3)","v":0},{"v":0,"d":"0%"},null,null,{"$f":"IFERROR(test3[[#This Row],[ساعت اضافه کاری]]/D9,\"\")","v":""},"",{"$f":"IFERROR(test3[[#This Row],[جمع پرداختی]]/D9,\"\")","v":""},""]
[null,null,"فنی تولید (کارخانه)",{"$f":"SUMIFS(database!$L:$L,database!$F:$F,calc!$C$49,database!$J:$J,calc!C56,database!$B:$B,listbox!$D$3,database!$A:$A,listbox!$B$3)","v":0},{"v":0,"d":"0%"},{"$f":"SUMIFS(database!$M:$M,database!$F:$F,calc!$C$49,database!$J:$J,calc!C56,database!$B:$B,listbox!$D$3,database!$A:$A,listbox!$B$3)","v":{"v":18648570,"d":"18,648,570"}},{"v":0.07401221037937374,"d":"7.40%"},null,null,{"$f":"IFERROR(test3[[#This Row],[ساعت اضافه کاری]]/D10,\"\")","v":0},{"v":0,"d":"0%"},{"$f":"IFERROR(test3[[#This Row],[جمع پرداختی]]/D10,\"\")","v":{"v":18648570,"d":"18,648,570"}},{"v":0.12735146432549638,"d":"13%"}]
[null,null,"تعمیر و نگهداری(کارخانه)",{"$f":"SUMIFS(database!$L:$L,database!$F:$F,calc!$C$49,database!$J:$J,calc!C57,database!$B:$B,listbox!$D$3,database!$A:$A,listbox!$B$3)","v":26.18},{"v":0.04390775681341719,"d":"4%"},{"$f":"SUMIFS(database!$M:$M,database!$F:$F,calc!$C$49,database!$J:$J,calc!C57,database!$B:$B,listbox!$D$3,database!$A:$A,listbox!$B$3)","v":{"v":11219691,"d":"11,219,691"}},{"v":0.044528568715111454,"d":"4.45%"},null,null,{"$f":"IFERROR(test3[[#This Row],[ساعت اضافه کاری]]/D11,\"\")","v":{"v":26.18,"d":"26"}},{"v":0.09144254278728606,"d":"9%"},{"$f":"IFERROR(test3[[#This Row],[جمع پرداختی]]/D11,\"\")","v":{"v":11219691,"d":"11,219,691"}},{"v":0.07661949833845666,"d":"8%"}]
[null,null,"QC و کنترل کیفیت (کارخانه)",{"$f":"SUMIFS(database!$L:$L,database!$F:$F,calc!$C$49,database!$J:$J,calc!C58,database!$B:$B,listbox!$D$3,database!$A:$A,listbox!$B$3)","v":0},{"v":0,"d":"0%"},{"$f":"SUMIFS(database!$M:$M,database!$F:$F,calc!$C$49,database!$J:$J,calc!C58,database!$B:$B,listbox!$D$3,database!$A:$A,listbox!$B$3)","v":0},{"v":0,"d":"0%"},null,null,{"$f":"IFERROR(test3[[#This Row],[ساعت اضافه کاری]]/D12,\"\")","v":""},"",{"$f":"IFERROR(test3[[#This Row],[جمع پرداختی]]/D12,\"\")","v":""},""]
[null,null,"حمل مواد اولیه (کارخانه)",{"$f":"SUMIFS(database!$L:$L,database!$F:$F,calc!$C$49,database!$J:$J,calc!C59,database!$B:$B,listbox!$D$3,database!$A:$A,listbox!$B$3)","v":5.18},{"v":0.008687631027253668,"d":"1%"},{"$f":"SUMIFS(database!$M:$M,database!$F:$F,calc!$C$49,database!$J:$J,calc!C59,database!$B:$B,listbox!$D$3,database!$A:$A,listbox!$B$3)","v":{"v":2396036,"d":"2,396,036"}},{"v":0.009509357581227574,"d":"1%"},null,null,{"$f":"IFERROR(test3[[#This Row],[ساعت اضافه کاری]]/D13,\"\")","v":{"v":5.18,"d":"5"}},{"v":0.018092909535452322,"d":"2%"},{"$f":"IFERROR(test3[[#This Row],[جمع پرداختی]]/D13,\"\")","v":{"v":2396036,"d":"2,396,036"}},{"v":0.016362578641504685,"d":"2%"}]
[null,null,"حمل محصولات و سایر (کارخانه)",{"$f":"SUMIFS(database!$L:$L,database!$F:$F,calc!$C$49,database!$J:$J,calc!C60,database!$B:$B,listbox!$D$3,database!$A:$A,listbox!$B$3)","v":0},{"v":0,"d":"0%"},{"$f":"SUMIFS(database!$M:$M,database!$F:$F,calc!$C$49,database!$J:$J,calc!C60,database!$B:$B,listbox!$D$3,database!$A:$A,listbox!$B$3)","v":0},{"v":0,"d":"0%"},null,null,{"$f":"IFERROR(test3[[#This Row],[ساعت اضافه کاری]]/D14,\"\")","v":""},"",{"$f":"IFERROR(test3[[#This Row],[جمع پرداختی]]/D14,\"\")","v":""},""]
[null,null,"قالب سازی(کارخانه)",{"$f":"SUMIFS(database!$L:$L,database!$F:$F,calc!$C$49,database!$J:$J,calc!C61,database!$B:$B,listbox!$D$3,database!$A:$A,listbox!$B$3)","v":0},{"v":0,"d":"0%"},{"$f":"SUMIFS(database!$M:$M,database!$F:$F,calc!$C$49,database!$J:$J,calc!C61,database!$B:$B,listbox!$D$3,database!$A:$A,listbox!$B$3)","v":0},{"v":0,"d":"0%"},null,null,{"$f":"IFERROR(test3[[#This Row],[ساعت اضافه کاری]]/D15,\"\")","v":""},"",{"$f":"IFERROR(test3[[#This Row],[جمع پرداختی]]/D15,\"\")","v":""},""]
[null,null,"بتن سازی(کارخانه)",{"$f":"SUMIFS(database!$L:$L,database!$F:$F,calc!$C$49,database!$J:$J,calc!C62,database!$B:$B,listbox!$D$3,database!$A:$A,listbox!$B$3)","v":37},{"v":0.0620545073375262,"d":"6%"},{"$f":"SUMIFS(database!$M:$M,database!$F:$F,calc!$C$49,database!$J:$J,calc!C62,database!$B:$B,listbox!$D$3,database!$A:$A,listbox!$B$3)","v":{"v":28149088,"d":"28,149,088"}},{"v":0.11171774688587408,"d":"11.17%"},null,null,{"$f":"IFERROR(test3[[#This Row],[ساعت اضافه کاری]]/D16,\"\")","v":{"v":18.5,"d":"19"}},{"v":0.06461753405518686,"d":"6%"},{"$f":"IFERROR(test3[[#This Row],[جمع پرداختی]]/D16,\"\")","v":{"v":14074544,"d":"14,074,544"}},{"v":0.09611534761719687,"d":"10%"}]
[null,null,"بتن ریزی(کارخانه)",{"$f":"SUMIFS(database!$L:$L,database!$F:$F,calc!$C$49,database!$J:$J,calc!C63,database!$B:$B,listbox!$D$3,database!$A:$A,listbox!$B$3)","v":65.74},{"v":0.11025576519916142,"d":"11%"},{"$f":"SUMIFS(database!$M:$M,database!$F:$F,calc!$C$49,database!$J:$J,calc!C63,database!$B:$B,listbox!$D$3,database!$A:$A,listbox!$B$3)","v":{"v":29904027,"d":"29,904,027"}},{"v":0.11868272674604392,"d":"11.87%"},null,null,{"$f":"IFERROR(test3[[#This Row],[ساعت اضافه کاری]]/D17,\"\")","v":{"v":32.87,"d":"33"}},{"v":0.11480964023751308,"d":"11%"},{"$f":"IFERROR(test3[[#This Row],[جمع پرداختی]]/D17,\"\")","v":{"v":14952013.5,"d":"14,952,014"}},{"v":0.10210760470318048,"d":"10%"}]
[null,null,"آرماتور، میلگرد (کارخانه)",{"$f":"SUMIFS(database!$L:$L,database!$F:$F,calc!$C$49,database!$J:$J,calc!C64,database!$B:$B,listbox!$D$3,database!$A:$A,listbox!$B$3)","v":21.17},{"v":0.03550524109014675,"d":"4%"},{"$f":"SUMIFS(database!$M:$M,database!$F:$F,calc!$C$49,database!$J:$J,calc!C64,database!$B:$B,listbox!$D$3,database!$A:$A,listbox!$B$3)","v":{"v":6939191,"d":"6,939,191"}},{"v":0.02754017408062156,"d":"2.75%"},null,null,{"$f":"IFERROR(test3[[#This Row],[ساعت اضافه کاری]]/D18,\"\")","v":{"v":21.17,"d":"21"}},{"v":0.07394341599720573,"d":"7%"},{"$f":"IFERROR(test3[[#This Row],[جمع پرداختی]]/D18,\"\")","v":{"v":6939191,"d":"6,939,191"}},{"v":0.047387876662087526,"d":"5%"}]
[null,null,"کیورینگ(کارخانه)",{"$f":"SUMIFS(database!$L:$L,database!$F:$F,calc!$C$49,database!$J:$J,calc!C65,database!$B:$B,listbox!$D$3,database!$A:$A,listbox!$B$3)","v":0},{"v":0,"d":"0%"},{"$f":"SUMIFS(database!$M:$M,database!$F:$F,calc!$C$49,database!$J:$J,calc!C65,database!$B:$B,listbox!$D$3,database!$A:$A,listbox!$B$3)","v":0},{"v":0,"d":"0%"},null,null,{"$f":"IFERROR(test3[[#This Row],[ساعت اضافه کاری]]/D19,\"\")","v":""},"",{"$f":"IFERROR(test3[[#This Row],[جمع پرداختی]]/D19,\"\")","v":""},""]
[null,null,"مدیریت(کارخانه)",{"$f":"SUMIFS(database!$L:$L,database!$F:$F,calc!$C$49,database!$J:$J,calc!C66,database!$B:$B,listbox!$D$3,database!$A:$A,listbox!$B$3)","v":0},{"v":0,"d":"0%"},{"$f":"SUMIFS(database!$M:$M,database!$F:$F,calc!$C$49,database!$J:$J,calc!C66,database!$B:$B,listbox!$D$3,database!$A:$A,listbox!$B$3)","v":0},{"v":0,"d":"0%"},null,null,{"$f":"IFERROR(test3[[#This Row],[ساعت اضافه کاری]]/D20,\"\")","v":""},"",{"$f":"IFERROR(test3[[#This Row],[جمع پرداختی]]/D20,\"\")","v":""},""]
[null,null,"اداری(کارخانه)",{"$f":"SUMIFS(database!$L:$L,database!$F:$F,calc!$C$49,database!$J:$J,calc!C67,database!$B:$B,listbox!$D$3,database!$A:$A,listbox!$B$3)","v":0},{"$f":"D67/$D$69","v":{"v":0,"d":"0%"}},{"$f":"SUMIFS(database!$M:$M,database!$F:$F,calc!$C$49,database!$J:$J,calc!C67,database!$B:$B,listbox!$D$3,database!$A:$A,listbox!$B$3)","v":{"v":23444591,"d":"23,444,591"}},{"$f":"F67/$F$69","v":{"v":0.0930465982834272,"d":"9.30%"}},null,null,{"$f":"IFERROR(test3[[#This Row],[ساعت اضافه کاری]]/D21,\"\")","v":0},{"v":0,"d":"0%"},{"$f":"IFERROR(test3[[#This Row],[جمع پرداختی]]/D21,\"\")","v":{"v":23444591,"d":"23,444,591"}},{"v":0.1601035894099308,"d":"16%"}]
[null,null,"توزیع و فروش",{"$f":"SUMIFS(database!$L:$L,database!$F:$F,calc!$C$49,database!$J:$J,calc!C68,database!$B:$B,listbox!$D$3,database!$A:$A,listbox!$B$3)","v":0},{"v":0,"d":"0%"},{"$f":"SUMIFS(database!$M:$M,database!$F:$F,calc!$C$49,database!$J:$J,calc!C68,database!$B:$B,listbox!$D$3,database!$A:$A,listbox!$B$3)","v":0},{"v":0,"d":"0%"},null,null,{"$f":"IFERROR(test3[[#This Row],[ساعت اضافه کاری]]/D22,\"\")","v":""},"",{"$f":"IFERROR(test3[[#This Row],[جمع پرداختی]]/D22,\"\")","v":""},""]
[null,null,"جمع",{"$f":"SUM(D51:D68)","v":596.25},{"$f":"SUM(E51:E68)","v":{"v":0.9999999999999999,"d":"100%"}},{"$f":"SUM(F51:F68)","v":{"v":251966127,"d":"251,966,127"}},{"$f":"SUM(G51:G68)","v":{"v":1.0000000000000002,"d":"100%"}},null,null,{"$f":"SUM(J51:J68)","v":{"v":286.3,"d":"286.30"}},{"$f":"SUM(K51:K68)","v":{"v":1,"d":"100%"}},{"$f":"SUM(L51:L68)","v":{"v":146433887.5,"d":"146,433,888"}},{"$f":"SUM(M51:M68)","v":{"v":1,"d":"100%"}}]
[]
[]
[null,null,"تهران"]
[null,null,"مرکز هزینه","ساعت اضافه کاری","درصد","جمع پرداختی","درصد(جمع پرداختی)",null,null,"سرانه ساعت","درصد سرانه","سرانه پرداختی","درصد سرانه پرداختی"]
[null,null,"آشپزخانه(دفتر مرکزی)",{"$f":"SUMIFS(database!$L:$L,database!$F:$F,calc!$C$72,database!$J:$J,calc!C74,database!$B:$B,listbox!$D$3,database!$A:$A,listbox!$B$3)","v":0},{"$f":"D74/$D$82","v":{"v":0,"d":"0%"}},{"$f":"SUMIFS(database!$M:$M,database!$F:$F,calc!$C$72,database!$J:$J,calc!C74,database!$B:$B,listbox!$D$3,database!$A:$A,listbox!$B$3)","v":0},{"$f":"F74/$F$82","v":{"v":0,"d":"0%"}},null,null,{"$f":"IFERROR(test4[[#This Row],[ساعت اضافه کاری]]/D28,\"\")","v":""},{"$f":"IFERROR(J74/$J$82,\"\")","v":""},{"$f":"IFERROR(test4[[#This Row],[جمع پرداختی]]/D28,\"\")","v":""},{"$f":"IFERROR(L74/$L$82,\"\")","v":""}]
[null,null,"تدارکات(دفتر مرکزی)",{"$f":"SUMIFS(database!$L:$L,database!$F:$F,calc!$C$72,database!$J:$J,calc!C75,database!$B:$B,listbox!$D$3,database!$A:$A,listbox!$B$3)","v":25},{"$f":"D75/$D$82","v":{"v":0.3411572052401747,"d":"34%"}},{"$f":"SUMIFS(database!$M:$M,database!$F:$F,calc!$C$72,database!$J:$J,calc!C75,database!$B:$B,listbox!$D$3,database!$A:$A,listbox!$B$3)","v":{"v":10652340,"d":"10,652,340"}},{"$f":"F75/$F$82","v":{"v":0.2804901743757443,"d":"28%"}},null,null,{"$f":"IFERROR(test4[[#This Row],[ساعت اضافه کاری]]/D29,\"\")","v":25},{"$f":"IFERROR(J75/$J$82,\"\")","v":{"v":0.3411572052401747,"d":"34%"}},{"$f":"IFERROR(test4[[#This Row],[جمع پرداختی]]/D29,\"\")","v":{"v":10652340,"d":"10,652,340"}},{"$f":"IFERROR(L75/$L$82,\"\")","v":{"v":0.2804901743757443,"d":"28%"}}]
[null,null,"بازرگانی(دفتر مرکزی)",{"$f":"SUMIFS(database!$L:$L,database!$F:$F,calc!$C$72,database!$J:$J,calc!C76,database!$B:$B,listbox!$D$3,database!$A:$A,listbox!$B$3)","v":0},{"v":0,"d":"0%"},{"$f":"SUMIFS(database!$M:$M,database!$F:$F,calc!$C$72,database!$J:$J,calc!C76,database!$B:$B,listbox!$D$3,database!$A:$A,listbox!$B$3)","v":0},{"v":0,"d":"0%"},null,null,{"$f":"IFERROR(test4[[#This Row],[ساعت اضافه کاری]]/D30,\"\")","v":""},"",{"$f":"IFERROR(test4[[#This Row],[جمع پرداختی]]/D30,\"\")","v":""},""]
[null,null,"فنی(دفتر مرکزی)",{"$f":"SUMIFS(database!$L:$L,database!$F:$F,calc!$C$72,database!$J:$J,calc!C77,database!$B:$B,listbox!$D$3,database!$A:$A,listbox!$B$3)","v":0},{"v":0,"d":"0%"},{"$f":"SUMIFS(database!$M:$M,database!$F:$F,calc!$C$72,database!$J:$J,calc!C77,database!$B:$B,listbox!$D$3,database!$A:$A,listbox!$B$3)","v":0},{"v":0,"d":"0%"},null,null,{"$f":"IFERROR(test4[[#This Row],[ساعت اضافه کاری]]/D31,\"\")","v":""},"",{"$f":"IFERROR(test4[[#This Row],[جمع پرداختی]]/D31,\"\")","v":""},""]
[null,null,"مدیریت عامل(دفتر مرکزی)",{"$f":"SUMIFS(database!$L:$L,database!$F:$F,calc!$C$72,database!$J:$J,calc!C78,database!$B:$B,listbox!$D$3,database!$A:$A,listbox!$B$3)","v":0},{"v":0,"d":"0%"},{"$f":"SUMIFS(database!$M:$M,database!$F:$F,calc!$C$72,database!$J:$J,calc!C78,database!$B:$B,listbox!$D$3,database!$A:$A,listbox!$B$3)","v":0},{"v":0,"d":"0%"},null,null,{"$f":"IFERROR(test4[[#This Row],[ساعت اضافه کاری]]/D32,\"\")","v":0},{"v":0,"d":"0%"},{"$f":"IFERROR(test4[[#This Row],[جمع پرداختی]]/D32,\"\")","v":0},{"v":0,"d":"0%"}]
[null,null,"هیئت مدیره(دفترمرکزی)",{"$f":"SUMIFS(database!$L:$L,database!$F:$F,calc!$C$72,database!$J:$J,calc!C79,database!$B:$B,listbox!$D$3,database!$A:$A,listbox!$B$3)","v":0},{"v":0,"d":"0%"},{"$f":"SUMIFS(database!$M:$M,database!$F:$F,calc!$C$72,database!$J:$J,calc!C79,database!$B:$B,listbox!$D$3,database!$A:$A,listbox!$B$3)","v":0},{"v":0,"d":"0%"},null,null,{"$f":"IFERROR(test4[[#This Row],[ساعت اضافه کاری]]/D33,\"\")","v":""},"",{"$f":"IFERROR(test4[[#This Row],[جمع پرداختی]]/D33,\"\")","v":""},""]
[null,null,"مالی (دفتر مرکزی)",{"$f":"SUMIFS(database!$L:$L,database!$F:$F,calc!$C$72,database!$J:$J,calc!C80,database!$B:$B,listbox!$D$3,database!$A:$A,listbox!$B$3)","v":34.38},{"v":0.46915938864628826,"d":"47%"},{"$f":"SUMIFS(database!$M:$M,database!$F:$F,calc!$C$72,database!$J:$J,calc!C80,database!$B:$B,listbox!$D$3,database!$A:$A,listbox!$B$3)","v":{"v":21044974,"d":"21,044,974"}},{"v":0.5541419469330687,"d":"55%"},null,null,{"$f":"IFERROR(test4[[#This Row],[ساعت اضافه کاری]]/D34,\"\")","v":{"v":34.38,"d":"34"}},{"v":0.46915938864628826,"d":"47%"},{"$f":"IFERROR(test4[[#This Row],[جمع پرداختی]]/D34,\"\")","v":{"v":21044974,"d":"21,044,974"}},{"v":0.5541419469330687,"d":"55%"}]
[null,null,"اداری (دفتر مرکزی)",{"$f":"SUMIFS(database!$L:$L,database!$F:$F,calc!$C$72,database!$J:$J,calc!C81,database!$B:$B,listbox!$D$3,database!$A:$A,listbox!$B$3)","v":13.9},{"v":0.18968340611353712,"d":"19%"},{"$f":"SUMIFS(database!$M:$M,database!$F:$F,calc!$C$72,database!$J:$J,calc!C81,database!$B:$B,listbox!$D$3,database!$A:$A,listbox!$B$3)","v":{"v":6280273,"d":"6,280,273"}},{"v":0.165367878691187,"d":"17%"},null,null,{"$f":"IFERROR(test4[[#This Row],[ساعت اضافه کاری]]/D35,\"\")","v":{"v":13.9,"d":"14"}},{"v":0.18968340611353712,"d":"19%"},{"$f":"IFERROR(test4[[#This Row],[جمع پرداختی]]/D35,\"\")","v":{"v":6280273,"d":"6,280,273"}},{"v":0.165367878691187,"d":"17%"}]
[null,null,"جمع",{"$f":"SUM(D74:D81)","v":73.28},{"$f":"SUM(E74:E81)","v":{"v":1,"d":"100%"}},{"$f":"SUM(F74:F81)","v":{"v":37977587,"d":"37,977,587"}},{"$f":"SUM(G74:G81)","v":{"v":1,"d":"100%"}},null,null,{"$f":"SUM(J74:J81)","v":73.28},{"$f":"SUM(K74:K81)","v":{"v":1,"d":"100%"}},{"$f":"SUM(L74:L81)","v":{"v":37977587,"d":"37,977,587"}},{"$f":"SUM(M74:M81)","v":{"v":1,"d":"100%"}}]
[]
[]
[null,null,"کل"]
[null,null,"مرکز هزینه","ساعت اضافه کاری","درصد","جمع پرداختی","درصد(جمع پرداختی)"]
[null,null,"بندرعباس",{"$f":"SUMIFS(database!$L:$L,database!$F:$F,calc!C87,database!$B:$B,listbox!$D$3,database!$A:$A,listbox!$B$3)","v":596.2500000000001},{"$f":"D87/$D$89","v":{"v":0.8905500873747256,"d":"89%"}},{"$f":"SUMIFS(database!$M:$M,database!$F:$F,calc!C87,database!$B:$B,listbox!$D$3,database!$A:$A,listbox!$B$3)","v":{"v":251966127,"d":"251,966,127"}},{"$f":"F87/$F$89","v":{"v":0.8690173810769355,"d":"87%"}}]
[null,null,"تهران",{"$f":"SUMIFS(database!$L:$L,database!$F:$F,calc!C88,database!$B:$B,listbox!$D$3,database!$A:$A,listbox!$B$3)","v":73.28},{"$f":"D88/$D$89","v":{"v":0.10944991262527444,"d":"11%"}},{"$f":"SUMIFS(database!$M:$M,database!$F:$F,calc!C88,database!$B:$B,listbox!$D$3,database!$A:$A,listbox!$B$3)","v":{"v":37977587,"d":"37,977,587"}},{"$f":"F88/$F$89","v":{"v":0.1309826189230645,"d":"13%"}}]
[null,null,"جمع",{"$f":"SUM(D87:D88)","v":{"v":669.5300000000001,"d":"669.53"}},{"$f":"SUM(E87:E88)","v":{"v":1,"d":"100%"}},{"$f":"SUM(F87:F88)","v":{"v":289943714,"d":"289,943,714"}},{"$f":"SUM(G87:G88)","v":{"v":1,"d":"100%"}}]
[]
[]
[]
[null,null,"جمعه کاری:"]
[]
[null,null,"بندرعباس"]
[null,null,"مرکز هزینه","ساعت جمعه کاری","درصد","جمع پرداختی","درصد(جمع پرداختی)",null,null,"سرانه ساعت","درصد سرانه","سرانه پرداختی","درصد سرانه پرداختی"]
[null,null,"حراست (کارخانه)",{"$f":"SUMIFS(database!$N:$N,database!$F:$F,calc!$C$95,database!$J:$J,C97,database!$B:$B,listbox!$D$3,database!$A:$A,listbox!$B$3)","v":236.70999999999998},{"$f":"D97/$D$115","v":{"v":0.6708706495862147,"d":"67%"}},{"$f":"SUMIFS(database!$O:$O,database!$F:$F,$C$95,database!$J:$J,calc!C97,database!$B:$B,listbox!$D$3,database!$A:$A,listbox!$B$3)","v":{"v":46228609,"d":"46,228,609"}},{"$f":"F97/$F$115","v":{"v":0.8757636308953093,"d":"88%"}},null,null,{"$f":"IFERROR(D97/D5,\"\")","v":{"v":78.90333333333332,"d":"79"}},{"$f":"IFERROR(J97/$J$115,\"\")","v":{"v":0.47558390677582996,"d":"48%"}},{"$f":"IFERROR(F97/D5,\"\")","v":{"v":15409536.333333334,"d":"15,409,536"}},{"$f":"IFERROR(L97/$L$115,\"\")","v":{"v":0.7286528418375008,"d":"73%"}}]
[null,null,"آشپزخانه (کارخانه)",{"$f":"SUMIFS(database!$N:$N,database!$F:$F,calc!$C$95,database!$J:$J,C98,database!$B:$B,listbox!$D$3,database!$A:$A,listbox!$B$3)","v":16.73},{"v":0.04741525904092507,"d":"5%"},{"$f":"SUMIFS(database!$O:$O,database!$F:$F,$C$95,database!$J:$J,calc!C98,database!$B:$B,listbox!$D$3,database!$A:$A,listbox!$B$3)","v":{"v":1605234,"d":"1,605,234"}},{"v":0.030409860618488455,"d":"3%"},null,null,{"v":16.73,"d":"17"},{"$f":"IFERROR(J98/$J$115,\"\")","v":{"v":0.10083881661560098,"d":"10%"}},{"v":1605234,"d":"1,605,234"},{"$f":"IFERROR(L98/$L$115,\"\")","v":{"v":0.07590483520156395,"d":"8%"}}]
[null,null,"تدارکات (کارخانه)",{"$f":"SUMIFS(database!$N:$N,database!$F:$F,calc!$C$95,database!$J:$J,C99,database!$B:$B,listbox!$D$3,database!$A:$A,listbox!$B$3)","v":0},{"v":0,"d":"0%"},{"$f":"SUMIFS(database!$O:$O,database!$F:$F,$C$95,database!$J:$J,calc!C99,database!$B:$B,listbox!$D$3,database!$A:$A,listbox!$B$3)","v":0},{"v":0,"d":"0%"},null,null,"","","",""]
[null,null,"انبار (کارخانه)",{"$f":"SUMIFS(database!$N:$N,database!$F:$F,calc!$C$95,database!$J:$J,C100,database!$B:$B,listbox!$D$3,database!$A:$A,listbox!$B$3)","v":0},{"v":0,"d":"0%"},{"$f":"SUMIFS(database!$O:$O,database!$F:$F,$C$95,database!$J:$J,calc!C100,database!$B:$B,listbox!$D$3,database!$A:$A,listbox!$B$3)","v":0},{"v":0,"d":"0%"},null,null,0,{"v":0,"d":"0%"},0,{"v":0,"d":"0%"}]
[null,null,"تاسیسات (کارخانه)",{"$f":"SUMIFS(database!$N:$N,database!$F:$F,calc!$C$95,database!$J:$J,C101,database!$B:$B,listbox!$D$3,database!$A:$A,listbox!$B$3)","v":0},{"v":0,"d":"0%"},{"$f":"SUMIFS(database!$O:$O,database!$F:$F,$C$95,database!$J:$J,calc!C101,database!$B:$B,listbox!$D$3,database!$A:$A,listbox!$B$3)","v":0},{"v":0,"d":"0%"},null,null,"","","",""]
[null,null,"فنی تولید (کارخانه)",{"$f":"SUMIFS(database!$N:$N,database!$F:$F,calc!$C$95,database!$J:$J,C102,database!$B:$B,listbox!$D$3,database!$A:$A,listbox!$B$3)","v":27.4},{"v":0.07765559460378642,"d":"8%"},{"$f":"SUMIFS(database!$O:$O,database!$F:$F,$C$95,database!$J:$J,calc!C102,database!$B:$B,listbox!$D$3,database!$A:$A,listbox!$B$3)","v":0},{"v":0,"d":"0%"},null,null,{"v":27.4,"d":"27"},{"v":0.16515143904766688,"d":"17%"},0,{"v":0,"d":"0%"}]
[null,null,"تعمیر و نگهداری(کارخانه)",{"$f":"SUMIFS(database!$N:$N,database!$F:$F,calc!$C$95,database!$J:$J,C103,database!$B:$B,listbox!$D$3,database!$A:$A,listbox!$B$3)","v":0},{"v":0,"d":"0%"},{"$f":"SUMIFS(database!$O:$O,database!$F:$F,$C$95,database!$J:$J,calc!C103,database!$B:$B,listbox!$D$3,database!$A:$A,listbox!$B$3)","v":0},{"v":0,"d":"0%"},null,null,0,{"v":0,"d":"0%"},0,{"v":0,"d":"0%"}]
[null,null,"QC و کنترل کیفیت (کارخانه)",{"$f":"SUMIFS(database!$N:$N,database!$F:$F,calc!$C$95,database!$J:$J,C104,database!$B:$B,listbox!$D$3,database!$A:$A,listbox!$B$3)","v":0},{"v":0,"d":"0%"},{"$f":"SUMIFS(database!$O:$O,database!$F:$F,$C$95,database!$J:$J,calc!C104,database!$B:$B,listbox!$D$3,database!$A:$A,listbox!$B$3)","v":0},{"v":0,"d":"0%"},null,null,"","","",""]
[null,null,"حمل مواد اولیه (کارخانه)",{"$f":"SUMIFS(database!$N:$N,database!$F:$F,calc!$C$95,database!$J:$J,C105,database!$B:$B,listbox!$D$3,database!$A:$A,listbox!$B$3)","v":0},{"v":0,"d":"0%"},{"$f":"SUMIFS(database!$O:$O,database!$F:$F,$C$95,database!$J:$J,calc!C105,database!$B:$B,listbox!$D$3,database!$A:$A,listbox!$B$3)","v":0},{"v":0,"d":"0%"},null,null,0,{"v":0,"d":"0%"},0,{"v":0,"d":"0%"}]
[null,null,"حمل محصولات و سایر (کارخانه)",{"$f":"SUMIFS(database!$N:$N,database!$F:$F,calc!$C$95,database!$J:$J,C106,database!$B:$B,listbox!$D$3,database!$A:$A,listbox!$B$3)","v":0},{"v":0,"d":"0%"},{"$f":"SUMIFS(database!$O:$O,database!$F:$F,$C$95,database!$J:$J,calc!C106,database!$B:$B,listbox!$D$3,database!$A:$A,listbox!$B$3)","v":0},{"v":0,"d":"0%"},null,null,"","","",""]
[null,null,"قالب سازی(کارخانه)",{"$f":"SUMIFS(database!$N:$N,database!$F:$F,calc!$C$95,database!$J:$J,C107,database!$B:$B,listbox!$D$3,database!$A:$A,listbox!$B$3)","v":0},{"v":0,"d":"0%"},{"$f":"SUMIFS(database!$O:$O,database!$F:$F,$C$95,database!$J:$J,calc!C107,database!$B:$B,listbox!$D$3,database!$A:$A,listbox!$B$3)","v":0},{"v":0,"d":"0%"},null,null,"","","",""]
[null,null,"بتن سازی(کارخانه)",{"$f":"SUMIFS(database!$N:$N,database!$F:$F,calc!$C$95,database!$J:$J,C108,database!$B:$B,listbox!$D$3,database!$A:$A,listbox!$B$3)","v":50.089999999999996},{"v":0.14196236254392927,"d":"14%"},{"$f":"SUMIFS(database!$O:$O,database!$F:$F,$C$95,database!$J:$J,calc!C108,database!$B:$B,listbox!$D$3,database!$A:$A,listbox!$B$3)","v":{"v":587576,"d":"587,576"}},{"v":0.011131152382000986,"d":"1%"},null,null,{"v":25.044999999999998,"d":"25"},{"v":0.1509568536842634,"d":"15%"},{"v":293788,"d":"293,788"},{"v":0.013892011833911486,"d":"1%"}]
[null,null,"بتن ریزی(کارخانه)",{"$f":"SUMIFS(database!$N:$N,database!$F:$F,calc!$C$95,database!$J:$J,C109,database!$B:$B,listbox!$D$3,database!$A:$A,listbox!$B$3)","v":8.16},{"v":0.023126629633828368,"d":"2%"},{"$f":"SUMIFS(database!$O:$O,database!$F:$F,$C$95,database!$J:$J,calc!C109,database!$B:$B,listbox!$D$3,database!$A:$A,listbox!$B$3)","v":{"v":1051573,"d":"1,051,573"}},{"v":0.0199212004979746,"d":"2%"},null,null,{"v":4.08,"d":"4"},{"v":0.024591893113667187,"d":"2%"},{"v":525786.5,"d":"525,787"},{"v":0.02486225536819374,"d":"2%"}]
[null,null,"آرماتور، میلگرد (کارخانه)",{"$f":"SUMIFS(database!$N:$N,database!$F:$F,calc!$C$95,database!$J:$J,C110,database!$B:$B,listbox!$D$3,database!$A:$A,listbox!$B$3)","v":0},{"v":0,"d":"0%"},{"$f":"SUMIFS(database!$O:$O,database!$F:$F,$C$95,database!$J:$J,calc!C110,database!$B:$B,listbox!$D$3,database!$A:$A,listbox!$B$3)","v":0},{"v":0,"d":"0%"},null,null,0,{"v":0,"d":"0%"},0,{"v":0,"d":"0%"}]
[null,null,"کیورینگ(کارخانه)",{"$f":"SUMIFS(database!$N:$N,database!$F:$F,calc!$C$95,database!$J:$J,C111,database!$B:$B,listbox!$D$3,database!$A:$A,listbox!$B$3)","v":0},{"v":0,"d":"0%"},{"$f":"SUMIFS(database!$O:$O,database!$F:$F,$C$95,database!$J:$J,calc!C111,database!$B:$B,listbox!$D$3,database!$A:$A,listbox!$B$3)","v":0},{"v":0,"d":"0%"},null,null,"","","",""]
[null,null,"مدیریت(کارخانه)",{"$f":"SUMIFS(database!$N:$N,database!$F:$F,calc!$C$95,database!$J:$J,C112,database!$B:$B,listbox!$D$3,database!$A:$A,listbox!$B$3)","v":0},{"v":0,"d":"0%"},{"$f":"SUMIFS(database!$O:$O,database!$F:$F,$C$95,database!$J:$J,calc!C112,database!$B:$B,listbox!$D$3,database!$A:$A,listbox!$B$3)","v":0},{"v":0,"d":"0%"},null,null,"","","",""]
[null,null,"اداری(کارخانه)",{"$f":"SUMIFS(database!$N:$N,database!$F:$F,calc!$C$95,database!$J:$J,C113,database!$B:$B,listbox!$D$3,database!$A:$A,listbox!$B$3)","v":13.75},{"v":0.03896950459131618,"d":"4%"},{"$f":"SUMIFS(database!$O:$O,database!$F:$F,$C$95,database!$J:$J,calc!C113,database!$B:$B,listbox!$D$3,database!$A:$A,listbox!$B$3)","v":{"v":3313636,"d":"3,313,636"}},{"v":0.06277415560622664,"d":"6%"},null,null,{"v":13.75,"d":"14"},{"v":0.08287709076297152,"d":"8%"},{"v":3313636,"d":"3,313,636"},{"v":0.1566880557588299,"d":"16%"}]
[null,null,"توزیع و فروش",{"$f":"SUMIFS(database!$N:$N,database!$F:$F,calc!$C$95,database!$J:$J,C114,database!$B:$B,listbox!$D$3,database!$A:$A,listbox!$B$3)","v":0},{"v":0,"d":"0%"},{"$f":"SUMIFS(database!$O:$O,database!$F:$F,$C$95,database!$J:$J,calc!C114,database!$B:$B,listbox!$D$3,database!$A:$A,listbox!$B$3)","v":0},{"v":0,"d":"0%"},null,null,"","","",""]
[null,null,"جمع",{"$f":"SUM(D97:D114)","v":352.84},{"$f":"SUM(E97:E114)","v":{"v":1,"d":"100%"}},{"$f":"SUM(F97:F114)","v":{"v":52786628,"d":"52,786,628"}},{"$f":"SUM(G97:G114)","v":{"v":1,"d":"100%"}},null,null,{"$f":"SUM(J97:J114)","v":{"v":165.90833333333333,"d":"165.91"}},{"$f":"SUM(K97:K114)","v":{"v":1,"d":"100%"}},{"$f":"SUM(L97:L114)","v":{"v":21147980.833333336,"d":"21,147,981"}},{"$f":"SUM(M97:M114)","v":{"v":1,"d":"100%"}}]
[]
[]
[null,null,"تهران"]
[null,null,"مرکز هزینه","ساعت جمعه کاری","درصد","جمع پرداختی","درصد(جمع پرداختی)",null,null,"سرانه ساعت","درصد سرانه","سرانه پرداختی","درصد سرانه پرداختی"]
[null,null,"آشپزخانه(دفتر مرکزی)",{"$f":"SUMIFS(database!$N:$N,database!$F:$F,calc!$C$118,database!$J:$J,C120,database!$B:$B,listbox!$D$3,database!$A:$A,listbox!$B$3)","v":0},{"$f":"IFERROR(D120/$D$128,\"\")","v":""},{"$f":"SUMIFS(database!$O:$O,database!$F:$F,$C$118,database!$J:$J,calc!C120,database!$B:$B,listbox!$D$3,database!$A:$A,listbox!$B$3)","v":0},{"$f":"IFERROR(F120/$F$128,\"\")","v":""},null,null,{"$f":"IFERROR(D120/D28,\"\")","v":""},{"$f":"IFERROR(J120/$J$128,\"\")","v":""},{"$f":"IFERROR(F120/D28,\"\")","v":""},{"$f":"IFERROR(L120/$L$128,\"\")","v":""}]
[null,null,"تدارکات(دفتر مرکزی)",{"$f":"SUMIFS(database!$N:$N,database!$F:$F,calc!$C$118,database!$J:$J,C121,database!$B:$B,listbox!$D$3,database!$A:$A,listbox!$B$3)","v":0},{"$f":"IFERROR(D121/$D$128,\"\")","v":""},{"$f":"SUMIFS(database!$O:$O,database!$F:$F,$C$118,database!$J:$J,calc!C121,database!$B:$B,listbox!$D$3,database!$A:$A,listbox!$B$3)","v":0},{"$f":"IFERROR(F121/$F$128,\"\")","v":""},null,null,{"$f":"IFERROR(D121/D29,\"\")","v":0},{"$f":"IFERROR(J121/$J$128,\"\")","v":""},{"$f":"IFERROR(F121/D29,\"\")","v":0},{"$f":"IFERROR(L121/$L$128,\"\")","v":""}]
[null,null,"بازرگانی(دفتر مرکزی)",{"$f":"SUMIFS(database!$N:$N,database!$F:$F,calc!$C$118,database!$J:$J,C122,database!$B:$B,listbox!$D$3,database!$A:$A,listbox!$B$3)","v":0},"",{"$f":"SUMIFS(database!$O:$O,database!$F:$F,$C$118,database!$J:$J,calc!C122,database!$B:$B,listbox!$D$3,database!$A:$A,listbox!$B$3)","v":0},"",null,null,"","","",""]
[null,null,"فنی(دفتر مرکزی)",{"$f":"SUMIFS(database!$N:$N,database!$F:$F,calc!$C$118,database!$J:$J,C123,database!$B:$B,listbox!$D$3,database!$A:$A,listbox!$B$3)","v":0},"",{"$f":"SUMIFS(database!$O:$O,database!$F:$F,$C$118,database!$J:$J,calc!C123,database!$B:$B,listbox!$D$3,database!$A:$A,listbox!$B$3)","v":0},"",null,null,"","","",""]
[null,null,"مدیریت عامل(دفتر مرکزی)",{"$f":"SUMIFS(database!$N:$N,database!$F:$F,calc!$C$118,database!$J:$J,C124,database!$B:$B,listbox!$D$3,database!$A:$A,listbox!$B$3)","v":0},"",{"$f":"SUMIFS(database!$O:$O,database!$F:$F,$C$118,database!$J:$J,calc!C124,database!$B:$B,listbox!$D$3,database!$A:$A,listbox!$B$3)","v":0},"",null,null,0,"",0,""]
[null,null,"هیئت مدیره(دفترمرکزی)",{"$f":"SUMIFS(database!$N:$N,database!$F:$F,calc!$C$118,database!$J:$J,C125,database!$B:$B,listbox!$D$3,database!$A:$A,listbox!$B$3)","v":0},"",{"$f":"SUMIFS(database!$O:$O,database!$F:$F,$C$118,database!$J:$J,calc!C125,database!$B:$B,listbox!$D$3,database!$A:$A,listbox!$B$3)","v":0},"",null,null,"","","",""]
[null,null,"مالی (دفتر مرکزی)",{"$f":"SUMIFS(database!$N:$N,database!$F:$F,calc!$C$118,database!$J:$J,C126,database!$B:$B,listbox!$D$3,database!$A:$A,listbox!$B$3)","v":0},"",{"$f":"SUMIFS(database!$O:$O,database!$F:$F,$C$118,database!$J:$J,calc!C126,database!$B:$B,listbox!$D$3,database!$A:$A,listbox!$B$3)","v":0},"",null,null,0,"",0,""]
[null,null,"اداری (دفتر مرکزی)",{"$f":"SUMIFS(database!$N:$N,database!$F:$F,calc!$C$118,database!$J:$J,C127,database!$B:$B,listbox!$D$3,database!$A:$A,listbox!$B$3)","v":0},"",{"$f":"SUMIFS(database!$O:$O,database!$F:$F,$C$118,database!$J:$J,calc!C127,database!$B:$B,listbox!$D$3,database!$A:$A,listbox!$B$3)","v":0},"",null,null,0,"",0,""]
[null,null,"جمع",{"$f":"SUM(D120:D127)","v":0},{"$f":"SUM(E120:E127)","v":{"v":0,"d":"0%"}},{"$f":"SUM(F120:F127)","v":0},{"$f":"SUM(G120:G127)","v":{"v":0,"d":"0%"}},null,null,{"$f":"SUM(J120:J127)","v":0},{"$f":"SUM(K120:K127)","v":{"v":0,"d":"0%"}},{"$f":"SUM(L120:L127)","v":0},{"$f":"SUM(M120:M127)","v":{"v":0,"d":"0%"}}]
[]
[]
[]
[null,null,"شب کاری:"]
[]
[null,null,"بندرعباس"]
[null,null,"مرکز هزینه","ساعت شب کاری","درصد","جمع پرداختی","درصد(جمع پرداختی)",null,null,"سرانه ساعت","درصد سرانه","سرانه پرداختی","درصد سرانه پرداختی"]
[null,null,"حراست (کارخانه)",{"$f":"SUMIFS(database!$P:$P,database!$F:$F,calc!$C$134,database!$J:$J,C136,database!$B:$B,listbox!$D$3,database!$A:$A,listbox!$B$3)","v":368},{"$f":"D136/$D$154","v":{"v":1,"d":"100%"}},{"$f":"SUMIFS(database!$Q:$Q,database!$F:$F,$C$134,database!$J:$J,calc!C136,database!$B:$B,listbox!$D$3,database!$A:$A,listbox!$B$3)","v":{"v":24410936,"d":"24,410,936"}},{"$f":"F136/$F$154","v":{"v":1,"d":"100%"}},null,null,{"$f":"IFERROR(D136/D5,\"\")","v":{"v":122.66666666666667,"d":"123"}},{"$f":"IFERROR(J136/$J$154,\"\")","v":{"v":1,"d":"100%"}},{"$f":"IFERROR(F136/D5,\"\")","v":{"v":8136978.666666667,"d":"8,136,979"}},{"$f":"IFERROR(L136/$L$154,\"\")","v":{"v":1,"d":"100%"}}]
[null,null,"آشپزخانه (کارخانه)",{"$f":"SUMIFS(database!$P:$P,database!$F:$F,calc!$C$134,database!$J:$J,C137,database!$B:$B,listbox!$D$3,database!$A:$A,listbox!$B$3)","v":0},{"$f":"D137/$D$154","v":{"v":0,"d":"0%"}},{"$f":"SUMIFS(database!$Q:$Q,database!$F:$F,$C$134,database!$J:$J,calc!C137,database!$B:$B,listbox!$D$3,database!$A:$A,listbox!$B$3)","v":0},{"$f":"F137/$F$154","v":{"v":0,"d":"0%"}},null,null,{"$f":"IFERROR(D137/D6,\"\")","v":0},{"$f":"IFERROR(J137/$J$154,\"\")","v":{"v":0,"d":"0%"}},{"$f":"IFERROR(F137/D6,\"\")","v":0},{"$f":"IFERROR(L137/$L$154,\"\")","v":{"v":0,"d":"0%"}}]
[null,null,"تدارکات (کارخانه)",{"$f":"SUMIFS(database!$P:$P,database!$F:$F,calc!$C$134,database!$J:$J,C138,database!$B:$B,listbox!$D$3,database!$A:$A,listbox!$B$3)","v":0},{"v":0,"d":"0%"},{"$f":"SUMIFS(database!$Q:$Q,database!$F:$F,$C$134,database!$J:$J,calc!C138,database!$B:$B,listbox!$D$3,database!$A:$A,listbox!$B$3)","v":0},{"v":0,"d":"0%"},null,null,"","","",""]
[null,null,"انبار (کارخانه)",{"$f":"SUMIFS(database!$P:$P,database!$F:$F,calc!$C$134,database!$J:$J,C139,database!$B:$B,listbox!$D$3,database!$A:$A,listbox!$B$3)","v":0},{"v":0,"d":"0%"},{"$f":"SUMIFS(database!$Q:$Q,database!$F:$F,$C$134,database!$J:$J,calc!C139,database!$B:$B,listbox!$D$3,database!$A:$A,listbox!$B$3)","v":0},{"v":0,"d":"0%"},null,null,0,{"v":0,"d":"0%"},0,{"v":0,"d":"0%"}]
[null,null,"تاسیسات (کارخانه)",{"$f":"SUMIFS(database!$P:$P,database!$F:$F,calc!$C$134,database!$J:$J,C140,database!$B:$B,listbox!$D$3,database!$A:$A,listbox!$B$3)","v":0},{"v":0,"d":"0%"},{"$f":"SUMIFS(database!$Q:$Q,database!$F:$F,$C$134,database!$J:$J,calc!C140,database!$B:$B,listbox!$D$3,database!$A:$A,listbox!$B$3)","v":0},{"v":0,"d":"0%"},null,null,"","","",""]
[null,null,"فنی تولید (کارخانه)",{"$f":"SUMIFS(database!$P:$P,database!$F:$F,calc!$C$134,database!$J:$J,C141,database!$B:$B,listbox!$D$3,database!$A:$A,listbox!$B$3)","v":0},{"v":0,"d":"0%"},{"$f":"SUMIFS(database!$Q:$Q,database!$F:$F,$C$134,database!$J:$J,calc!C141,database!$B:$B,listbox!$D$3,database!$A:$A,listbox!$B$3)","v":0},{"v":0,"d":"0%"},null,null,0,{"v":0,"d":"0%"},0,{"v":0,"d":"0%"}]
[null,null,"تعمیر و نگهداری(کارخانه)",{"$f":"SUMIFS(database!$P:$P,database!$F:$F,calc!$C$134,database!$J:$J,C142,database!$B:$B,listbox!$D$3,database!$A:$A,listbox!$B$3)","v":0},{"v":0,"d":"0%"},{"$f":"SUMIFS(database!$Q:$Q,database!$F:$F,$C$134,database!$J:$J,calc!C142,database!$B:$B,listbox!$D$3,database!$A:$A,listbox!$B$3)","v":0},{"v":0,"d":"0%"},null,null,0,{"v":0,"d":"0%"},0,{"v":0,"d":"0%"}]
[null,null,"QC و کنترل کیفیت (کارخانه)",{"$f":"SUMIFS(database!$P:$P,database!$F:$F,calc!$C$134,database!$J:$J,C143,database!$B:$B,listbox!$D$3,database!$A:$A,listbox!$B$3)","v":0},{"v":0,"d":"0%"},{"$f":"SUMIFS(database!$Q:$Q,database!$F:$F,$C$134,database!$J:$J,calc!C143,database!$B:$B,listbox!$D$3,database!$A:$A,listbox!$B$3)","v":0},{"v":0,"d":"0%"},null,null,"","","",""]
[null,null,"حمل مواد اولیه (کارخانه)",{"$f":"SUMIFS(database!$P:$P,database!$F:$F,calc!$C$134,database!$J:$J,C144,database!$B:$B,listbox!$D$3,database!$A:$A,listbox!$B$3)","v":0},{"v":0,"d":"0%"},{"$f":"SUMIFS(database!$Q:$Q,database!$F:$F,$C$134,database!$J:$J,calc!C144,database!$B:$B,listbox!$D$3,database!$A:$A,listbox!$B$3)","v":0},{"v":0,"d":"0%"},null,null,0,{"v":0,"d":"0%"},0,{"v":0,"d":"0%"}]
[null,null,"حمل محصولات و سایر (کارخانه)",{"$f":"SUMIFS(database!$P:$P,database!$F:$F,calc!$C$134,database!$J:$J,C145,database!$B:$B,listbox!$D$3,database!$A:$A,listbox!$B$3)","v":0},{"v":0,"d":"0%"},{"$f":"SUMIFS(database!$Q:$Q,database!$F:$F,$C$134,database!$J:$J,calc!C145,database!$B:$B,listbox!$D$3,database!$A:$A,listbox!$B$3)","v":0},{"v":0,"d":"0%"},null,null,"","","",""]
[null,null,"قالب سازی(کارخانه)",{"$f":"SUMIFS(database!$P:$P,database!$F:$F,calc!$C$134,database!$J:$J,C146,database!$B:$B,listbox!$D$3,database!$A:$A,listbox!$B$3)","v":0},{"v":0,"d":"0%"},{"$f":"SUMIFS(database!$Q:$Q,database!$F:$F,$C$134,database!$J:$J,calc!C146,database!$B:$B,listbox!$D$3,database!$A:$A,listbox!$B$3)","v":0},{"v":0,"d":"0%"},null,null,"","","",""]
[null,null,"بتن سازی(کارخانه)",{"$f":"SUMIFS(database!$P:$P,database!$F:$F,calc!$C$134,database!$J:$J,C147,database!$B:$B,listbox!$D$3,database!$A:$A,listbox!$B$3)","v":0},{"v":0,"d":"0.00%"},{"$f":"SUMIFS(database!$Q:$Q,database!$F:$F,$C$134,database!$J:$J,calc!C147,database!$B:$B,listbox!$D$3,database!$A:$A,listbox!$B$3)","v":0},{"v":0,"d":"0%"},null,null,{"v":0,"d":"0.00"},{"v":0,"d":"0.00%"},0,{"v":0,"d":"0.00%"}]
[null,null,"بتن ریزی(کارخانه)",{"$f":"SUMIFS(database!$P:$P,database!$F:$F,calc!$C$134,database!$J:$J,C148,database!$B:$B,listbox!$D$3,database!$A:$A,listbox!$B$3)","v":0},{"v":0,"d":"0%"},{"$f":"SUMIFS(database!$Q:$Q,database!$F:$F,$C$134,database!$J:$J,calc!C148,database!$B:$B,listbox!$D$3,database!$A:$A,listbox!$B$3)","v":0},{"v":0,"d":"0%"},null,null,0,{"v":0,"d":"0%"},0,{"v":0,"d":"0%"}]
[null,null,"آرماتور، میلگرد (کارخانه)",{"$f":"SUMIFS(database!$P:$P,database!$F:$F,calc!$C$134,database!$J:$J,C149,database!$B:$B,listbox!$D$3,database!$A:$A,listbox!$B$3)","v":0},{"v":0,"d":"0%"},{"$f":"SUMIFS(database!$Q:$Q,database!$F:$F,$C$134,database!$J:$J,calc!C149,database!$B:$B,listbox!$D$3,database!$A:$A,listbox!$B$3)","v":0},{"v":0,"d":"0%"},null,null,0,{"v":0,"d":"0%"},0,{"v":0,"d":"0%"}]
[null,null,"کیورینگ(کارخانه)",{"$f":"SUMIFS(database!$P:$P,database!$F:$F,calc!$C$134,database!$J:$J,C150,database!$B:$B,listbox!$D$3,database!$A:$A,listbox!$B$3)","v":0},{"v":0,"d":"0%"},{"$f":"SUMIFS(database!$Q:$Q,database!$F:$F,$C$134,database!$J:$J,calc!C150,database!$B:$B,listbox!$D$3,database!$A:$A,listbox!$B$3)","v":0},{"v":0,"d":"0%"},null,null,"","","",""]
[null,null,"مدیریت(کارخانه)",{"$f":"SUMIFS(database!$P:$P,database!$F:$F,calc!$C$134,database!$J:$J,C151,database!$B:$B,listbox!$D$3,database!$A:$A,listbox!$B$3)","v":0},{"v":0,"d":"0%"},{"$f":"SUMIFS(database!$Q:$Q,database!$F:$F,$C$134,database!$J:$J,calc!C151,database!$B:$B,listbox!$D$3,database!$A:$A,listbox!$B$3)","v":0},{"v":0,"d":"0%"},null,null,"","","",""]
[null,null,"اداری(کارخانه)",{"$f":"SUMIFS(database!$P:$P,database!$F:$F,calc!$C$134,database!$J:$J,C152,database!$B:$B,listbox!$D$3,database!$A:$A,listbox!$B$3)","v":0},{"v":0,"d":"0%"},{"$f":"SUMIFS(database!$Q:$Q,database!$F:$F,$C$134,database!$J:$J,calc!C152,database!$B:$B,listbox!$D$3,database!$A:$A,listbox!$B$3)","v":0},{"v":0,"d":"0%"},null,null,0,{"v":0,"d":"0%"},0,{"v":0,"d":"0%"}]
[null,null,"توزیع و فروش",{"$f":"SUMIFS(database!$P:$P,database!$F:$F,calc!$C$134,database!$J:$J,C153,database!$B:$B,listbox!$D$3,database!$A:$A,listbox!$B$3)","v":0},{"v":0,"d":"0%"},{"$f":"SUMIFS(database!$Q:$Q,database!$F:$F,$C$134,database!$J:$J,calc!C153,database!$B:$B,listbox!$D$3,database!$A:$A,listbox!$B$3)","v":0},{"v":0,"d":"0%"},null,null,"","","",""]
[null,null,"جمع",{"$f":"SUM(D136:D153)","v":368},{"$f":"SUM(E136:E153)","v":{"v":1,"d":"100%"}},{"$f":"SUM(F136:F153)","v":{"v":24410936,"d":"24,410,936"}},{"$f":"SUM(G136:G153)","v":{"v":1,"d":"100%"}},null,null,{"$f":"SUM(J136:J153)","v":{"v":122.66666666666667,"d":"122.67"}},{"$f":"SUM(K136:K153)","v":{"v":1,"d":"100%"}},{"$f":"SUM(L136:L153)","v":{"v":8136978.666666667,"d":"8,136,979"}},{"$f":"SUM(M136:M153)","v":{"v":1,"d":"100%"}}]
[]
[]
[null,null,"تهران"]
[null,null,"مرکز هزینه","ساعت شب کاری","درصد","جمع پرداختی","درصد(جمع پرداختی)",null,null,"سرانه ساعت","درصد سرانه","سرانه پرداختی","درصد سرانه پرداختی"]
[null,null,"آشپزخانه(دفتر مرکزی)",{"$f":"SUMIFS(database!$P:$P,database!$F:$F,calc!$C$157,database!$J:$J,C159,database!$B:$B,listbox!$D$3,database!$A:$A,listbox!$B$3)","v":0},{"$f":"IFERROR(D159/$D$167,\"\")","v":""},{"$f":"SUMIFS(database!$Q:$Q,database!$F:$F,$C$157,database!$J:$J,calc!C159,database!$B:$B,listbox!$D$3,database!$A:$A,listbox!$B$3)","v":0},{"$f":"IFERROR(F159/$F$167,\"\")","v":""},null,null,{"$f":"IFERROR(D159/D5,\"\")","v":0},{"$f":"IFERROR(J159/$J$167,\"\")","v":""},{"$f":"IFERROR(F159/D28,\"\")","v":""},{"$f":"IFERROR(L159/$L$167,\"\")","v":""}]
[null,null,"تدارکات(دفتر مرکزی)",{"$f":"SUMIFS(database!$P:$P,database!$F:$F,calc!$C$157,database!$J:$J,C160,database!$B:$B,listbox!$D$3,database!$A:$A,listbox!$B$3)","v":0},{"$f":"IFERROR(D160/$D$167,\"\")","v":""},{"$f":"SUMIFS(database!$Q:$Q,database!$F:$F,$C$157,database!$J:$J,calc!C160,database!$B:$B,listbox!$D$3,database!$A:$A,listbox!$B$3)","v":0},{"$f":"IFERROR(F160/$F$167,\"\")","v":""},null,null,{"$f":"IFERROR(D160/D6,\"\")","v":0},{"$f":"IFERROR(J160/$J$167,\"\")","v":""},{"$f":"IFERROR(F160/D29,\"\")","v":0},{"$f":"IFERROR(L160/$L$167,\"\")","v":""}]
[null,null,"بازرگانی(دفتر مرکزی)",{"$f":"SUMIFS(database!$P:$P,database!$F:$F,calc!$C$157,database!$J:$J,C161,database!$B:$B,listbox!$D$3,database!$A:$A,listbox!$B$3)","v":0},"",{"$f":"SUMIFS(database!$Q:$Q,database!$F:$F,$C$157,database!$J:$J,calc!C161,database!$B:$B,listbox!$D$3,database!$A:$A,listbox!$B$3)","v":0},"",null,null,"","","",""]
[null,null,"فنی(دفتر مرکزی)",{"$f":"SUMIFS(database!$P:$P,database!$F:$F,calc!$C$157,database!$J:$J,C162,database!$B:$B,listbox!$D$3,database!$A:$A,listbox!$B$3)","v":0},"",{"$f":"SUMIFS(database!$Q:$Q,database!$F:$F,$C$157,database!$J:$J,calc!C162,database!$B:$B,listbox!$D$3,database!$A:$A,listbox!$B$3)","v":0},"",null,null,0,"","",""]
[null,null,"مدیریت عامل(دفتر مرکزی)",{"$f":"SUMIFS(database!$P:$P,database!$F:$F,calc!$C$157,database!$J:$J,C163,database!$B:$B,listbox!$D$3,database!$A:$A,listbox!$B$3)","v":0},"",{"$f":"SUMIFS(database!$Q:$Q,database!$F:$F,$C$157,database!$J:$J,calc!C163,database!$B:$B,listbox!$D$3,database!$A:$A,listbox!$B$3)","v":0},"",null,null,"","",0,""]
[null,null,"هیئت مدیره(دفترمرکزی)",{"$f":"SUMIFS(database!$P:$P,database!$F:$F,calc!$C$157,database!$J:$J,C164,database!$B:$B,listbox!$D$3,database!$A:$A,listbox!$B$3)","v":0},"",{"$f":"SUMIFS(database!$Q:$Q,database!$F:$F,$C$157,database!$J:$J,calc!C164,database!$B:$B,listbox!$D$3,database!$A:$A,listbox!$B$3)","v":0},"",null,null,0,"","",""]
[null,null,"مالی (دفتر مرکزی)",{"$f":"SUMIFS(database!$P:$P,database!$F:$F,calc!$C$157,database!$J:$J,C165,database!$B:$B,listbox!$D$3,database!$A:$A,listbox!$B$3)","v":0},"",{"$f":"SUMIFS(database!$Q:$Q,database!$F:$F,$C$157,database!$J:$J,calc!C165,database!$B:$B,listbox!$D$3,database!$A:$A,listbox!$B$3)","v":0},"",null,null,0,"",0,""]
[null,null,"اداری (دفتر مرکزی)",{"$f":"SUMIFS(database!$P:$P,database!$F:$F,calc!$C$157,database!$J:$J,C166,database!$B:$B,listbox!$D$3,database!$A:$A,listbox!$B$3)","v":0},"",{"$f":"SUMIFS(database!$Q:$Q,database!$F:$F,$C$157,database!$J:$J,calc!C166,database!$B:$B,listbox!$D$3,database!$A:$A,listbox!$B$3)","v":0},"",null,null,"","",0,""]
[null,null,"جمع",{"$f":"SUM(D159:D166)","v":0},{"$f":"SUM(E159:E166)","v":{"v":0,"d":"0%"}},{"$f":"SUM(F159:F166)","v":0},{"$f":"SUM(G159:G166)","v":{"v":0,"d":"0%"}},null,null,{"$f":"SUM(J159:J166)","v":0},{"$f":"SUM(K159:K166)","v":{"v":0,"d":"0%"}},{"$f":"SUM(L159:L166)","v":0},{"$f":"SUM(M159:M166)","v":{"v":0,"d":"0%"}}]
[]
[]
[]
[null,null,"حق ماموریت:"]
[]
[null,null,"بندرعباس"]
[null,null,"مرکز هزینه","تعداد روز","Column2","جمع پرداختی","درصد(جمع پرداختی)",null,null,"سرانه پرداختی","درصد سرانه پرداختی"]
[null,null,"حراست (کارخانه)",{"$f":"SUMIFS(database!$R:$R,database!$F:$F,calc!$C$173,database!$J:$J,calc!C175,database!$B:$B,listbox!$D$3,database!$A:$A,listbox!$B$3)","v":0},null,{"$f":"SUMIFS(database!$S:$S,database!$F:$F,calc!$C$173,database!$J:$J,calc!C175,database!$B:$B,listbox!$D$3,database!$A:$A,listbox!$B$3)","v":0},{"$f":"IFERROR(F175/$F$193,\"\")","v":""},null,null,{"$f":"IFERROR(F175/D5,\"\")","v":0},{"$f":"IFERROR(J175/$J$193,\"\")","v":""}]
[null,null,"آشپزخانه (کارخانه)",{"$f":"SUMIFS(database!$R:$R,database!$F:$F,calc!$C$173,database!$J:$J,calc!C176,database!$B:$B,listbox!$D$3,database!$A:$A,listbox!$B$3)","v":0},null,{"$f":"SUMIFS(database!$S:$S,database!$F:$F,calc!$C$173,database!$J:$J,calc!C176,database!$B:$B,listbox!$D$3,database!$A:$A,listbox!$B$3)","v":0},"",null,null,0,{"$f":"IFERROR(J176/$J$193,\"\")","v":""}]
[null,null,"تدارکات (کارخانه)",{"$f":"SUMIFS(database!$R:$R,database!$F:$F,calc!$C$173,database!$J:$J,calc!C177,database!$B:$B,listbox!$D$3,database!$A:$A,listbox!$B$3)","v":0},null,{"$f":"SUMIFS(database!$S:$S,database!$F:$F,calc!$C$173,database!$J:$J,calc!C177,database!$B:$B,listbox!$D$3,database!$A:$A,listbox!$B$3)","v":0},"",null,null,"",""]
[null,null,"انبار (کارخانه)",{"$f":"SUMIFS(database!$R:$R,database!$F:$F,calc!$C$173,database!$J:$J,calc!C178,database!$B:$B,listbox!$D$3,database!$A:$A,listbox!$B$3)","v":0},null,{"$f":"SUMIFS(database!$S:$S,database!$F:$F,calc!$C$173,database!$J:$J,calc!C178,database!$B:$B,listbox!$D$3,database!$A:$A,listbox!$B$3)","v":0},"",null,null,0,""]
[null,null,"تاسیسات (کارخانه)",{"$f":"SUMIFS(database!$R:$R,database!$F:$F,calc!$C$173,database!$J:$J,calc!C179,database!$B:$B,listbox!$D$3,database!$A:$A,listbox!$B$3)","v":0},null,{"$f":"SUMIFS(database!$S:$S,database!$F:$F,calc!$C$173,database!$J:$J,calc!C179,database!$B:$B,listbox!$D$3,database!$A:$A,listbox!$B$3)","v":0},"",null,null,"",""]
[null,null,"فنی تولید (کارخانه)",{"$f":"SUMIFS(database!$R:$R,database!$F:$F,calc!$C$173,database!$J:$J,calc!C180,database!$B:$B,listbox!$D$3,database!$A:$A,listbox!$B$3)","v":0},null,{"$f":"SUMIFS(database!$S:$S,database!$F:$F,calc!$C$173,database!$J:$J,calc!C180,database!$B:$B,listbox!$D$3,database!$A:$A,listbox!$B$3)","v":0},"",null,null,0,""]
[null,null,"تعمیر و نگهداری(کارخانه)",{"$f":"SUMIFS(database!$R:$R,database!$F:$F,calc!$C$173,database!$J:$J,calc!C181,database!$B:$B,listbox!$D$3,database!$A:$A,listbox!$B$3)","v":0},null,{"$f":"SUMIFS(database!$S:$S,database!$F:$F,calc!$C$173,database!$J:$J,calc!C181,database!$B:$B,listbox!$D$3,database!$A:$A,listbox!$B$3)","v":0},"",null,null,0,""]
[null,null,"QC و کنترل کیفیت (کارخانه)",{"$f":"SUMIFS(database!$R:$R,database!$F:$F,calc!$C$173,database!$J:$J,calc!C182,database!$B:$B,listbox!$D$3,database!$A:$A,listbox!$B$3)","v":0},null,{"$f":"SUMIFS(database!$S:$S,database!$F:$F,calc!$C$173,database!$J:$J,calc!C182,database!$B:$B,listbox!$D$3,database!$A:$A,listbox!$B$3)","v":0},"",null,null,"",""]
[null,null,"حمل مواد اولیه (کارخانه)",{"$f":"SUMIFS(database!$R:$R,database!$F:$F,calc!$C$173,database!$J:$J,calc!C183,database!$B:$B,listbox!$D$3,database!$A:$A,listbox!$B$3)","v":0},null,{"$f":"SUMIFS(database!$S:$S,database!$F:$F,calc!$C$173,database!$J:$J,calc!C183,database!$B:$B,listbox!$D$3,database!$A:$A,listbox!$B$3)","v":0},"",null,null,0,""]
[null,null,"حمل محصولات و سایر (کارخانه)",{"$f":"SUMIFS(database!$R:$R,database!$F:$F,calc!$C$173,database!$J:$J,calc!C184,database!$B:$B,listbox!$D$3,database!$A:$A,listbox!$B$3)","v":0},null,{"$f":"SUMIFS(database!$S:$S,database!$F:$F,calc!$C$173,database!$J:$J,calc!C184,database!$B:$B,listbox!$D$3,database!$A:$A,listbox!$B$3)","v":0},"",null,null,"",""]
[null,null,"قالب سازی(کارخانه)",{"$f":"SUMIFS(database!$R:$R,database!$F:$F,calc!$C$173,database!$J:$J,calc!C185,database!$B:$B,listbox!$D$3,database!$A:$A,listbox!$B$3)","v":0},null,{"$f":"SUMIFS(database!$S:$S,database!$F:$F,calc!$C$173,database!$J:$J,calc!C185,database!$B:$B,listbox!$D$3,database!$A:$A,listbox!$B$3)","v":0},"",null,null,"",""]
[null,null,"بتن سازی(کارخانه)",{"$f":"SUMIFS(database!$R:$R,database!$F:$F,calc!$C$173,database!$J:$J,calc!C186,database!$B:$B,listbox!$D$3,database!$A:$A,listbox!$B$3)","v":0},null,{"$f":"SUMIFS(database!$S:$S,database!$F:$F,calc!$C$173,database!$J:$J,calc!C186,database!$B:$B,listbox!$D$3,database!$A:$A,listbox!$B$3)","v":0},"",null,null,0,""]
[null,null,"بتن ریزی(کارخانه)",{"$f":"SUMIFS(database!$R:$R,database!$F:$F,calc!$C$173,database!$J:$J,calc!C187,database!$B:$B,listbox!$D$3,database!$A:$A,listbox!$B$3)","v":0},null,{"$f":"SUMIFS(database!$S:$S,database!$F:$F,calc!$C$173,database!$J:$J,calc!C187,database!$B:$B,listbox!$D$3,database!$A:$A,listbox!$B$3)","v":0},"",null,null,0,""]
[null,null,"آرماتور، میلگرد (کارخانه)",{"$f":"SUMIFS(database!$R:$R,database!$F:$F,calc!$C$173,database!$J:$J,calc!C188,database!$B:$B,listbox!$D$3,database!$A:$A,listbox!$B$3)","v":0},null,{"$f":"SUMIFS(database!$S:$S,database!$F:$F,calc!$C$173,database!$J:$J,calc!C188,database!$B:$B,listbox!$D$3,database!$A:$A,listbox!$B$3)","v":0},"",null,null,0,""]
[null,null,"کیورینگ(کارخانه)",{"$f":"SUMIFS(database!$R:$R,database!$F:$F,calc!$C$173,database!$J:$J,calc!C189,database!$B:$B,listbox!$D$3,database!$A:$A,listbox!$B$3)","v":0},null,{"$f":"SUMIFS(database!$S:$S,database!$F:$F,calc!$C$173,database!$J:$J,calc!C189,database!$B:$B,listbox!$D$3,database!$A:$A,listbox!$B$3)","v":0},"",null,null,"",""]
[null,null,"مدیریت(کارخانه)",{"$f":"SUMIFS(database!$R:$R,database!$F:$F,calc!$C$173,database!$J:$J,calc!C190,database!$B:$B,listbox!$D$3,database!$A:$A,listbox!$B$3)","v":0},null,{"$f":"SUMIFS(database!$S:$S,database!$F:$F,calc!$C$173,database!$J:$J,calc!C190,database!$B:$B,listbox!$D$3,database!$A:$A,listbox!$B$3)","v":0},"",null,null,"",""]
[null,null,"اداری(کارخانه)",{"$f":"SUMIFS(database!$R:$R,database!$F:$F,calc!$C$173,database!$J:$J,calc!C191,database!$B:$B,listbox!$D$3,database!$A:$A,listbox!$B$3)","v":0},null,{"$f":"SUMIFS(database!$S:$S,database!$F:$F,calc!$C$173,database!$J:$J,calc!C191,database!$B:$B,listbox!$D$3,database!$A:$A,listbox!$B$3)","v":0},"",null,null,0,""]
[null,null,"توزیع و فروش",{"$f":"SUMIFS(database!$R:$R,database!$F:$F,calc!$C$173,database!$J:$J,calc!C192,database!$B:$B,listbox!$D$3,database!$A:$A,listbox!$B$3)","v":0},null,{"$f":"SUMIFS(database!$S:$S,database!$F:$F,calc!$C$173,database!$J:$J,calc!C192,database!$B:$B,listbox!$D$3,database!$A:$A,listbox!$B$3)","v":0},"",null,null,"",""]
[null,null,"جمع",{"$f":"SUBTOTAL(109,D175:D192)","v":0},null,{"$f":"SUM(F175:F192)","v":0},{"$f":"SUM(G175:G192)","v":{"v":0,"d":"0%"}},null,null,{"$f":"SUM(J175:J192)","v":0},{"$f":"SUM(K175:K192)","v":{"v":0,"d":"0%"}}]
[]
[]
[null,null,"تهران"]
[null,null,"مرکز هزینه","تعداد روز","Column2","جمع پرداختی","درصد(جمع پرداختی)",null,null,"سرانه پرداختی","درصد سرانه پرداختی"]
[null,null,"آشپزخانه(دفتر مرکزی)",{"$f":"SUMIFS(database!$R:$R,database!$F:$F,calc!$C$196,database!$J:$J,calc!C198,database!$B:$B,listbox!$D$3,database!$A:$A,listbox!$B$3)","v":0},null,{"$f":"SUMIFS(database!$S:$S,database!$F:$F,calc!$C$196,database!$J:$J,calc!C198,database!$B:$B,listbox!$D$3,database!$A:$A,listbox!$B$3)","v":0},{"$f":"IFERROR(F198/$F$206,\"\")","v":{"v":0,"d":"0%"}},null,null,{"$f":"IFERROR(F198/D28,\"\")","v":""},{"$f":"IFERROR(J198/$J$206,\"\")","v":""}]
[null,null,"تدارکات(دفتر مرکزی)",{"$f":"SUMIFS(database!$R:$R,database!$F:$F,calc!$C$196,database!$J:$J,calc!C199,database!$B:$B,listbox!$D$3,database!$A:$A,listbox!$B$3)","v":0},null,{"$f":"SUMIFS(database!$S:$S,database!$F:$F,calc!$C$196,database!$J:$J,calc!C199,database!$B:$B,listbox!$D$3,database!$A:$A,listbox!$B$3)","v":0},{"$f":"IFERROR(F199/$F$206,\"\")","v":{"v":0,"d":"0%"}},null,null,{"$f":"IFERROR(F199/D29,\"\")","v":0},{"$f":"IFERROR(J199/$J$206,\"\")","v":{"v":0,"d":"0%"}}]
[null,null,"بازرگانی(دفتر مرکزی)",{"$f":"SUMIFS(database!$R:$R,database!$F:$F,calc!$C$196,database!$J:$J,calc!C200,database!$B:$B,listbox!$D$3,database!$A:$A,listbox!$B$3)","v":0},null,{"$f":"SUMIFS(database!$S:$S,database!$F:$F,calc!$C$196,database!$J:$J,calc!C200,database!$B:$B,listbox!$D$3,database!$A:$A,listbox!$B$3)","v":0},{"v":0,"d":"0%"},null,null,"",{"$f":"IFERROR(J200/$J$206,\"\")","v":""}]
[null,null,"فنی(دفتر مرکزی)",{"$f":"SUMIFS(database!$R:$R,database!$F:$F,calc!$C$196,database!$J:$J,calc!C201,database!$B:$B,listbox!$D$3,database!$A:$A,listbox!$B$3)","v":0},null,{"$f":"SUMIFS(database!$S:$S,database!$F:$F,calc!$C$196,database!$J:$J,calc!C201,database!$B:$B,listbox!$D$3,database!$A:$A,listbox!$B$3)","v":0},{"v":0,"d":"0%"},null,null,"",""]
[null,null,"مدیریت عامل(دفتر مرکزی)",{"$f":"SUMIFS(database!$R:$R,database!$F:$F,calc!$C$196,database!$J:$J,calc!C202,database!$B:$B,listbox!$D$3,database!$A:$A,listbox!$B$3)","v":1},null,{"$f":"SUMIFS(database!$S:$S,database!$F:$F,calc!$C$196,database!$J:$J,calc!C202,database!$B:$B,listbox!$D$3,database!$A:$A,listbox!$B$3)","v":{"v":6244305,"d":"6,244,305"}},{"v":1,"d":"100%"},null,null,{"v":6244305,"d":"6,244,305"},{"v":1,"d":"100%"}]
[null,null,"هیئت مدیره(دفترمرکزی)",{"$f":"SUMIFS(database!$R:$R,database!$F:$F,calc!$C$196,database!$J:$J,calc!C203,database!$B:$B,listbox!$D$3,database!$A:$A,listbox!$B$3)","v":0},null,{"$f":"SUMIFS(database!$S:$S,database!$F:$F,calc!$C$196,database!$J:$J,calc!C203,database!$B:$B,listbox!$D$3,database!$A:$A,listbox!$B$3)","v":0},{"v":0,"d":"0%"},null,null,"",""]
[null,null,"مالی (دفتر مرکزی)",{"$f":"SUMIFS(database!$R:$R,database!$F:$F,calc!$C$196,database!$J:$J,calc!C204,database!$B:$B,listbox!$D$3,database!$A:$A,listbox!$B$3)","v":0},null,{"$f":"SUMIFS(database!$S:$S,database!$F:$F,calc!$C$196,database!$J:$J,calc!C204,database!$B:$B,listbox!$D$3,database!$A:$A,listbox!$B$3)","v":0},{"v":0,"d":"0%"},null,null,0,{"v":0,"d":"0%"}]
[null,null,"اداری (دفتر مرکزی)",{"$f":"SUMIFS(database!$R:$R,database!$F:$F,calc!$C$196,database!$J:$J,calc!C205,database!$B:$B,listbox!$D$3,database!$A:$A,listbox!$B$3)","v":0},null,{"$f":"SUMIFS(database!$S:$S,database!$F:$F,calc!$C$196,database!$J:$J,calc!C205,database!$B:$B,listbox!$D$3,database!$A:$A,listbox!$B$3)","v":0},{"v":0,"d":"0%"},null,null,0,{"v":0,"d":"0%"}]
[null,null,"جمع",{"$f":"SUBTOTAL(109,D198:D205)","v":1},null,{"$f":"SUM(F198:F205)","v":{"v":6244305,"d":"6,244,305"}},{"$f":"SUM(G198:G205)","v":{"v":1,"d":"100%"}},null,null,{"$f":"SUM(J198:J205)","v":{"v":6244305,"d":"6,244,305"}},{"$f":"SUM(K198:K205)","v":{"v":1,"d":"100%"}}]
[]
[]
[]
[null,null,"هزینه حقوق و دستمزد:"]
[]
[null,null,"بندرعباس"]
[null,null,"مرکز هزینه","درصد","درصد2","جمع حقوق و مزایا","درصد(جمع حقوق و مزایا)",null,null,"سرانه پرداختی","درصد سرانه پرداختی"]
[null,null,"حراست (کارخانه)",0,{"v":0,"d":"0%"},{"$f":"SUMIFS(database!$T:$T,database!$F:$F,$C$212,database!$J:$J,C214,database!$B:$B,listbox!$D$3,database!$A:$A,listbox!$B$3)","v":{"v":378957044,"d":"378,957,044"}},{"$f":"F214/$F$232","v":{"v":0.249684877943864,"d":"25%"}},null,null,{"$f":"IFERROR(test5[[#This Row],[جمع حقوق و مزایا]]/D5,\"\")","v":{"v":126319014.66666667,"d":"126,319,015"}},{"$f":"J214/$J$232","v":{"v":0.11991799338232473,"d":"12%"}}]
[null,null,"آشپزخانه (کارخانه)",0,{"v":0,"d":"0%"},{"$f":"SUMIFS(database!$T:$T,database!$F:$F,$C$212,database!$J:$J,C215,database!$B:$B,listbox!$D$3,database!$A:$A,listbox!$B$3)","v":{"v":79933626,"d":"79,933,626"}},{"v":0.05266617408864017,"d":"5%"},null,null,{"$f":"IFERROR(test5[[#This Row],[جمع حقوق و مزایا]]/D6,\"\")","v":{"v":79933626,"d":"79,933,626"}},{"$f":"J215/$J$232","v":{"v":0.0758831127600828,"d":"8%"}}]
[null,null,"تدارکات (کارخانه)",0,{"v":0,"d":"0%"},{"$f":"SUMIFS(database!$T:$T,database!$F:$F,$C$212,database!$J:$J,C216,database!$B:$B,listbox!$D$3,database!$A:$A,listbox!$B$3)","v":0},{"v":0,"d":"0%"},null,null,{"$f":"IFERROR(test5[[#This Row],[جمع حقوق و مزایا]]/D7,\"\")","v":""},{"$f":"IFERROR(J216/$J$232,\"\")","v":""}]
[null,null,"انبار (کارخانه)",0,{"v":0,"d":"0%"},{"$f":"SUMIFS(database!$T:$T,database!$F:$F,$C$212,database!$J:$J,C217,database!$B:$B,listbox!$D$3,database!$A:$A,listbox!$B$3)","v":{"v":69198409,"d":"69,198,409"}},{"v":0.04559302057748418,"d":"5%"},null,null,{"$f":"IFERROR(test5[[#This Row],[جمع حقوق و مزایا]]/D8,\"\")","v":{"v":69198409,"d":"69,198,409"}},{"$f":"IFERROR(J217/$J$232,\"\")","v":{"v":0.06569188632785566,"d":"7%"}}]
[null,null,"تاسیسات (کارخانه)",0,{"v":0,"d":"0%"},{"$f":"SUMIFS(database!$T:$T,database!$F:$F,$C$212,database!$J:$J,C218,database!$B:$B,listbox!$D$3,database!$A:$A,listbox!$B$3)","v":0},{"v":0,"d":"0%"},null,null,{"$f":"IFERROR(test5[[#This Row],[جمع حقوق و مزایا]]/D9,\"\")","v":""},""]
[null,null,"فنی تولید (کارخانه)",0,{"v":0,"d":"0%"},{"$f":"SUMIFS(database!$T:$T,database!$F:$F,$C$212,database!$J:$J,C219,database!$B:$B,listbox!$D$3,database!$A:$A,listbox!$B$3)","v":{"v":152525315,"d":"152,525,315"}},{"v":0.10049493804665736,"d":"10%"},null,null,{"$f":"IFERROR(test5[[#This Row],[جمع حقوق و مزایا]]/D10,\"\")","v":{"v":152525315,"d":"152,525,315"}},{"v":0.14479632985637544,"d":"14%"}]
[null,null,"تعمیر و نگهداری(کارخانه)",0,{"v":0,"d":"0%"},{"$f":"SUMIFS(database!$T:$T,database!$F:$F,$C$212,database!$J:$J,C220,database!$B:$B,listbox!$D$3,database!$A:$A,listbox!$B$3)","v":{"v":104160253,"d":"104,160,253"}},{"v":0.06862846454150354,"d":"7%"},null,null,{"$f":"IFERROR(test5[[#This Row],[جمع حقوق و مزایا]]/D11,\"\")","v":{"v":104160253,"d":"104,160,253"}},{"v":0.09888209279431102,"d":"10%"}]
[null,null,"QC و کنترل کیفیت (کارخانه)",0,{"v":0,"d":"0%"},{"$f":"SUMIFS(database!$T:$T,database!$F:$F,$C$212,database!$J:$J,C221,database!$B:$B,listbox!$D$3,database!$A:$A,listbox!$B$3)","v":0},{"v":0,"d":"0%"},null,null,{"$f":"IFERROR(test5[[#This Row],[جمع حقوق و مزایا]]/D12,\"\")","v":""},""]
[null,null,"حمل مواد اولیه (کارخانه)",0,{"v":0,"d":"0%"},{"$f":"SUMIFS(database!$T:$T,database!$F:$F,$C$212,database!$J:$J,C222,database!$B:$B,listbox!$D$3,database!$A:$A,listbox!$B$3)","v":{"v":100817386,"d":"100,817,386"}},{"v":0.06642593696722371,"d":"7%"},null,null,{"$f":"IFERROR(test5[[#This Row],[جمع حقوق و مزایا]]/D13,\"\")","v":{"v":100817386,"d":"100,817,386"}},{"v":0.09570862042483588,"d":"10%"}]
[null,null,"حمل محصولات و سایر (کارخانه)",0,{"v":0,"d":"0%"},{"$f":"SUMIFS(database!$T:$T,database!$F:$F,$C$212,database!$J:$J,C223,database!$B:$B,listbox!$D$3,database!$A:$A,listbox!$B$3)","v":0},{"v":0,"d":"0%"},null,null,{"$f":"IFERROR(test5[[#This Row],[جمع حقوق و مزایا]]/D14,\"\")","v":""},""]
[null,null,"قالب سازی(کارخانه)",0,{"v":0,"d":"0%"},{"$f":"SUMIFS(database!$T:$T,database!$F:$F,$C$212,database!$J:$J,C224,database!$B:$B,listbox!$D$3,database!$A:$A,listbox!$B$3)","v":0},{"v":0,"d":"0%"},null,null,{"$f":"IFERROR(test5[[#This Row],[جمع حقوق و مزایا]]/D15,\"\")","v":""},""]
[null,null,"بتن سازی(کارخانه)",0,{"v":0,"d":"0%"},{"$f":"SUMIFS(database!$T:$T,database!$F:$F,$C$212,database!$J:$J,C225,database!$B:$B,listbox!$D$3,database!$A:$A,listbox!$B$3)","v":{"v":207633564,"d":"207,633,564"}},{"v":0.13680432097836787,"d":"14%"},null,null,{"$f":"IFERROR(test5[[#This Row],[جمع حقوق و مزایا]]/D16,\"\")","v":{"v":103816782,"d":"103,816,782"}},{"v":0.09855602665760382,"d":"10%"}]
[null,null,"بتن ریزی(کارخانه)",0,{"v":0,"d":"0%"},{"$f":"SUMIFS(database!$T:$T,database!$F:$F,$C$212,database!$J:$J,C226,database!$B:$B,listbox!$D$3,database!$A:$A,listbox!$B$3)","v":{"v":215816275,"d":"215,816,275"}},{"v":0.14219569509222366,"d":"14%"},null,null,{"$f":"IFERROR(test5[[#This Row],[جمع حقوق و مزایا]]/D17,\"\")","v":{"v":107908137.5,"d":"107,908,138"}},{"v":0.10244005902651056,"d":"10%"}]
[null,null,"آرماتور، میلگرد (کارخانه)",0,{"v":0,"d":"0%"},{"$f":"SUMIFS(database!$T:$T,database!$F:$F,$C$212,database!$J:$J,C227,database!$B:$B,listbox!$D$3,database!$A:$A,listbox!$B$3)","v":{"v":83241172,"d":"83,241,172"}},{"v":0.05484542958046767,"d":"5%"},null,null,{"$f":"IFERROR(test5[[#This Row],[جمع حقوق و مزایا]]/D18,\"\")","v":{"v":83241172,"d":"83,241,172"}},{"v":0.07902305396676797,"d":"8%"}]
[null,null,"کیورینگ(کارخانه)",0,{"v":0,"d":"0%"},{"$f":"SUMIFS(database!$T:$T,database!$F:$F,$C$212,database!$J:$J,C228,database!$B:$B,listbox!$D$3,database!$A:$A,listbox!$B$3)","v":0},{"v":0,"d":"0%"},null,null,{"$f":"IFERROR(test5[[#This Row],[جمع حقوق و مزایا]]/D19,\"\")","v":""},""]
[null,null,"مدیریت(کارخانه)",0,{"v":0,"d":"0%"},{"$f":"SUMIFS(database!$T:$T,database!$F:$F,$C$212,database!$J:$J,C229,database!$B:$B,listbox!$D$3,database!$A:$A,listbox!$B$3)","v":0},{"v":0,"d":"0%"},null,null,{"$f":"IFERROR(test5[[#This Row],[جمع حقوق و مزایا]]/D20,\"\")","v":""},""]
[null,null,"اداری(کارخانه)",0,{"v":0,"d":"0%"},{"$f":"SUMIFS(database!$T:$T,database!$F:$F,$C$212,database!$J:$J,C230,database!$B:$B,listbox!$D$3,database!$A:$A,listbox!$B$3)","v":{"v":125458227,"d":"125,458,227"}},{"v":0.08266114218356786,"d":"8%"},null,null,{"$f":"IFERROR(test5[[#This Row],[جمع حقوق و مزایا]]/D21,\"\")","v":{"v":125458227,"d":"125,458,227"}},{"v":0.119100824803332,"d":"12%"}]
[null,null,"توزیع و فروش",0,{"v":0,"d":"0%"},{"$f":"SUMIFS(database!$T:$T,database!$F:$F,$C$212,database!$J:$J,C231,database!$B:$B,listbox!$D$3,database!$A:$A,listbox!$B$3)","v":0},{"v":0,"d":"0%"},null,null,{"$f":"IFERROR(test5[[#This Row],[جمع حقوق و مزایا]]/D22,\"\")","v":""},""]
[null,null,"جمع",{"$f":"SUM(D214:D231)","v":0},{"$f":"SUM(E214:E231)","v":0},{"$f":"SUM(F214:F231)","v":{"v":1517741271,"d":"1,517,741,271"}},{"$f":"SUM(G214:G231)","v":{"v":1,"d":"100%"}},null,null,{"$f":"SUBTOTAL(9,J214:J231)","v":{"v":1053378322.1666667,"d":"1,053,378,322"}},{"$f":"SUBTOTAL(9,K214:K231)","v":{"v":0.9999999999999998,"d":"100%"}}]
[]
[]
[null,null,"تهران"]
[null,null,"مرکز هزینه","درصد","درصد2","جمع حقوق و مزایا","درصد(جمع حقوق و مزایا)",null,null,"سرانه پرداختی","درصد سرانه پرداختی"]
[null,null,"آشپزخانه(دفتر مرکزی)",0,{"v":0,"d":"0%"},{"$f":"SUMIFS(database!$T:$T,database!$F:$F,$C$235,database!$J:$J,C237,database!$B:$B,listbox!$D$3,database!$A:$A,listbox!$B$3)","v":0},{"$f":"F237/$F$245","v":{"v":0,"d":"0%"}},null,null,{"$f":"IFERROR(test6[[#This Row],[جمع حقوق و مزایا]]/D28,\"\")","v":""},{"$f":"IFERROR(J237/$J$245,\"\")","v":""}]
[null,null,"تدارکات(دفتر مرکزی)",0,{"v":0,"d":"0%"},{"$f":"SUMIFS(database!$T:$T,database!$F:$F,$C$235,database!$J:$J,C238,database!$B:$B,listbox!$D$3,database!$A:$A,listbox!$B$3)","v":{"v":107381074,"d":"107,381,074"}},{"$f":"F238/$F$245","v":{"v":0.20740180592785093,"d":"21%"}},null,null,{"$f":"IFERROR(test6[[#This Row],[جمع حقوق و مزایا]]/D29,\"\")","v":{"v":107381074,"d":"107,381,074"}},{"$f":"IFERROR(J238/$J$245,\"\")","v":{"v":0.20740180592785093,"d":"21%"}}]
[null,null,"بازرگانی(دفتر مرکزی)",0,{"v":0,"d":"0%"},{"$f":"SUMIFS(database!$T:$T,database!$F:$F,$C$235,database!$J:$J,C239,database!$B:$B,listbox!$D$3,database!$A:$A,listbox!$B$3)","v":0},{"v":0,"d":"0%"},null,null,{"$f":"IFERROR(test6[[#This Row],[جمع حقوق و مزایا]]/D30,\"\")","v":""},""]
[null,null,"فنی(دفتر مرکزی)",0,{"v":0,"d":"0%"},{"$f":"SUMIFS(database!$T:$T,database!$F:$F,$C$235,database!$J:$J,C240,database!$B:$B,listbox!$D$3,database!$A:$A,listbox!$B$3)","v":0},{"v":0,"d":"0%"},null,null,{"$f":"IFERROR(test6[[#This Row],[جمع حقوق و مزایا]]/D31,\"\")","v":""},""]
[null,null,"مدیریت عامل(دفتر مرکزی)",0,{"v":0,"d":"0%"},{"$f":"SUMIFS(database!$T:$T,database!$F:$F,$C$235,database!$J:$J,C241,database!$B:$B,listbox!$D$3,database!$A:$A,listbox!$B$3)","v":{"v":180282819,"d":"180,282,819"}},{"v":0.3482083093931792,"d":"35%"},null,null,{"$f":"IFERROR(test6[[#This Row],[جمع حقوق و مزایا]]/D32,\"\")","v":{"v":180282819,"d":"180,282,819"}},{"v":0.3482083093931792,"d":"35%"}]
[null,null,"هیئت مدیره(دفترمرکزی)",0,{"v":0,"d":"0%"},{"$f":"SUMIFS(database!$T:$T,database!$F:$F,$C$235,database!$J:$J,C242,database!$B:$B,listbox!$D$3,database!$A:$A,listbox!$B$3)","v":0},{"v":0,"d":"0%"},null,null,{"$f":"IFERROR(test6[[#This Row],[جمع حقوق و مزایا]]/D33,\"\")","v":""},""]
[null,null,"مالی (دفتر مرکزی)",0,{"v":0,"d":"0%"},{"$f":"SUMIFS(database!$T:$T,database!$F:$F,$C$235,database!$J:$J,C243,database!$B:$B,listbox!$D$3,database!$A:$A,listbox!$B$3)","v":{"v":135433328,"d":"135,433,328"}},{"v":0.26158349664130737,"d":"26%"},null,null,{"$f":"IFERROR(test6[[#This Row],[جمع حقوق و مزایا]]/D34,\"\")","v":{"v":135433328,"d":"135,433,328"}},{"v":0.26158349664130737,"d":"26%"}]
[null,null,"اداری (دفتر مرکزی)",0,{"v":0,"d":"0%"},{"$f":"SUMIFS(database!$T:$T,database!$F:$F,$C$235,database!$J:$J,C244,database!$B:$B,listbox!$D$3,database!$A:$A,listbox!$B$3)","v":{"v":94646940,"d":"94,646,940"}},{"v":0.1828063880376625,"d":"18%"},null,null,{"$f":"IFERROR(test6[[#This Row],[جمع حقوق و مزایا]]/D35,\"\")","v":{"v":94646940,"d":"94,646,940"}},{"v":0.1828063880376625,"d":"18%"}]
[null,null,"جمع",{"$f":"SUM(D237:D244)","v":0},{"$f":"SUM(E237:E244)","v":{"v":0,"d":"0%"}},{"$f":"SUM(F237:F244)","v":{"v":517744161,"d":"517,744,161"}},{"$f":"SUM(G237:G244)","v":{"v":1,"d":"100%"}},null,null,{"$f":"SUM(J237:J244)","v":{"v":517744161,"d":"517,744,161"}},{"$f":"SUM(K237:K244)","v":{"v":1,"d":"100%"}}]
[]
[]
[null,null,"کل"]
[null,null,"مرکز هزینه","تعداد نفرات","درصد (تعداد نفرات)","جمع حقوق و مزایا","درصد(جمع حقوق و مزایا)"]
[null,null,"بندرعباس",{"$f":"COUNTIFS(database!F:F,C250,database!B:B,listbox!$D$3)","v":14},{"$f":"D250/$D$252","v":{"v":0.7777777777777778,"d":"78%"}},{"$f":"$F$232","v":{"v":1517741271,"d":"1,517,741,271"}},{"$f":"F250/$F$252","v":{"v":0.745640940062498,"d":"75%"}}]
[null,null,"تهران",{"$f":"COUNTIFS(database!F:F,C251,database!B:B,listbox!$D$3)","v":4},{"$f":"D251/$D$252","v":{"v":0.2222222222222222,"d":"22%"}},{"$f":"$F$245","v":{"v":517744161,"d":"517,744,161"}},{"$f":"F251/$F$252","v":{"v":0.2543590599375019,"d":"25%"}}]
[null,null,"جمع",{"$f":"SUM(D250:D251)","v":18},{"$f":"SUM(E250:E251)","v":{"v":1,"d":"100%"}},{"$f":"SUM(F250:F251)","v":{"v":2035485432,"d":"2,035,485,432"}},{"$f":"SUM(G250:G251)","v":{"v":1,"d":"100%"}}]

{"sheet":"Dashboard","index":3,"n_rows":18,"n_cols":17,"rows_kept":18}
{"$rows_empty":14}
[{"$nulls":16}," "]
[]
[]
[{"$nulls":15},"  "]